Workbook
Name _Ref295723403: '6.1'!$K$15
Name _s1: '4.10'!$L$13
Name _s2: '4.10'!$L$14
Name _s3: '4.10'!$L$15
Name _Toc315531100: Konstante!#REF!
Name A: '4.1.1'!$S$17
Name Abminderungsfaktor: '4.10'!$H$6
Name AnzahlPasspunkte: '4.13'!$H$9
Name AO: '4.7.2'!$E$10
Name Art: '4.1.3'!$F$4
Name D: '4.4.x'!$D$13
Name D: '4.7.2'!$E$9
Name E: '3.1'!$L$8
Name E: '4.1.1'!$H$10
Name E: '4.4.2'!$D$10
Name Ed: '4.4.x'!$D$10
Name Es: '4.4.x'!$D$9
Name F: '3.1'!$L$18
Name f: '4.1.3'!$H$14
Name f: '4.2'!$H$9
Name f: '4.4.2'!$D$10
Name f: '4.4.x'!$D$11
Name f: '4.6'!$D$12
Name f: '4.7.2'!$D$43
Name F1_: '4.10'!$N$13
Name F2_: '4.10'!$N$14
Name F3_: '4.10'!$N$15
Name F4_: '4.10'!$N$16
Name F5_: '4.10'!$N$17
Name F6_: '4.10'!$N$18
Name G: '4.1.1'!$D$9
Name G: '4.2'!$H$11
Name G: '4.4.2'!$D$12
Name G: '4.4.x'!$D$12
Name G: '4.6'!$D$6
Name h: '4.1.1'!$H$13
Name Ha: '4.10'!$L$8
Name Hb: '4.10'!$L$9
Name Hc: '4.10'!$L$10
Name IIc: '4.7.2'!$D$43
Name IS: Gesamt!$E$14
Name K: '3.1'!$L$7
Name L: '3.1'!$L$4
Name l: '4.10'!$F$46
Name l1_: '4.10'!$L$16
Name l2_: '4.10'!$L$17
Name l3_: '4.10'!$L$18
Name Masstab: '4.13'!$H$6
Name maxzeile: Gesamt!$N$53
Name maxzeile: Gesamt!$N$63
Name Messmet: '4.1.1'!$H$5
Name n: '4.1.1'!$H$7
Name n: '4.1.3'!$H$12
Name n: '4.4.x'!$D$4
Name n: '4.6'!$D$10
Name n_1: '3.1'!$L$5
Name n_2: '3.1'!$L$6
Name n_3: '3.1'!$L$14
Name n_4: '3.1'!$L$17
Name n_5: '3.1'!$L$20

Sheet Inhaltsverz.
A1: 3 | D1: KATASTERVERMESSUNG
B2: 3.1 | D2: Tätigkeiten, die bei jeder Katastervermessung erfolgen
A4: 4 | D4: TECHNISCHE VERMESSUNG:
B5: 4.1 | D5: Ingenieurgeodätische Netzmessung
C6: 4.1.1-2 | D6: Netzmessung (bis 600m und über 600m durchschn. Seitenlänge)
C7: 4.1.3-4 | D7: Polygonzug (Feinpolygonzug und Technischer Polygonzug)
B8: 4.2 | D8: Einzelpunkteinschaltung
B9: 4.3 | D9: Kreisel-Stütz-Azimut
B10: 4.4 | D10: Bestimmung von Detailpunkten mit oder ohne Höhe
C11: 4.4.1 | D11: Detailpunkte - Deformationsmessung
C12: 4.4.2 | D12: Setzungsmessung, Flächennivellement
C13: 4.4.3 | D13: Detailpunkte - Zwangspunkte
C14: 4.4.4 | D14: Detailpunkte - Kontrollaufnahme (Soll-Ist-Vergleich)
B15: 4.5 | D15: Punktbestimmung durch kinematische GNSS-Messung
B16: 4.6 | D16: Nivellement
B17: 4.7 | D17: Kombinierte Lage- und Höhenmessung - Geländeaufnahme
C18: 4.7.1 | D18: Lage- und Höhenplan mit Höhenkoten und Höhenlinien
C19: 4.7.2 | D19: Erstellen und verfeinern eines DGM
C20: 4.7.3 | D20: 3d-Planerstellung auf Basis eines 2,5d-Lage- und Höhenplanes
C21: 4.7.4 | D21: Umbildung einer Geländeaufnahme durch Maßstabsänderung
C22: 4.7.5 | D22: Umbildung einer Geländeaufnahme vom analogen auf digitalen Datenträger
B23: 4.8 | D23: Nutzflächenermittlung
B24: 4.9 | D24: Herstellung von Baubestandsplänen
B25: 4.10 | D25: Herstellung von Profilen
B26: 4.11 | D26: Absteckungen
B27: 4.12 | D27: Achseinrechnung und Berechnung von Achszwischenpunkten
B28: 4.13 | D28: Photogrammetrie
B29: 4.14 | D29: Laserscanning
B30: 4.15 | D30: Signalisierung und Stabilisierung
A32: 5 | D32: GEOINFORMATION
B33: 5.1 | D33: Geoinformation
A35: 6 | D35: ADMINISTRATIVE UND SONSTIGE TÄTIGKEITEN
B36: 6.1 | D36: Kanzleihonorare
B37: 6.2 | D37: Regieleistungen
B38: 6.3 | D38: Nebenkosten
A40: 7 | D40: ZUSATZLEISTUNGEN gemäß Vereinbarung BAIK-ÖBB
B41: 7.1 | D41: Katastereintragung
B42: 7.2 | D42: Einbautenerhebung und -eintragung

Sheet Gesamt
A1: E i n g a b e b e r e i c h
C2: Projekt | L2: * Weiße Felder des Eingabebereiches ausfüllen
C4: Auftraggeber
C5: Ansprechpartner | L5: fortlaufende Nummer | N5: 3
C6: Auftraggeber-GZ | L6: LB_VG-Position | N6: 2
C7: Adresse | L7: individuelle Nummer | N7: 5
L8: alle Positionen anzeigen
C9: Bieter | L9: kalkulierte Positionen anführen
C10: Bearbeiter
C11: Auftragnehmer-GZ | L11: keine Rundung
C12: Adresse | L12: Rundung auf 10 Cent | N12: 1
L13: Rundung auf Euro | N13: 0
C14: mittlerer Bürostundensatz: | L14: Rundung auf 10 Euro | N14: -1
L15: Rundung auf 100 Euro | N15: -2
C16: Zu/Abschlag in % (allg.)
C17: =IF(AND(E16<>0,E16<>""),"Achtung: Vorzeichen beachten: Zuschlag: positiv; Abschlag: negativ","")
C18: Positionsbezeichnung: | E18: Positionsangaben: | G18: Rundung vornehmen:
C19: LB_VG-Position | E19: kalkulierte Positionen anführen | G19: Rundung auf 10 Euro
A21: D r u c k b e r e i c h
B22: =CONCATENATE(C2, ": ", E2) -> Projekt:
B23: =CONCATENATE(C4, ": ", E4, IF(E5<>""," - ",""), IF(E5<>"",E5,""), IF(E6<>""," - GZ. ",""), IF(E6<>"",E6,""),) -> Auftraggeber:
B24: =CONCATENATE(C9, ": ",E9, IF(C10<>""," - ",""), IF(C10<>"",E10,""), IF(C11<>""," - GZ. ",""), IF(C11<>"",E11,""), ) -> Bieter: - - GZ.
B25: Kalkulationsgrundlage: Leistungsbild für Vermessung und Geoinformation (LB_VG)
B27: GESAMT
L29: indiv. | M29: Kalk. | N29: Pos. in | P29: Leistung | T29: Preis | U29: Gebühren
B30: Pos. | C30: Leistung | G30: Preis [€] | H30: =IF(G$19<>L$11,"gerundet [€]","") -> gerundet [€] | L30: Num. | M30: vorhanden | N30: Liste | U30: ohne Mwst.
M31: Vorzeile: Achtung > innehalb der folgenden Tabelle dürfen keine Leerzeilen eingefügt werden!
B32: =IF(C$19=L$7,"",IF(CELL("Zeile",B32)-CELL("Zeile",B$31)<=maxzeile,CONCATENATE(VLOOKUP(CELL("Zeile",B32)-CELL("Zeile",B$31),N$32:T$65,2,FALSE)," "),"")) | C32: =IF(AND(B32<>"",C$19=L$7),VLOOKUP(B32,L$32:U$65,5,FALSE),IF(AND(B32<>"",CELL("Zeile",B32)-CELL("Zeile",B$31)<=maxzeile),VLOOKUP(CELL("Zeile",B32)-CELL("Zeile",B$31),N$32:U$65,3,FALSE),"")) | G32: =IF(AND(B32<>"",C$19=L$7),VLOOKUP(B32,L$32:U$65,9,FALSE),IF(AND(B32<>"",CELL("Zeile",B32)-CELL("Zeile",B$31)<=maxzeile),VLOOKUP(CELL("Zeile",B32)-CELL("Zeile",B$31),N$32:U$65,7,FALSE),"")) | H32: =IF(AND(B32<>"",C$19=L$7),IF(G$19<>L$11,ROUND(VLOOKUP(B32,L$32:U$65,9,FALSE),VLOOKUP(G$19,L$12:N$15,3,FALSE)),""),IF(AND(B32<>"",CELL("Zeile",B32)-CELL("Zeile",B$31)<=maxzeile),IF(G$19<>L$11,ROUND(VLOOKUP(CELL("Zeile",B32)-CELL("Zeile",B$31),N$32:U$65,7,FALSE),VLOOKUP(G$19,L$12:N$15,3,FALSE)),""),"")) | M32: =IF(SUM('3.1'!N$3,'3.1'!F81)>0,1,0) -> 0 | N32: =IF(E$19=L$8,CELL("Zeile",M32)-CELL("Zeile",M$31),M32+INDIRECT("N"&CELL("Zeile",M32)-1)) -> 0 | O32: =IF(C$19=L$5,N32,MID(INDIRECT("'3.1'!C$"&'3.1'!N$1+2),12,SEARCH(",",INDIRECT("'3.1'!C$"&'3.1'!N$1+2),12)-12)) -> 3.1 | P32: =INDIRECT("'3.1'!B$"&'3.1'!N$1) -> Katastervermessung | T32: =INDIRECT("'3.1'!G$"&'3.1'!N$2) -> 0 | U32: =INDIRECT("'3.1'!F$"&'3.1'!N$2+2)
B33: =IF(C$19=L$7,"",IF(CELL("Zeile",B33)-CELL("Zeile",B$31)<=maxzeile,CONCATENATE(VLOOKUP(CELL("Zeile",B33)-CELL("Zeile",B$31),N$32:T$65,2,FALSE)," "),"")) | C33: =IF(AND(B33<>"",C$19=L$7),VLOOKUP(B33,L$32:U$65,5,FALSE),IF(AND(B33<>"",CELL("Zeile",B33)-CELL("Zeile",B$31)<=maxzeile),VLOOKUP(CELL("Zeile",B33)-CELL("Zeile",B$31),N$32:U$65,3,FALSE),"")) | G33: =IF(AND(B33<>"",C$19=L$7),VLOOKUP(B33,L$32:U$65,9,FALSE),IF(AND(B33<>"",CELL("Zeile",B33)-CELL("Zeile",B$31)<=maxzeile),VLOOKUP(CELL("Zeile",B33)-CELL("Zeile",B$31),N$32:U$65,7,FALSE),"")) | H33: =IF(AND(B33<>"",C$19=L$7),IF(G$19<>L$11,ROUND(VLOOKUP(B33,L$32:U$65,9,FALSE),VLOOKUP(G$19,L$12:N$15,3,FALSE)),""),IF(AND(B33<>"",CELL("Zeile",B33)-CELL("Zeile",B$31)<=maxzeile),IF(G$19<>L$11,ROUND(VLOOKUP(CELL("Zeile",B33)-CELL("Zeile",B$31),N$32:U$65,7,FALSE),VLOOKUP(G$19,L$12:N$15,3,FALSE)),""),"")) | M33: =IF('4.1.1'!N$3>0,1,0) -> 0 | N33: =IF(E$19=L$8,CELL("Zeile",M33)-CELL("Zeile",M$31),M33+INDIRECT("N"&CELL("Zeile",M33)-1)) -> 0 | O33: =IF(C$19=L$5,N33,MID(INDIRECT("'4.1.1'!C$"&'4.1.1'!N$1+2),12,SEARCH(",",INDIRECT("'4.1.1'!C$"&'4.1.1'!N$1+2),12)-12)) -> 4.1.1 | P33: =INDIRECT("'4.1.1'!B$"&'4.1.1'!N$1) -> Ingenieurgeodätische Netzmessung - tachymetrisch | T33: =INDIRECT("'4.1.1'!G$"&'4.1.1'!N$2) -> 0
B34: =IF(C$19=L$7,"",IF(CELL("Zeile",B34)-CELL("Zeile",B$31)<=maxzeile,CONCATENATE(VLOOKUP(CELL("Zeile",B34)-CELL("Zeile",B$31),N$32:T$65,2,FALSE)," "),"")) | C34: =IF(AND(B34<>"",C$19=L$7),VLOOKUP(B34,L$32:U$65,5,FALSE),IF(AND(B34<>"",CELL("Zeile",B34)-CELL("Zeile",B$31)<=maxzeile),VLOOKUP(CELL("Zeile",B34)-CELL("Zeile",B$31),N$32:U$65,3,FALSE),"")) | G34: =IF(AND(B34<>"",C$19=L$7),VLOOKUP(B34,L$32:U$65,9,FALSE),IF(AND(B34<>"",CELL("Zeile",B34)-CELL("Zeile",B$31)<=maxzeile),VLOOKUP(CELL("Zeile",B34)-CELL("Zeile",B$31),N$32:U$65,7,FALSE),"")) | H34: =IF(AND(B34<>"",C$19=L$7),IF(G$19<>L$11,ROUND(VLOOKUP(B34,L$32:U$65,9,FALSE),VLOOKUP(G$19,L$12:N$15,3,FALSE)),""),IF(AND(B34<>"",CELL("Zeile",B34)-CELL("Zeile",B$31)<=maxzeile),IF(G$19<>L$11,ROUND(VLOOKUP(CELL("Zeile",B34)-CELL("Zeile",B$31),N$32:U$65,7,FALSE),VLOOKUP(G$19,L$12:N$15,3,FALSE)),""),"")) | M34: =IF('4.1.3'!N$3>0,1,0) -> 0 | N34: =IF(E$19=L$8,CELL("Zeile",M34)-CELL("Zeile",M$31),M34+INDIRECT("N"&CELL("Zeile",M34)-1)) -> 0 | O34: =IF(C$19=L$5,N34,MID(INDIRECT("'4.1.3'!C$"&'4.1.3'!N$1+2),12,SEARCH(",",INDIRECT("'4.1.3'!C$"&'4.1.3'!N$1+2),12)-12)) -> 4.1.3 | P34: =INDIRECT("'4.1.3'!B$"&'4.1.3'!N$1) -> Polygonzug | T34: =INDIRECT("'4.1.3'!G$"&'4.1.3'!N$2) -> 0
B35: =IF(C$19=L$7,"",IF(CELL("Zeile",B35)-CELL("Zeile",B$31)<=maxzeile,CONCATENATE(VLOOKUP(CELL("Zeile",B35)-CELL("Zeile",B$31),N$32:T$65,2,FALSE)," "),"")) | C35: =IF(AND(B35<>"",C$19=L$7),VLOOKUP(B35,L$32:U$65,5,FALSE),IF(AND(B35<>"",CELL("Zeile",B35)-CELL("Zeile",B$31)<=maxzeile),VLOOKUP(CELL("Zeile",B35)-CELL("Zeile",B$31),N$32:U$65,3,FALSE),"")) | G35: =IF(AND(B35<>"",C$19=L$7),VLOOKUP(B35,L$32:U$65,9,FALSE),IF(AND(B35<>"",CELL("Zeile",B35)-CELL("Zeile",B$31)<=maxzeile),VLOOKUP(CELL("Zeile",B35)-CELL("Zeile",B$31),N$32:U$65,7,FALSE),"")) | H35: =IF(AND(B35<>"",C$19=L$7),IF(G$19<>L$11,ROUND(VLOOKUP(B35,L$32:U$65,9,FALSE),VLOOKUP(G$19,L$12:N$15,3,FALSE)),""),IF(AND(B35<>"",CELL("Zeile",B35)-CELL("Zeile",B$31)<=maxzeile),IF(G$19<>L$11,ROUND(VLOOKUP(CELL("Zeile",B35)-CELL("Zeile",B$31),N$32:U$65,7,FALSE),VLOOKUP(G$19,L$12:N$15,3,FALSE)),""),"")) | M35: =IF('4.2'!N$3>0,1,0) -> 0 | N35: =IF(E$19=L$8,CELL("Zeile",M35)-CELL("Zeile",M$31),M35+INDIRECT("N"&CELL("Zeile",M35)-1)) -> 0 | O35: =IF(C$19=L$5,N35,MID(INDIRECT("'4.2'!C$"&'4.2'!N$1+2),12,SEARCH(",",INDIRECT("'4.2'!C$"&'4.2'!N$1+2),12)-12)) -> 4.2 | P35: =INDIRECT("'4.2'!B$"&'4.2'!N$1) -> Einzelpunkteinschaltung | T35: =INDIRECT("'4.2'!G$"&'4.2'!N$2) -> 0
B36: =IF(C$19=L$7,"",IF(CELL("Zeile",B36)-CELL("Zeile",B$31)<=maxzeile,CONCATENATE(VLOOKUP(CELL("Zeile",B36)-CELL("Zeile",B$31),N$32:T$65,2,FALSE)," "),"")) | C36: =IF(AND(B36<>"",C$19=L$7),VLOOKUP(B36,L$32:U$65,5,FALSE),IF(AND(B36<>"",CELL("Zeile",B36)-CELL("Zeile",B$31)<=maxzeile),VLOOKUP(CELL("Zeile",B36)-CELL("Zeile",B$31),N$32:U$65,3,FALSE),"")) | G36: =IF(AND(B36<>"",C$19=L$7),VLOOKUP(B36,L$32:U$65,9,FALSE),IF(AND(B36<>"",CELL("Zeile",B36)-CELL("Zeile",B$31)<=maxzeile),VLOOKUP(CELL("Zeile",B36)-CELL("Zeile",B$31),N$32:U$65,7,FALSE),"")) | H36: =IF(AND(B36<>"",C$19=L$7),IF(G$19<>L$11,ROUND(VLOOKUP(B36,L$32:U$65,9,FALSE),VLOOKUP(G$19,L$12:N$15,3,FALSE)),""),IF(AND(B36<>"",CELL("Zeile",B36)-CELL("Zeile",B$31)<=maxzeile),IF(G$19<>L$11,ROUND(VLOOKUP(CELL("Zeile",B36)-CELL("Zeile",B$31),N$32:U$65,7,FALSE),VLOOKUP(G$19,L$12:N$15,3,FALSE)),""),"")) | M36: =IF('4.3'!N$3>0,1,0) -> 0 | N36: =IF(E$19=L$8,CELL("Zeile",M36)-CELL("Zeile",M$31),M36+INDIRECT("N"&CELL("Zeile",M36)-1)) -> 0 | O36: =IF(C$19=L$5,N36,MID(INDIRECT("'4.3'!C$"&'4.3'!N$1+2),12,SEARCH(",",INDIRECT("'4.3'!C$"&'4.3'!N$1+2),12)-12)) -> 4.3 | P36: =INDIRECT("'4.3'!B$"&'4.3'!N$1) -> Kreisel-Stütz-Azimut | T36: =INDIRECT("'4.3'!G$"&'4.3'!N$2) -> 0
B37: =IF(C$19=L$7,"",IF(CELL("Zeile",B37)-CELL("Zeile",B$31)<=maxzeile,CONCATENATE(VLOOKUP(CELL("Zeile",B37)-CELL("Zeile",B$31),N$32:T$65,2,FALSE)," "),"")) | C37: =IF(AND(B37<>"",C$19=L$7),VLOOKUP(B37,L$32:U$65,5,FALSE),IF(AND(B37<>"",CELL("Zeile",B37)-CELL("Zeile",B$31)<=maxzeile),VLOOKUP(CELL("Zeile",B37)-CELL("Zeile",B$31),N$32:U$65,3,FALSE),"")) | G37: =IF(AND(B37<>"",C$19=L$7),VLOOKUP(B37,L$32:U$65,9,FALSE),IF(AND(B37<>"",CELL("Zeile",B37)-CELL("Zeile",B$31)<=maxzeile),VLOOKUP(CELL("Zeile",B37)-CELL("Zeile",B$31),N$32:U$65,7,FALSE),"")) | H37: =IF(AND(B37<>"",C$19=L$7),IF(G$19<>L$11,ROUND(VLOOKUP(B37,L$32:U$65,9,FALSE),VLOOKUP(G$19,L$12:N$15,3,FALSE)),""),IF(AND(B37<>"",CELL("Zeile",B37)-CELL("Zeile",B$31)<=maxzeile),IF(G$19<>L$11,ROUND(VLOOKUP(CELL("Zeile",B37)-CELL("Zeile",B$31),N$32:U$65,7,FALSE),VLOOKUP(G$19,L$12:N$15,3,FALSE)),""),"")) | M37: =IF('4.4.2'!N$3>0,1,0) -> 0 | N37: =IF(E$19=L$8,CELL("Zeile",M37)-CELL("Zeile",M$31),M37+INDIRECT("N"&CELL("Zeile",M37)-1)) -> 0 | O37: =IF(C$19=L$5,N37,MID(INDIRECT("'4.4.2'!C$"&'4.4.2'!N$1+2),12,SEARCH(",",INDIRECT("'4.4.2'!C$"&'4.4.2'!N$1+2),12)-12)) -> 4.4.2 | P37: =INDIRECT("'4.4.2'!B$"&'4.4.2'!N$1) -> Setzungsmessung - Nullmessung | T37: =INDIRECT("'4.4.2'!G$"&'4.4.2'!N$2) -> 0
B38: =IF(C$19=L$7,"",IF(CELL("Zeile",B38)-CELL("Zeile",B$31)<=maxzeile,CONCATENATE(VLOOKUP(CELL("Zeile",B38)-CELL("Zeile",B$31),N$32:T$65,2,FALSE)," "),"")) | C38: =IF(AND(B38<>"",C$19=L$7),VLOOKUP(B38,L$32:U$65,5,FALSE),IF(AND(B38<>"",CELL("Zeile",B38)-CELL("Zeile",B$31)<=maxzeile),VLOOKUP(CELL("Zeile",B38)-CELL("Zeile",B$31),N$32:U$65,3,FALSE),"")) | G38: =IF(AND(B38<>"",C$19=L$7),VLOOKUP(B38,L$32:U$65,9,FALSE),IF(AND(B38<>"",CELL("Zeile",B38)-CELL("Zeile",B$31)<=maxzeile),VLOOKUP(CELL("Zeile",B38)-CELL("Zeile",B$31),N$32:U$65,7,FALSE),"")) | H38: =IF(AND(B38<>"",C$19=L$7),IF(G$19<>L$11,ROUND(VLOOKUP(B38,L$32:U$65,9,FALSE),VLOOKUP(G$19,L$12:N$15,3,FALSE)),""),IF(AND(B38<>"",CELL("Zeile",B38)-CELL("Zeile",B$31)<=maxzeile),IF(G$19<>L$11,ROUND(VLOOKUP(CELL("Zeile",B38)-CELL("Zeile",B$31),N$32:U$65,7,FALSE),VLOOKUP(G$19,L$12:N$15,3,FALSE)),""),"")) | M38: =IF('4.4.x'!N$3>0,1,0) -> 0 | N38: =IF(E$19=L$8,CELL("Zeile",M38)-CELL("Zeile",M$31),M38+INDIRECT("N"&CELL("Zeile",M38)-1)) -> 0 | O38: =IF(C$19=L$5,N38,MID(INDIRECT("'4.4.x'!C$"&'4.4.x'!N$1+2),12,SEARCH(",",INDIRECT("'4.4.x'!C$"&'4.4.x'!N$1+2),12)-12)) -> 4.4.1 | P38: =INDIRECT("'4.4.x'!B$"&'4.4.x'!N$1) -> Detailpunkte | T38: =INDIRECT("'4.4.x'!G$"&'4.4.x'!N$2) -> 0
B39: =IF(C$19=L$7,"",IF(CELL("Zeile",B39)-CELL("Zeile",B$31)<=maxzeile,CONCATENATE(VLOOKUP(CELL("Zeile",B39)-CELL("Zeile",B$31),N$32:T$65,2,FALSE)," "),"")) | C39: =IF(AND(B39<>"",C$19=L$7),VLOOKUP(B39,L$32:U$65,5,FALSE),IF(AND(B39<>"",CELL("Zeile",B39)-CELL("Zeile",B$31)<=maxzeile),VLOOKUP(CELL("Zeile",B39)-CELL("Zeile",B$31),N$32:U$65,3,FALSE),"")) | G39: =IF(AND(B39<>"",C$19=L$7),VLOOKUP(B39,L$32:U$65,9,FALSE),IF(AND(B39<>"",CELL("Zeile",B39)-CELL("Zeile",B$31)<=maxzeile),VLOOKUP(CELL("Zeile",B39)-CELL("Zeile",B$31),N$32:U$65,7,FALSE),"")) | H39: =IF(AND(B39<>"",C$19=L$7),IF(G$19<>L$11,ROUND(VLOOKUP(B39,L$32:U$65,9,FALSE),VLOOKUP(G$19,L$12:N$15,3,FALSE)),""),IF(AND(B39<>"",CELL("Zeile",B39)-CELL("Zeile",B$31)<=maxzeile),IF(G$19<>L$11,ROUND(VLOOKUP(CELL("Zeile",B39)-CELL("Zeile",B$31),N$32:U$65,7,FALSE),VLOOKUP(G$19,L$12:N$15,3,FALSE)),""),"")) | M39: =IF('4.5'!N$3>0,1,0) -> 0 | N39: =IF(E$19=L$8,CELL("Zeile",M39)-CELL("Zeile",M$31),M39+INDIRECT("N"&CELL("Zeile",M39)-1)) -> 0 | O39: =IF(C$19=L$5,N39,MID(INDIRECT("'4.5'!C$"&'4.5'!N$1+2),12,SEARCH(",",INDIRECT("'4.5'!C$"&'4.5'!N$1+2),12)-12)) -> 4.5 | P39: =INDIRECT("'4.5'!B$"&'4.5'!N$1) -> Punktbestimmung durch kinematische GNSS-Messung | T39: =INDIRECT("'4.5'!G$"&'4.5'!N$2) -> 0
B40: =IF(C$19=L$7,"",IF(CELL("Zeile",B40)-CELL("Zeile",B$31)<=maxzeile,CONCATENATE(VLOOKUP(CELL("Zeile",B40)-CELL("Zeile",B$31),N$32:T$65,2,FALSE)," "),"")) | C40: =IF(AND(B40<>"",C$19=L$7),VLOOKUP(B40,L$32:U$65,5,FALSE),IF(AND(B40<>"",CELL("Zeile",B40)-CELL("Zeile",B$31)<=maxzeile),VLOOKUP(CELL("Zeile",B40)-CELL("Zeile",B$31),N$32:U$65,3,FALSE),"")) | G40: =IF(AND(B40<>"",C$19=L$7),VLOOKUP(B40,L$32:U$65,9,FALSE),IF(AND(B40<>"",CELL("Zeile",B40)-CELL("Zeile",B$31)<=maxzeile),VLOOKUP(CELL("Zeile",B40)-CELL("Zeile",B$31),N$32:U$65,7,FALSE),"")) | H40: =IF(AND(B40<>"",C$19=L$7),IF(G$19<>L$11,ROUND(VLOOKUP(B40,L$32:U$65,9,FALSE),VLOOKUP(G$19,L$12:N$15,3,FALSE)),""),IF(AND(B40<>"",CELL("Zeile",B40)-CELL("Zeile",B$31)<=maxzeile),IF(G$19<>L$11,ROUND(VLOOKUP(CELL("Zeile",B40)-CELL("Zeile",B$31),N$32:U$65,7,FALSE),VLOOKUP(G$19,L$12:N$15,3,FALSE)),""),"")) | M40: =IF('4.6'!N$3>0,1,0) -> 0 | N40: =IF(E$19=L$8,CELL("Zeile",M40)-CELL("Zeile",M$31),M40+INDIRECT("N"&CELL("Zeile",M40)-1)) -> 0 | O40: =IF(C$19=L$5,N40,MID(INDIRECT("'4.6'!C$"&'4.6'!N$1+2),12,SEARCH(",",INDIRECT("'4.6'!C$"&'4.6'!N$1+2),12)-12)) -> 4.6 | P40: =INDIRECT("'4.6'!B$"&'4.6'!N$1) -> Nivellement | T40: =INDIRECT("'4.6'!G$"&'4.6'!N$2) -> 0
B41: =IF(C$19=L$7,"",IF(CELL("Zeile",B41)-CELL("Zeile",B$31)<=maxzeile,CONCATENATE(VLOOKUP(CELL("Zeile",B41)-CELL("Zeile",B$31),N$32:T$65,2,FALSE)," "),"")) | C41: =IF(AND(B41<>"",C$19=L$7),VLOOKUP(B41,L$32:U$65,5,FALSE),IF(AND(B41<>"",CELL("Zeile",B41)-CELL("Zeile",B$31)<=maxzeile),VLOOKUP(CELL("Zeile",B41)-CELL("Zeile",B$31),N$32:U$65,3,FALSE),"")) | G41: =IF(AND(B41<>"",C$19=L$7),VLOOKUP(B41,L$32:U$65,9,FALSE),IF(AND(B41<>"",CELL("Zeile",B41)-CELL("Zeile",B$31)<=maxzeile),VLOOKUP(CELL("Zeile",B41)-CELL("Zeile",B$31),N$32:U$65,7,FALSE),"")) | H41: =IF(AND(B41<>"",C$19=L$7),IF(G$19<>L$11,ROUND(VLOOKUP(B41,L$32:U$65,9,FALSE),VLOOKUP(G$19,L$12:N$15,3,FALSE)),""),IF(AND(B41<>"",CELL("Zeile",B41)-CELL("Zeile",B$31)<=maxzeile),IF(G$19<>L$11,ROUND(VLOOKUP(CELL("Zeile",B41)-CELL("Zeile",B$31),N$32:U$65,7,FALSE),VLOOKUP(G$19,L$12:N$15,3,FALSE)),""),"")) | M41: =IF('4.7.1'!N$3>0,1,0) -> 0 | N41: =IF(E$19=L$8,CELL("Zeile",M41)-CELL("Zeile",M$31),M41+INDIRECT("N"&CELL("Zeile",M41)-1)) -> 0 | O41: =IF(C$19=L$5,N41,MID(INDIRECT("'4.7.1'!C$"&'4.7.1'!N$1+2),12,SEARCH(",",INDIRECT("'4.7.1'!C$"&'4.7.1'!N$1+2),12)-12)) -> 4.7.1 | P41: =INDIRECT("'4.7.1'!B$"&'4.7.1'!N$1) -> Lage- und Höhenplan | T41: =INDIRECT("'4.7.1'!G$"&'4.7.1'!N$2) -> 0
B42: =IF(C$19=L$7,"",IF(CELL("Zeile",B42)-CELL("Zeile",B$31)<=maxzeile,CONCATENATE(VLOOKUP(CELL("Zeile",B42)-CELL("Zeile",B$31),N$32:T$65,2,FALSE)," "),"")) | C42: =IF(AND(B42<>"",C$19=L$7),VLOOKUP(B42,L$32:U$65,5,FALSE),IF(AND(B42<>"",CELL("Zeile",B42)-CELL("Zeile",B$31)<=maxzeile),VLOOKUP(CELL("Zeile",B42)-CELL("Zeile",B$31),N$32:U$65,3,FALSE),"")) | G42: =IF(AND(B42<>"",C$19=L$7),VLOOKUP(B42,L$32:U$65,9,FALSE),IF(AND(B42<>"",CELL("Zeile",B42)-CELL("Zeile",B$31)<=maxzeile),VLOOKUP(CELL("Zeile",B42)-CELL("Zeile",B$31),N$32:U$65,7,FALSE),"")) | H42: =IF(AND(B42<>"",C$19=L$7),IF(G$19<>L$11,ROUND(VLOOKUP(B42,L$32:U$65,9,FALSE),VLOOKUP(G$19,L$12:N$15,3,FALSE)),""),IF(AND(B42<>"",CELL("Zeile",B42)-CELL("Zeile",B$31)<=maxzeile),IF(G$19<>L$11,ROUND(VLOOKUP(CELL("Zeile",B42)-CELL("Zeile",B$31),N$32:U$65,7,FALSE),VLOOKUP(G$19,L$12:N$15,3,FALSE)),""),"")) | M42: =IF('4.7.2'!N$3>0,1,0) -> 0 | N42: =IF(E$19=L$8,CELL("Zeile",M42)-CELL("Zeile",M$31),M42+INDIRECT("N"&CELL("Zeile",M42)-1)) -> 0 | O42: =IF(C$19=L$5,N42,MID(INDIRECT("'4.7.2'!C$"&'4.7.2'!N$1+2),12,SEARCH(",",INDIRECT("'4.7.2'!C$"&'4.7.2'!N$1+2),12)-12)) -> 4.7.2 | P42: =INDIRECT("'4.7.2'!B$"&'4.7.2'!N$1) -> Erstellen und verfeinern eines DGM | T42: =INDIRECT("'4.7.2'!G$"&'4.7.2'!N$2) -> 0
B43: =IF(C$19=L$7,"",IF(CELL("Zeile",B43)-CELL("Zeile",B$31)<=maxzeile,CONCATENATE(VLOOKUP(CELL("Zeile",B43)-CELL("Zeile",B$31),N$32:T$65,2,FALSE)," "),"")) | C43: =IF(AND(B43<>"",C$19=L$7),VLOOKUP(B43,L$32:U$65,5,FALSE),IF(AND(B43<>"",CELL("Zeile",B43)-CELL("Zeile",B$31)<=maxzeile),VLOOKUP(CELL("Zeile",B43)-CELL("Zeile",B$31),N$32:U$65,3,FALSE),"")) | G43: =IF(AND(B43<>"",C$19=L$7),VLOOKUP(B43,L$32:U$65,9,FALSE),IF(AND(B43<>"",CELL("Zeile",B43)-CELL("Zeile",B$31)<=maxzeile),VLOOKUP(CELL("Zeile",B43)-CELL("Zeile",B$31),N$32:U$65,7,FALSE),"")) | H43: =IF(AND(B43<>"",C$19=L$7),IF(G$19<>L$11,ROUND(VLOOKUP(B43,L$32:U$65,9,FALSE),VLOOKUP(G$19,L$12:N$15,3,FALSE)),""),IF(AND(B43<>"",CELL("Zeile",B43)-CELL("Zeile",B$31)<=maxzeile),IF(G$19<>L$11,ROUND(VLOOKUP(CELL("Zeile",B43)-CELL("Zeile",B$31),N$32:U$65,7,FALSE),VLOOKUP(G$19,L$12:N$15,3,FALSE)),""),"")) | M43: =IF('4.7.3'!N$3>0,1,0) -> 0 | N43: =IF(E$19=L$8,CELL("Zeile",M43)-CELL("Zeile",M$31),M43+INDIRECT("N"&CELL("Zeile",M43)-1)) -> 0 | O43: =IF(C$19=L$5,N43,MID(INDIRECT("'4.7.3'!C$"&'4.7.3'!N$1+2),12,SEARCH(",",INDIRECT("'4.7.3'!C$"&'4.7.3'!N$1+2),12)-12)) -> 4.7.3 | P43: =INDIRECT("'4.7.3'!B$"&'4.7.3'!N$1) -> 3d-Planerstellung auf Basis eines 2,5d-LH-Planes | T43: =INDIRECT("'4.7.3'!G$"&'4.7.3'!N$2) -> 0
B44: =IF(C$19=L$7,"",IF(CELL("Zeile",B44)-CELL("Zeile",B$31)<=maxzeile,CONCATENATE(VLOOKUP(CELL("Zeile",B44)-CELL("Zeile",B$31),N$32:T$65,2,FALSE)," "),"")) | C44: =IF(AND(B44<>"",C$19=L$7),VLOOKUP(B44,L$32:U$65,5,FALSE),IF(AND(B44<>"",CELL("Zeile",B44)-CELL("Zeile",B$31)<=maxzeile),VLOOKUP(CELL("Zeile",B44)-CELL("Zeile",B$31),N$32:U$65,3,FALSE),"")) | G44: =IF(AND(B44<>"",C$19=L$7),VLOOKUP(B44,L$32:U$65,9,FALSE),IF(AND(B44<>"",CELL("Zeile",B44)-CELL("Zeile",B$31)<=maxzeile),VLOOKUP(CELL("Zeile",B44)-CELL("Zeile",B$31),N$32:U$65,7,FALSE),"")) | H44: =IF(AND(B44<>"",C$19=L$7),IF(G$19<>L$11,ROUND(VLOOKUP(B44,L$32:U$65,9,FALSE),VLOOKUP(G$19,L$12:N$15,3,FALSE)),""),IF(AND(B44<>"",CELL("Zeile",B44)-CELL("Zeile",B$31)<=maxzeile),IF(G$19<>L$11,ROUND(VLOOKUP(CELL("Zeile",B44)-CELL("Zeile",B$31),N$32:U$65,7,FALSE),VLOOKUP(G$19,L$12:N$15,3,FALSE)),""),"")) | M44: =IF('4.7.4'!N$3>0,1,0) -> 0 | N44: =IF(E$19=L$8,CELL("Zeile",M44)-CELL("Zeile",M$31),M44+INDIRECT("N"&CELL("Zeile",M44)-1)) -> 0 | O44: =IF(C$19=L$5,N44,MID(INDIRECT("'4.7.4'!C$"&'4.7.4'!N$1+2),12,SEARCH(",",INDIRECT("'4.7.4'!C$"&'4.7.4'!N$1+2),12)-12)) -> 4.7.4 | P44: =INDIRECT("'4.7.4'!B$"&'4.7.4'!N$1) -> Umbildung einer Geländeaufnahme durch Maßstabsänderung | T44: =INDIRECT("'4.7.4'!G$"&'4.7.4'!N$2) -> 0
B45: =IF(C$19=L$7,"",IF(CELL("Zeile",B45)-CELL("Zeile",B$31)<=maxzeile,CONCATENATE(VLOOKUP(CELL("Zeile",B45)-CELL("Zeile",B$31),N$32:T$65,2,FALSE)," "),"")) | C45: =IF(AND(B45<>"",C$19=L$7),VLOOKUP(B45,L$32:U$65,5,FALSE),IF(AND(B45<>"",CELL("Zeile",B45)-CELL("Zeile",B$31)<=maxzeile),VLOOKUP(CELL("Zeile",B45)-CELL("Zeile",B$31),N$32:U$65,3,FALSE),"")) | G45: =IF(AND(B45<>"",C$19=L$7),VLOOKUP(B45,L$32:U$65,9,FALSE),IF(AND(B45<>"",CELL("Zeile",B45)-CELL("Zeile",B$31)<=maxzeile),VLOOKUP(CELL("Zeile",B45)-CELL("Zeile",B$31),N$32:U$65,7,FALSE),"")) | H45: =IF(AND(B45<>"",C$19=L$7),IF(G$19<>L$11,ROUND(VLOOKUP(B45,L$32:U$65,9,FALSE),VLOOKUP(G$19,L$12:N$15,3,FALSE)),""),IF(AND(B45<>"",CELL("Zeile",B45)-CELL("Zeile",B$31)<=maxzeile),IF(G$19<>L$11,ROUND(VLOOKUP(CELL("Zeile",B45)-CELL("Zeile",B$31),N$32:U$65,7,FALSE),VLOOKUP(G$19,L$12:N$15,3,FALSE)),""),"")) | M45: =IF('4.7.5'!N$3>0,1,0) -> 0 | N45: =IF(E$19=L$8,CELL("Zeile",M45)-CELL("Zeile",M$31),M45+INDIRECT("N"&CELL("Zeile",M45)-1)) -> 0 | O45: =IF(C$19=L$5,N45,MID(INDIRECT("'4.7.5'!C$"&'4.7.5'!N$1+2),12,SEARCH(",",INDIRECT("'4.7.5'!C$"&'4.7.5'!N$1+2),12)-12)) -> 4.7.5 | P45: =INDIRECT("'4.7.5'!B$"&'4.7.5'!N$1) -> Umbildung einer Geländeaufnahme (analog auf digital) | T45: =INDIRECT("'4.7.5'!G$"&'4.7.5'!N$2) -> 0
B46: =IF(C$19=L$7,"",IF(CELL("Zeile",B46)-CELL("Zeile",B$31)<=maxzeile,CONCATENATE(VLOOKUP(CELL("Zeile",B46)-CELL("Zeile",B$31),N$32:T$65,2,FALSE)," "),"")) | C46: =IF(AND(B46<>"",C$19=L$7),VLOOKUP(B46,L$32:U$65,5,FALSE),IF(AND(B46<>"",CELL("Zeile",B46)-CELL("Zeile",B$31)<=maxzeile),VLOOKUP(CELL("Zeile",B46)-CELL("Zeile",B$31),N$32:U$65,3,FALSE),"")) | G46: =IF(AND(B46<>"",C$19=L$7),VLOOKUP(B46,L$32:U$65,9,FALSE),IF(AND(B46<>"",CELL("Zeile",B46)-CELL("Zeile",B$31)<=maxzeile),VLOOKUP(CELL("Zeile",B46)-CELL("Zeile",B$31),N$32:U$65,7,FALSE),"")) | H46: =IF(AND(B46<>"",C$19=L$7),IF(G$19<>L$11,ROUND(VLOOKUP(B46,L$32:U$65,9,FALSE),VLOOKUP(G$19,L$12:N$15,3,FALSE)),""),IF(AND(B46<>"",CELL("Zeile",B46)-CELL("Zeile",B$31)<=maxzeile),IF(G$19<>L$11,ROUND(VLOOKUP(CELL("Zeile",B46)-CELL("Zeile",B$31),N$32:U$65,7,FALSE),VLOOKUP(G$19,L$12:N$15,3,FALSE)),""),"")) | M46: =IF('4.8'!N$3>0,1,0) -> 0 | N46: =IF(E$19=L$8,CELL("Zeile",M46)-CELL("Zeile",M$31),M46+INDIRECT("N"&CELL("Zeile",M46)-1)) -> 0 | O46: =IF(C$19=L$5,N46,MID(INDIRECT("'4.8'!C$"&'4.8'!N$1+2),12,SEARCH(",",INDIRECT("'4.8'!C$"&'4.8'!N$1+2),12)-12)) -> 4.8 | P46: =INDIRECT("'4.8'!B$"&'4.8'!N$1) -> Nutzflächenermittlung | T46: =INDIRECT("'4.8'!G$"&'4.8'!N$2) -> 0
B47: =IF(C$19=L$7,"",IF(CELL("Zeile",B47)-CELL("Zeile",B$31)<=maxzeile,CONCATENATE(VLOOKUP(CELL("Zeile",B47)-CELL("Zeile",B$31),N$32:T$65,2,FALSE)," "),"")) | C47: =IF(AND(B47<>"",C$19=L$7),VLOOKUP(B47,L$32:U$65,5,FALSE),IF(AND(B47<>"",CELL("Zeile",B47)-CELL("Zeile",B$31)<=maxzeile),VLOOKUP(CELL("Zeile",B47)-CELL("Zeile",B$31),N$32:U$65,3,FALSE),"")) | G47: =IF(AND(B47<>"",C$19=L$7),VLOOKUP(B47,L$32:U$65,9,FALSE),IF(AND(B47<>"",CELL("Zeile",B47)-CELL("Zeile",B$31)<=maxzeile),VLOOKUP(CELL("Zeile",B47)-CELL("Zeile",B$31),N$32:U$65,7,FALSE),"")) | H47: =IF(AND(B47<>"",C$19=L$7),IF(G$19<>L$11,ROUND(VLOOKUP(B47,L$32:U$65,9,FALSE),VLOOKUP(G$19,L$12:N$15,3,FALSE)),""),IF(AND(B47<>"",CELL("Zeile",B47)-CELL("Zeile",B$31)<=maxzeile),IF(G$19<>L$11,ROUND(VLOOKUP(CELL("Zeile",B47)-CELL("Zeile",B$31),N$32:U$65,7,FALSE),VLOOKUP(G$19,L$12:N$15,3,FALSE)),""),"")) | M47: =IF('4.9'!N$3>0,1,0) -> 0 | N47: =IF(E$19=L$8,CELL("Zeile",M47)-CELL("Zeile",M$31),M47+INDIRECT("N"&CELL("Zeile",M47)-1)) -> 0 | O47: =IF(C$19=L$5,N47,MID(INDIRECT("'4.9'!C$"&'4.9'!N$1+2),12,SEARCH(",",INDIRECT("'4.9'!C$"&'4.9'!N$1+2),12)-12)) -> 4.9 | P47: =INDIRECT("'4.9'!B$"&'4.9'!N$1) -> Herstellung von Baubestandsplänen | T47: =INDIRECT("'4.9'!G$"&'4.9'!N$2) -> 0
B48: =IF(C$19=L$7,"",IF(CELL("Zeile",B48)-CELL("Zeile",B$31)<=maxzeile,CONCATENATE(VLOOKUP(CELL("Zeile",B48)-CELL("Zeile",B$31),N$32:T$65,2,FALSE)," "),"")) | C48: =IF(AND(B48<>"",C$19=L$7),VLOOKUP(B48,L$32:U$65,5,FALSE),IF(AND(B48<>"",CELL("Zeile",B48)-CELL("Zeile",B$31)<=maxzeile),VLOOKUP(CELL("Zeile",B48)-CELL("Zeile",B$31),N$32:U$65,3,FALSE),"")) | G48: =IF(AND(B48<>"",C$19=L$7),VLOOKUP(B48,L$32:U$65,9,FALSE),IF(AND(B48<>"",CELL("Zeile",B48)-CELL("Zeile",B$31)<=maxzeile),VLOOKUP(CELL("Zeile",B48)-CELL("Zeile",B$31),N$32:U$65,7,FALSE),"")) | H48: =IF(AND(B48<>"",C$19=L$7),IF(G$19<>L$11,ROUND(VLOOKUP(B48,L$32:U$65,9,FALSE),VLOOKUP(G$19,L$12:N$15,3,FALSE)),""),IF(AND(B48<>"",CELL("Zeile",B48)-CELL("Zeile",B$31)<=maxzeile),IF(G$19<>L$11,ROUND(VLOOKUP(CELL("Zeile",B48)-CELL("Zeile",B$31),N$32:U$65,7,FALSE),VLOOKUP(G$19,L$12:N$15,3,FALSE)),""),"")) | M48: =IF('4.10'!N$3>0,1,0) -> 0 | N48: =IF(E$19=L$8,CELL("Zeile",M48)-CELL("Zeile",M$31),M48+INDIRECT("N"&CELL("Zeile",M48)-1)) -> 0 | O48: =IF(C$19=L$5,N48,MID(INDIRECT("'4.10'!C$"&'4.10'!N$1+2),12,SEARCH(",",INDIRECT("'4.10'!C$"&'4.10'!N$1+2),12)-12)) -> 4.10 | P48: =INDIRECT("'4.10'!B$"&'4.10'!N$1) -> Herstellung von Profilen | T48: =INDIRECT("'4.10'!G$"&'4.10'!N$2) -> 0
B49: =IF(C$19=L$7,"",IF(CELL("Zeile",B49)-CELL("Zeile",B$31)<=maxzeile,CONCATENATE(VLOOKUP(CELL("Zeile",B49)-CELL("Zeile",B$31),N$32:T$65,2,FALSE)," "),"")) | C49: =IF(AND(B49<>"",C$19=L$7),VLOOKUP(B49,L$32:U$65,5,FALSE),IF(AND(B49<>"",CELL("Zeile",B49)-CELL("Zeile",B$31)<=maxzeile),VLOOKUP(CELL("Zeile",B49)-CELL("Zeile",B$31),N$32:U$65,3,FALSE),"")) | G49: =IF(AND(B49<>"",C$19=L$7),VLOOKUP(B49,L$32:U$65,9,FALSE),IF(AND(B49<>"",CELL("Zeile",B49)-CELL("Zeile",B$31)<=maxzeile),VLOOKUP(CELL("Zeile",B49)-CELL("Zeile",B$31),N$32:U$65,7,FALSE),"")) | H49: =IF(AND(B49<>"",C$19=L$7),IF(G$19<>L$11,ROUND(VLOOKUP(B49,L$32:U$65,9,FALSE),VLOOKUP(G$19,L$12:N$15,3,FALSE)),""),IF(AND(B49<>"",CELL("Zeile",B49)-CELL("Zeile",B$31)<=maxzeile),IF(G$19<>L$11,ROUND(VLOOKUP(CELL("Zeile",B49)-CELL("Zeile",B$31),N$32:U$65,7,FALSE),VLOOKUP(G$19,L$12:N$15,3,FALSE)),""),"")) | M49: =IF('4.11'!N$3>0,1,0) -> 0 | N49: =IF(E$19=L$8,CELL("Zeile",M49)-CELL("Zeile",M$31),M49+INDIRECT("N"&CELL("Zeile",M49)-1)) -> 0 | O49: =IF(C$19=L$5,N49,MID(INDIRECT("'4.11'!C$"&'4.11'!N$1+2),12,SEARCH(",",INDIRECT("'4.11'!C$"&'4.11'!N$1+2),12)-12)) -> 4.11 | P49: =INDIRECT("'4.11'!B$"&'4.11'!N$1) -> Absteckungen | T49: =INDIRECT("'4.11'!G$"&'4.11'!N$2) -> 0
B50: =IF(C$19=L$7,"",IF(CELL("Zeile",B50)-CELL("Zeile",B$31)<=maxzeile,CONCATENATE(VLOOKUP(CELL("Zeile",B50)-CELL("Zeile",B$31),N$32:T$65,2,FALSE)," "),"")) | C50: =IF(AND(B50<>"",C$19=L$7),VLOOKUP(B50,L$32:U$65,5,FALSE),IF(AND(B50<>"",CELL("Zeile",B50)-CELL("Zeile",B$31)<=maxzeile),VLOOKUP(CELL("Zeile",B50)-CELL("Zeile",B$31),N$32:U$65,3,FALSE),"")) | G50: =IF(AND(B50<>"",C$19=L$7),VLOOKUP(B50,L$32:U$65,9,FALSE),IF(AND(B50<>"",CELL("Zeile",B50)-CELL("Zeile",B$31)<=maxzeile),VLOOKUP(CELL("Zeile",B50)-CELL("Zeile",B$31),N$32:U$65,7,FALSE),"")) | H50: =IF(AND(B50<>"",C$19=L$7),IF(G$19<>L$11,ROUND(VLOOKUP(B50,L$32:U$65,9,FALSE),VLOOKUP(G$19,L$12:N$15,3,FALSE)),""),IF(AND(B50<>"",CELL("Zeile",B50)-CELL("Zeile",B$31)<=maxzeile),IF(G$19<>L$11,ROUND(VLOOKUP(CELL("Zeile",B50)-CELL("Zeile",B$31),N$32:U$65,7,FALSE),VLOOKUP(G$19,L$12:N$15,3,FALSE)),""),"")) | M50: =IF('4.12'!N$3>0,1,0) -> 0 | N50: =IF(E$19=L$8,CELL("Zeile",M50)-CELL("Zeile",M$31),M50+INDIRECT("N"&CELL("Zeile",M50)-1)) -> 0 | O50: =IF(C$19=L$5,N50,MID(INDIRECT("'4.12'!C$"&'4.12'!N$1+2),12,SEARCH(",",INDIRECT("'4.12'!C$"&'4.12'!N$1+2),12)-12)) -> 4.12 | P50: =INDIRECT("'4.12'!B$"&'4.12'!N$1) -> Achseinrechnung und Berechnung von Achszwischenpunkten | T50: =INDIRECT("'4.12'!G$"&'4.12'!N$2) -> 0
B51: =IF(C$19=L$7,"",IF(CELL("Zeile",B51)-CELL("Zeile",B$31)<=maxzeile,CONCATENATE(VLOOKUP(CELL("Zeile",B51)-CELL("Zeile",B$31),N$32:T$65,2,FALSE)," "),"")) | C51: =IF(AND(B51<>"",C$19=L$7),VLOOKUP(B51,L$32:U$65,5,FALSE),IF(AND(B51<>"",CELL("Zeile",B51)-CELL("Zeile",B$31)<=maxzeile),VLOOKUP(CELL("Zeile",B51)-CELL("Zeile",B$31),N$32:U$65,3,FALSE),"")) | G51: =IF(AND(B51<>"",C$19=L$7),VLOOKUP(B51,L$32:U$65,9,FALSE),IF(AND(B51<>"",CELL("Zeile",B51)-CELL("Zeile",B$31)<=maxzeile),VLOOKUP(CELL("Zeile",B51)-CELL("Zeile",B$31),N$32:U$65,7,FALSE),"")) | H51: =IF(AND(B51<>"",C$19=L$7),IF(G$19<>L$11,ROUND(VLOOKUP(B51,L$32:U$65,9,FALSE),VLOOKUP(G$19,L$12:N$15,3,FALSE)),""),IF(AND(B51<>"",CELL("Zeile",B51)-CELL("Zeile",B$31)<=maxzeile),IF(G$19<>L$11,ROUND(VLOOKUP(CELL("Zeile",B51)-CELL("Zeile",B$31),N$32:U$65,7,FALSE),VLOOKUP(G$19,L$12:N$15,3,FALSE)),""),"")) | M51: =IF('4.13'!N$3>0,1,0) -> 0 | N51: =IF(E$19=L$8,CELL("Zeile",M51)-CELL("Zeile",M$31),M51+INDIRECT("N"&CELL("Zeile",M51)-1)) -> 0 | O51: =IF(C$19=L$5,N51,MID(INDIRECT("'4.13'!C$"&'4.13'!N$1+2),12,SEARCH(",",INDIRECT("'4.13'!C$"&'4.13'!N$1+2),12)-12)) -> 4.13 | P51: =INDIRECT("'4.13'!B$"&'4.13'!N$1) -> Photogrammetrie | T51: =INDIRECT("'4.13'!G$"&'4.13'!N$2) -> 0
B52: =IF(C$19=L$7,"",IF(CELL("Zeile",B52)-CELL("Zeile",B$31)<=maxzeile,CONCATENATE(VLOOKUP(CELL("Zeile",B52)-CELL("Zeile",B$31),N$32:T$65,2,FALSE)," "),"")) | C52: =IF(AND(B52<>"",C$19=L$7),VLOOKUP(B52,L$32:U$65,5,FALSE),IF(AND(B52<>"",CELL("Zeile",B52)-CELL("Zeile",B$31)<=maxzeile),VLOOKUP(CELL("Zeile",B52)-CELL("Zeile",B$31),N$32:U$65,3,FALSE),"")) | G52: =IF(AND(B52<>"",C$19=L$7),VLOOKUP(B52,L$32:U$65,9,FALSE),IF(AND(B52<>"",CELL("Zeile",B52)-CELL("Zeile",B$31)<=maxzeile),VLOOKUP(CELL("Zeile",B52)-CELL("Zeile",B$31),N$32:U$65,7,FALSE),"")) | H52: =IF(AND(B52<>"",C$19=L$7),IF(G$19<>L$11,ROUND(VLOOKUP(B52,L$32:U$65,9,FALSE),VLOOKUP(G$19,L$12:N$15,3,FALSE)),""),IF(AND(B52<>"",CELL("Zeile",B52)-CELL("Zeile",B$31)<=maxzeile),IF(G$19<>L$11,ROUND(VLOOKUP(CELL("Zeile",B52)-CELL("Zeile",B$31),N$32:U$65,7,FALSE),VLOOKUP(G$19,L$12:N$15,3,FALSE)),""),"")) | M52: =IF('4.14'!N$3>0,1,0) -> 0 | N52: =IF(E$19=L$8,CELL("Zeile",M52)-CELL("Zeile",M$31),M52+INDIRECT("N"&CELL("Zeile",M52)-1)) -> 0 | O52: =IF(C$19=L$5,N52,MID(INDIRECT("'4.14'!C$"&'4.14'!N$1+2),12,SEARCH(",",INDIRECT("'4.14'!C$"&'4.14'!N$1+2),12)-12)) -> 4.14 | P52: =INDIRECT("'4.14'!B$"&'4.14'!N$1) -> Laserscanning | T52: =INDIRECT("'4.14'!G$"&'4.14'!N$2) -> 0
B53: =IF(C$19=L$7,"",IF(CELL("Zeile",B53)-CELL("Zeile",B$31)<=maxzeile,CONCATENATE(VLOOKUP(CELL("Zeile",B53)-CELL("Zeile",B$31),N$32:T$65,2,FALSE)," "),"")) | C53: =IF(AND(B53<>"",C$19=L$7),VLOOKUP(B53,L$32:U$65,5,FALSE),IF(AND(B53<>"",CELL("Zeile",B53)-CELL("Zeile",B$31)<=maxzeile),VLOOKUP(CELL("Zeile",B53)-CELL("Zeile",B$31),N$32:U$65,3,FALSE),"")) | G53: =IF(AND(B53<>"",C$19=L$7),VLOOKUP(B53,L$32:U$65,9,FALSE),IF(AND(B53<>"",CELL("Zeile",B53)-CELL("Zeile",B$31)<=maxzeile),VLOOKUP(CELL("Zeile",B53)-CELL("Zeile",B$31),N$32:U$65,7,FALSE),"")) | H53: =IF(AND(B53<>"",C$19=L$7),IF(G$19<>L$11,ROUND(VLOOKUP(B53,L$32:U$65,9,FALSE),VLOOKUP(G$19,L$12:N$15,3,FALSE)),""),IF(AND(B53<>"",CELL("Zeile",B53)-CELL("Zeile",B$31)<=maxzeile),IF(G$19<>L$11,ROUND(VLOOKUP(CELL("Zeile",B53)-CELL("Zeile",B$31),N$32:U$65,7,FALSE),VLOOKUP(G$19,L$12:N$15,3,FALSE)),""),"")) | M53: =IF('4.15'!N$3>0,1,0) -> 0 | N53: =IF(E$19=L$8,CELL("Zeile",M53)-CELL("Zeile",M$31),M53+INDIRECT("N"&CELL("Zeile",M53)-1)) -> 0 | O53: =IF(C$19=L$5,N53,MID(INDIRECT("'4.15'!C$"&'4.15'!N$1+2),12,SEARCH(",",INDIRECT("'4.15'!C$"&'4.15'!N$1+2),12)-12)) -> 4.15 | P53: =INDIRECT("'4.15'!B$"&'4.15'!N$1) -> Signalisierung und Stabilisierung | T53: =INDIRECT("'4.15'!G$"&'4.15'!N$2) -> 0
B54: =IF(C$19=L$7,"",IF(CELL("Zeile",B54)-CELL("Zeile",B$31)<=maxzeile,CONCATENATE(VLOOKUP(CELL("Zeile",B54)-CELL("Zeile",B$31),N$32:T$65,2,FALSE)," "),"")) | C54: =IF(AND(B54<>"",C$19=L$7),VLOOKUP(B54,L$32:U$65,5,FALSE),IF(AND(B54<>"",CELL("Zeile",B54)-CELL("Zeile",B$31)<=maxzeile),VLOOKUP(CELL("Zeile",B54)-CELL("Zeile",B$31),N$32:U$65,3,FALSE),"")) | G54: =IF(AND(B54<>"",C$19=L$7),VLOOKUP(B54,L$32:U$65,9,FALSE),IF(AND(B54<>"",CELL("Zeile",B54)-CELL("Zeile",B$31)<=maxzeile),VLOOKUP(CELL("Zeile",B54)-CELL("Zeile",B$31),N$32:U$65,7,FALSE),"")) | H54: =IF(AND(B54<>"",C$19=L$7),IF(G$19<>L$11,ROUND(VLOOKUP(B54,L$32:U$65,9,FALSE),VLOOKUP(G$19,L$12:N$15,3,FALSE)),""),IF(AND(B54<>"",CELL("Zeile",B54)-CELL("Zeile",B$31)<=maxzeile),IF(G$19<>L$11,ROUND(VLOOKUP(CELL("Zeile",B54)-CELL("Zeile",B$31),N$32:U$65,7,FALSE),VLOOKUP(G$19,L$12:N$15,3,FALSE)),""),"")) | M54: =IF('5.1'!N$3>0,1,0) -> 0 | N54: =IF(E$19=L$8,CELL("Zeile",M54)-CELL("Zeile",M$31),M54+INDIRECT("N"&CELL("Zeile",M54)-1)) -> 0 | O54: =IF(C$19=L$5,N54,MID(INDIRECT("'5.1'!C$"&'5.1'!N$1+2),12,SEARCH(",",INDIRECT("'5.1'!C$"&'5.1'!N$1+2),12)-12)) -> 5.1 | P54: =INDIRECT("'5.1'!B$"&'5.1'!N$1) -> Geoinformationen | T54: =INDIRECT("'5.1'!G$"&'5.1'!N$2) -> 0
B55: =IF(C$19=L$7,"",IF(CELL("Zeile",B55)-CELL("Zeile",B$31)<=maxzeile,CONCATENATE(VLOOKUP(CELL("Zeile",B55)-CELL("Zeile",B$31),N$32:T$65,2,FALSE)," "),"")) | C55: =IF(AND(B55<>"",C$19=L$7),VLOOKUP(B55,L$32:U$65,5,FALSE),IF(AND(B55<>"",CELL("Zeile",B55)-CELL("Zeile",B$31)<=maxzeile),VLOOKUP(CELL("Zeile",B55)-CELL("Zeile",B$31),N$32:U$65,3,FALSE),"")) | G55: =IF(AND(B55<>"",C$19=L$7),VLOOKUP(B55,L$32:U$65,9,FALSE),IF(AND(B55<>"",CELL("Zeile",B55)-CELL("Zeile",B$31)<=maxzeile),VLOOKUP(CELL("Zeile",B55)-CELL("Zeile",B$31),N$32:U$65,7,FALSE),"")) | H55: =IF(AND(B55<>"",C$19=L$7),IF(G$19<>L$11,ROUND(VLOOKUP(B55,L$32:U$65,9,FALSE),VLOOKUP(G$19,L$12:N$15,3,FALSE)),""),IF(AND(B55<>"",CELL("Zeile",B55)-CELL("Zeile",B$31)<=maxzeile),IF(G$19<>L$11,ROUND(VLOOKUP(CELL("Zeile",B55)-CELL("Zeile",B$31),N$32:U$65,7,FALSE),VLOOKUP(G$19,L$12:N$15,3,FALSE)),""),"")) | M55: =IF('6.1'!N$3>0,1,0) -> 0 | N55: =IF(E$19=L$8,CELL("Zeile",M55)-CELL("Zeile",M$31),M55+INDIRECT("N"&CELL("Zeile",M55)-1)) -> 0 | O55: =IF(C$19=L$5,N55,MID(INDIRECT("'6.1'!C$"&'6.1'!N$1+2),12,SEARCH(",",INDIRECT("'6.1'!C$"&'6.1'!N$1+2),12)-12)) -> 6.1 | P55: =INDIRECT("'6.1'!B$"&'6.1'!N$1) -> Kanzleihonorare | T55: =INDIRECT("'6.1'!G$"&'6.1'!N$2) -> 0
B56: =IF(C$19=L$7,"",IF(CELL("Zeile",B56)-CELL("Zeile",B$31)<=maxzeile,CONCATENATE(VLOOKUP(CELL("Zeile",B56)-CELL("Zeile",B$31),N$32:T$65,2,FALSE)," "),"")) | C56: =IF(AND(B56<>"",C$19=L$7),VLOOKUP(B56,L$32:U$65,5,FALSE),IF(AND(B56<>"",CELL("Zeile",B56)-CELL("Zeile",B$31)<=maxzeile),VLOOKUP(CELL("Zeile",B56)-CELL("Zeile",B$31),N$32:U$65,3,FALSE),"")) | G56: =IF(AND(B56<>"",C$19=L$7),VLOOKUP(B56,L$32:U$65,9,FALSE),IF(AND(B56<>"",CELL("Zeile",B56)-CELL("Zeile",B$31)<=maxzeile),VLOOKUP(CELL("Zeile",B56)-CELL("Zeile",B$31),N$32:U$65,7,FALSE),"")) | H56: =IF(AND(B56<>"",C$19=L$7),IF(G$19<>L$11,ROUND(VLOOKUP(B56,L$32:U$65,9,FALSE),VLOOKUP(G$19,L$12:N$15,3,FALSE)),""),IF(AND(B56<>"",CELL("Zeile",B56)-CELL("Zeile",B$31)<=maxzeile),IF(G$19<>L$11,ROUND(VLOOKUP(CELL("Zeile",B56)-CELL("Zeile",B$31),N$32:U$65,7,FALSE),VLOOKUP(G$19,L$12:N$15,3,FALSE)),""),"")) | M56: =IF('6.2'!N$3>0,1,0) -> 0 | N56: =IF(E$19=L$8,CELL("Zeile",M56)-CELL("Zeile",M$31),M56+INDIRECT("N"&CELL("Zeile",M56)-1)) -> 0 | O56: =IF(C$19=L$5,N56,MID(INDIRECT("'6.2'!C$"&'6.2'!N$1+2),12,SEARCH(",",INDIRECT("'6.2'!C$"&'6.2'!N$1+2),12)-12)) -> 6.2 | P56: =INDIRECT("'6.2'!B$"&'6.2'!N$1) -> Regieleistung | T56: =INDIRECT("'6.2'!G$"&'6.2'!N$2) -> 0
B57: =IF(C$19=L$7,"",IF(CELL("Zeile",B57)-CELL("Zeile",B$31)<=maxzeile,CONCATENATE(VLOOKUP(CELL("Zeile",B57)-CELL("Zeile",B$31),N$32:T$65,2,FALSE)," "),"")) | C57: =IF(AND(B57<>"",C$19=L$7),VLOOKUP(B57,L$32:U$65,5,FALSE),IF(AND(B57<>"",CELL("Zeile",B57)-CELL("Zeile",B$31)<=maxzeile),VLOOKUP(CELL("Zeile",B57)-CELL("Zeile",B$31),N$32:U$65,3,FALSE),"")) | G57: =IF(AND(B57<>"",C$19=L$7),VLOOKUP(B57,L$32:U$65,9,FALSE),IF(AND(B57<>"",CELL("Zeile",B57)-CELL("Zeile",B$31)<=maxzeile),VLOOKUP(CELL("Zeile",B57)-CELL("Zeile",B$31),N$32:U$65,7,FALSE),"")) | H57: =IF(AND(B57<>"",C$19=L$7),IF(G$19<>L$11,ROUND(VLOOKUP(B57,L$32:U$65,9,FALSE),VLOOKUP(G$19,L$12:N$15,3,FALSE)),""),IF(AND(B57<>"",CELL("Zeile",B57)-CELL("Zeile",B$31)<=maxzeile),IF(G$19<>L$11,ROUND(VLOOKUP(CELL("Zeile",B57)-CELL("Zeile",B$31),N$32:U$65,7,FALSE),VLOOKUP(G$19,L$12:N$15,3,FALSE)),""),"")) | M57: =IF('6.2a'!N$3>0,1,0) -> 0 | N57: =IF(E$19=L$8,CELL("Zeile",M57)-CELL("Zeile",M$31),M57+INDIRECT("N"&CELL("Zeile",M57)-1)) -> 0 | O57: =IF(C$19=L$5,N57,MID(INDIRECT("'6.2a'!C$"&'6.2a'!N$1+2),12,SEARCH(",",INDIRECT("'6.2a'!C$"&'6.2a'!N$1+2),12)-12)) -> 6.2 | P57: =INDIRECT("'6.2a'!B$"&'6.2a'!N$1) -> Regieleistung A | T57: =INDIRECT("'6.2a'!G$"&'6.2a'!N$2) -> 0
B58: =IF(C$19=L$7,"",IF(CELL("Zeile",B58)-CELL("Zeile",B$31)<=maxzeile,CONCATENATE(VLOOKUP(CELL("Zeile",B58)-CELL("Zeile",B$31),N$32:T$65,2,FALSE)," "),"")) | C58: =IF(AND(B58<>"",C$19=L$7),VLOOKUP(B58,L$32:U$65,5,FALSE),IF(AND(B58<>"",CELL("Zeile",B58)-CELL("Zeile",B$31)<=maxzeile),VLOOKUP(CELL("Zeile",B58)-CELL("Zeile",B$31),N$32:U$65,3,FALSE),"")) | G58: =IF(AND(B58<>"",C$19=L$7),VLOOKUP(B58,L$32:U$65,9,FALSE),IF(AND(B58<>"",CELL("Zeile",B58)-CELL("Zeile",B$31)<=maxzeile),VLOOKUP(CELL("Zeile",B58)-CELL("Zeile",B$31),N$32:U$65,7,FALSE),"")) | H58: =IF(AND(B58<>"",C$19=L$7),IF(G$19<>L$11,ROUND(VLOOKUP(B58,L$32:U$65,9,FALSE),VLOOKUP(G$19,L$12:N$15,3,FALSE)),""),IF(AND(B58<>"",CELL("Zeile",B58)-CELL("Zeile",B$31)<=maxzeile),IF(G$19<>L$11,ROUND(VLOOKUP(CELL("Zeile",B58)-CELL("Zeile",B$31),N$32:U$65,7,FALSE),VLOOKUP(G$19,L$12:N$15,3,FALSE)),""),"")) | M58: =IF('6.2b'!N$3>0,1,0) -> 0 | N58: =IF(E$19=L$8,CELL("Zeile",M58)-CELL("Zeile",M$31),M58+INDIRECT("N"&CELL("Zeile",M58)-1)) -> 0 | O58: =IF(C$19=L$5,N58,MID(INDIRECT("'6.2b'!C$"&'6.2b'!N$1+2),12,SEARCH(",",INDIRECT("'6.2b'!C$"&'6.2b'!N$1+2),12)-12)) -> 6.2 | P58: =INDIRECT("'6.2b'!B$"&'6.2b'!N$1) -> Regieleistung B | T58: =INDIRECT("'6.2b'!G$"&'6.2b'!N$2) -> 0
B59: =IF(C$19=L$7,"",IF(CELL("Zeile",B59)-CELL("Zeile",B$31)<=maxzeile,CONCATENATE(VLOOKUP(CELL("Zeile",B59)-CELL("Zeile",B$31),N$32:T$65,2,FALSE)," "),"")) | C59: =IF(AND(B59<>"",C$19=L$7),VLOOKUP(B59,L$32:U$65,5,FALSE),IF(AND(B59<>"",CELL("Zeile",B59)-CELL("Zeile",B$31)<=maxzeile),VLOOKUP(CELL("Zeile",B59)-CELL("Zeile",B$31),N$32:U$65,3,FALSE),"")) | G59: =IF(AND(B59<>"",C$19=L$7),VLOOKUP(B59,L$32:U$65,9,FALSE),IF(AND(B59<>"",CELL("Zeile",B59)-CELL("Zeile",B$31)<=maxzeile),VLOOKUP(CELL("Zeile",B59)-CELL("Zeile",B$31),N$32:U$65,7,FALSE),"")) | H59: =IF(AND(B59<>"",C$19=L$7),IF(G$19<>L$11,ROUND(VLOOKUP(B59,L$32:U$65,9,FALSE),VLOOKUP(G$19,L$12:N$15,3,FALSE)),""),IF(AND(B59<>"",CELL("Zeile",B59)-CELL("Zeile",B$31)<=maxzeile),IF(G$19<>L$11,ROUND(VLOOKUP(CELL("Zeile",B59)-CELL("Zeile",B$31),N$32:U$65,7,FALSE),VLOOKUP(G$19,L$12:N$15,3,FALSE)),""),"")) | M59: =IF('6.2c'!N$3>0,1,0) -> 0 | N59: =IF(E$19=L$8,CELL("Zeile",M59)-CELL("Zeile",M$31),M59+INDIRECT("N"&CELL("Zeile",M59)-1)) -> 0 | O59: =IF(C$19=L$5,N59,MID(INDIRECT("'6.2c'!C$"&'6.2c'!N$1+2),12,SEARCH(",",INDIRECT("'6.2c'!C$"&'6.2c'!N$1+2),12)-12)) -> 6.2 | P59: =INDIRECT("'6.2c'!B$"&'6.2c'!N$1) -> Regieleistung C | T59: =INDIRECT("'6.2c'!G$"&'6.2c'!N$2) -> 0
B60: =IF(C$19=L$7,"",IF(CELL("Zeile",B60)-CELL("Zeile",B$31)<=maxzeile,CONCATENATE(VLOOKUP(CELL("Zeile",B60)-CELL("Zeile",B$31),N$32:T$65,2,FALSE)," "),"")) | C60: =IF(AND(B60<>"",C$19=L$7),VLOOKUP(B60,L$32:U$65,5,FALSE),IF(AND(B60<>"",CELL("Zeile",B60)-CELL("Zeile",B$31)<=maxzeile),VLOOKUP(CELL("Zeile",B60)-CELL("Zeile",B$31),N$32:U$65,3,FALSE),"")) | G60: =IF(AND(B60<>"",C$19=L$7),VLOOKUP(B60,L$32:U$65,9,FALSE),IF(AND(B60<>"",CELL("Zeile",B60)-CELL("Zeile",B$31)<=maxzeile),VLOOKUP(CELL("Zeile",B60)-CELL("Zeile",B$31),N$32:U$65,7,FALSE),"")) | H60: =IF(AND(B60<>"",C$19=L$7),IF(G$19<>L$11,ROUND(VLOOKUP(B60,L$32:U$65,9,FALSE),VLOOKUP(G$19,L$12:N$15,3,FALSE)),""),IF(AND(B60<>"",CELL("Zeile",B60)-CELL("Zeile",B$31)<=maxzeile),IF(G$19<>L$11,ROUND(VLOOKUP(CELL("Zeile",B60)-CELL("Zeile",B$31),N$32:U$65,7,FALSE),VLOOKUP(G$19,L$12:N$15,3,FALSE)),""),"")) | M60: =IF('6.2d'!N$3>0,1,0) -> 0 | N60: =IF(E$19=L$8,CELL("Zeile",M60)-CELL("Zeile",M$31),M60+INDIRECT("N"&CELL("Zeile",M60)-1)) -> 0 | O60: =IF(C$19=L$5,N60,MID(INDIRECT("'6.2d'!C$"&'6.2d'!N$1+2),12,SEARCH(",",INDIRECT("'6.2d'!C$"&'6.2d'!N$1+2),12)-12)) -> 6.2 | P60: =INDIRECT("'6.2d'!B$"&'6.2d'!N$1) -> Regieleistung D | T60: =INDIRECT("'6.2d'!G$"&'6.2d'!N$2) -> 0
B61: =IF(C$19=L$7,"",IF(CELL("Zeile",B61)-CELL("Zeile",B$31)<=maxzeile,CONCATENATE(VLOOKUP(CELL("Zeile",B61)-CELL("Zeile",B$31),N$32:T$65,2,FALSE)," "),"")) | C61: =IF(AND(B61<>"",C$19=L$7),VLOOKUP(B61,L$32:U$65,5,FALSE),IF(AND(B61<>"",CELL("Zeile",B61)-CELL("Zeile",B$31)<=maxzeile),VLOOKUP(CELL("Zeile",B61)-CELL("Zeile",B$31),N$32:U$65,3,FALSE),"")) | G61: =IF(AND(B61<>"",C$19=L$7),VLOOKUP(B61,L$32:U$65,9,FALSE),IF(AND(B61<>"",CELL("Zeile",B61)-CELL("Zeile",B$31)<=maxzeile),VLOOKUP(CELL("Zeile",B61)-CELL("Zeile",B$31),N$32:U$65,7,FALSE),"")) | H61: =IF(AND(B61<>"",C$19=L$7),IF(G$19<>L$11,ROUND(VLOOKUP(B61,L$32:U$65,9,FALSE),VLOOKUP(G$19,L$12:N$15,3,FALSE)),""),IF(AND(B61<>"",CELL("Zeile",B61)-CELL("Zeile",B$31)<=maxzeile),IF(G$19<>L$11,ROUND(VLOOKUP(CELL("Zeile",B61)-CELL("Zeile",B$31),N$32:U$65,7,FALSE),VLOOKUP(G$19,L$12:N$15,3,FALSE)),""),"")) | M61: =IF('7.1'!N$3>0,1,0) -> 0 | N61: =IF(E$19=L$8,CELL("Zeile",M61)-CELL("Zeile",M$31),M61+INDIRECT("N"&CELL("Zeile",M61)-1)) -> 0 | O61: =IF(C$19=L$5,N61,MID(INDIRECT("'7.1'!C$"&'7.1'!N$1+2),12,SEARCH(",",INDIRECT("'7.1'!C$"&'7.1'!N$1+2),12)-12)) -> 7.1 | P61: =INDIRECT("'7.1'!B$"&'7.1'!N$1) -> Katastereintragung | T61: =INDIRECT("'7.1'!G$"&'7.1'!N$2) -> 0
B62: =IF(C$19=L$7,"",IF(CELL("Zeile",B62)-CELL("Zeile",B$31)<=maxzeile,CONCATENATE(VLOOKUP(CELL("Zeile",B62)-CELL("Zeile",B$31),N$32:T$65,2,FALSE)," "),"")) | C62: =IF(AND(B62<>"",C$19=L$7),VLOOKUP(B62,L$32:U$65,5,FALSE),IF(AND(B62<>"",CELL("Zeile",B62)-CELL("Zeile",B$31)<=maxzeile),VLOOKUP(CELL("Zeile",B62)-CELL("Zeile",B$31),N$32:U$65,3,FALSE),"")) | G62: =IF(AND(B62<>"",C$19=L$7),VLOOKUP(B62,L$32:U$65,9,FALSE),IF(AND(B62<>"",CELL("Zeile",B62)-CELL("Zeile",B$31)<=maxzeile),VLOOKUP(CELL("Zeile",B62)-CELL("Zeile",B$31),N$32:U$65,7,FALSE),"")) | H62: =IF(AND(B62<>"",C$19=L$7),IF(G$19<>L$11,ROUND(VLOOKUP(B62,L$32:U$65,9,FALSE),VLOOKUP(G$19,L$12:N$15,3,FALSE)),""),IF(AND(B62<>"",CELL("Zeile",B62)-CELL("Zeile",B$31)<=maxzeile),IF(G$19<>L$11,ROUND(VLOOKUP(CELL("Zeile",B62)-CELL("Zeile",B$31),N$32:U$65,7,FALSE),VLOOKUP(G$19,L$12:N$15,3,FALSE)),""),"")) | M62: =IF('7.2'!N$3>0,1,0) -> 0 | N62: =IF(E$19=L$8,CELL("Zeile",M62)-CELL("Zeile",M$31),M62+INDIRECT("N"&CELL("Zeile",M62)-1)) -> 0 | O62: =IF(C$19=L$5,N62,MID(INDIRECT("'7.2'!C$"&'7.2'!N$1+2),12,SEARCH(",",INDIRECT("'7.2'!C$"&'7.2'!N$1+2),12)-12)) -> 7.2 | P62: =INDIRECT("'7.2'!B$"&'7.2'!N$1) -> Einbautenerhebung und -eintragung | T62: =INDIRECT("'7.2'!G$"&'7.2'!N$2) -> 0
C63: =IF(maxzeile>31,"Wegen Platzmangel nicht alle Positionen angeführt - ev. nur kalkulierte Pos. anführen!","") | M63: =IF('6.3'!N$3>0,1,0) -> 0 | N63: =IF(E$19=L$8,CELL("Zeile",M63)-CELL("Zeile",M$31),M63+INDIRECT("N"&CELL("Zeile",M63)-1)) -> 0 | O63: =IF(C$19=L$5,N63,MID(INDIRECT("'6.3'!C$"&'6.3'!N$1+2),12,SEARCH(",",INDIRECT("'6.3'!C$"&'6.3'!N$1+2),12)-12)) -> 6.3 | P63: =INDIRECT("'6.3'!B$"&'6.3'!N$1) -> Nebenkosten | T63: =INDIRECT("'6.3'!G$"&'6.3'!N$2) -> 0
C64: =IF(CELL("Zeile",B64)-CELL("Zeile",B$31)<=maxzeile,VLOOKUP(CELL("Zeile",B64)-CELL("Zeile",B$31),M55:T75,2,FALSE),"") | G64: =IF(CELL("Zeile",B64)-CELL("Zeile",B$31)<=maxzeile,VLOOKUP(CELL("Zeile",B64)-CELL("Zeile",B$31),M55:T75,7,FALSE),"")
C65: Zwischensumme: | G65: =SUM(G32:G62) -> 0 | H65: =IF(G$19<>L$11,SUM(H32:H62),"") -> 0 | M65: maxzeile: | N65: =N63 -> 0 | S65: Kontrolle: | T65: =SUM(T$32:T63) -> 0 | U65: =SUM(U$32:U63) -> 0
C66: =IF(E16<>0,E16,"") | D66: =IF(AND(E16<>0,F16<>""),F16,"") | G66: =IF(AND(E16<>0,E16<>""),$G65*C66,"") | H66: =IF(AND(E16<>0,E16<>""),IF(G$19<>L$11,ROUND(H65*C66,VLOOKUP(G$19,L$12:N$15,3,FALSE)),""),"")
C68: =IF(CELL("Zeile",B68)-CELL("Zeile",B$31)<=maxzeile,VLOOKUP(CELL("Zeile",B68)-CELL("Zeile",B$31),M66:T79,2,FALSE),"") | G68: =IF(CELL("Zeile",B68)-CELL("Zeile",B$31)<=maxzeile,VLOOKUP(CELL("Zeile",B68)-CELL("Zeile",B$31),M66:T79,7,FALSE),"")
C69: =IF(G$19=L$11,"Gesamthonorar netto","Gesamthonorar netto - gerundet") -> Gesamthonorar netto - gerundet | G69: =IF(G$19=L$11,SUM(G65,G66),SUM(H65,H66)) -> 0
C70: 20% Mwst. | H70: =G69*0.2 -> 0
C71: =IF(U65>0,"mehrwertsteuerfreie Beträge","") | H71: =IF(U65>0,ROUND(U65,2),"")
C72: Gesamthonorar brutto | G72: =SUM(G69:H71) -> 0

Sheet 3.1
A1: E i n g a b e b e r e i c h | K1: Überschriftszeile Druckbereich: | N1: =CELL("ZEILE",B37) -> 37
C2: Überschrift | D2: Katastervermessung | K2: Ergebniszeile Druckbereich | N2: =CELL("ZEILE",G79) -> 79
K3: Vollständigkeit | N3: =F28 -> 0
B4: L | C4: Länge der Grenze im alten Stand [m] | H4: [m] | K4: L | L4: =IF(ISNUMBER(G4),G4,0) -> 0 | N4: T1 | O4: =IF(L<>0,(1+L/400+n_1/10+n_2/20)*K*(1+n_6/20),0) -> 0 | Q4: T1 = (1+L/400+n1/10+n2/20)*K*(1+n6/20)
B5: n1 | C5: Anzahl der Grenzpunkte auf alten Grenzen | K5: n1 | L5: =IF(ISNUMBER(G5),G5,2) -> 2 | N5: T2 | O5: =IF(L<>0,(0.5+L/200+n_1/100)*K+n_2*(0.1+0.15*s_2),0) -> 0 | Q5: T2 = (0,5+L/200+n1/100)*K+n2*(0,1+0,15*S2)
B6: n2 | C6: Anzahl der Eigentümer | K6: n2 | L6: =IF(ISNUMBER(G6),G6,1) -> 1 | N6: T3 | O6: =IF(L<>0,(0.5+L/400+n_1/12+n_2*(0.05+s_2/2))*K*E*(1+0.3*s_1),0) -> 0 | Q6: T3 = (0,5+L/400+n1/12+n2*(0,05+S2/2))*K*E*(1+0,3*S1)
B7: K | C7: Kataster-Kategorie (Qualität der Grenzen) | G7: M | H7: =VLOOKUP(G7,Konstante!F3:H5,3,FALSE) -> mittlere Qualität | K7: K | L7: =VLOOKUP(G7,Konstante!F3:G5,2,FALSE) -> 1.2 | N7: T4 | O7: =IF(L<>0,(L/200+n_1/20+n_2/20)*(s_1+s_3+s_4+s_5*s_6)+(2*s_7*SQRT(n_4)+IF(s_7=1,SQRT(n_4*n_5)/2,0)+SQRT(n_3)*s_5*(1+s_6/2))*(1+SQRT(F*V)/100),0) -> 0 | Q7: T4 = (L/200+n1/20+n2/20)*(S1+S3+S4+S5*S6)+(2*S7*WURZEL(n4)+WURZEL(n4*n5)/2+WURZEL(n3)*S5*(1+S6/2))*(1+WURZEL(F*V)/100)
B8: E | C8: Geländeklasse und Schwierigkeitsstufe | G8: Ib | K8: E | L8: =VLOOKUP(G8,Konstante!C3:D11,2,FALSE) -> 1.6 | N8: T5 | O8: =IF(L<>0,n_6+0.5*s_2,0) -> 0 | Q8: T5 = n6+0,5*S2
B9: S1 | C9: Aufnahme Naturbestand im Rahmen der Katastervermessung | G9: ja | K9: S1 | L9: =VLOOKUP(G9,Konstante!J$3:K$4,2,FALSE) -> 1 | N9: T6 | O9: =IF(L<>0,(0.5+n_4/2)*s_7*(1+F/1000)*E,0) -> 0 | Q9: T6 = (0,5+n4/2)*S7*(1+F/1000)*E
B10: S2 | C10: Grenzverhandlung | G10: ja | K10: S2 | L10: =VLOOKUP(G10,Konstante!J$3:K$4,2,FALSE) -> 1 | O10: =SUM(O4:O9) -> 0
B11: S3 | C11: Qualitätsverbesserungsplan | G11: nein | K11: S3 | L11: =VLOOKUP(G11,Konstante!J$3:K$4,2,FALSE) -> 0
B12: S4 | C12: Mappenberichtigung, Umwandlung | G12: nein | K12: S4 | L12: =VLOOKUP(G12,Konstante!M3:N6,2,FALSE) -> 0
B13: S5 | C13: Grundstücksvereinigung | G13: nein | K13: S5 | L13: =VLOOKUP(G13,Konstante!J$3:K$4,2,FALSE) -> 0
B14: n3 | C14: Anzahl der zu vereinigenden Grundstücke | K14: n3 | L14: =IF(ISNUMBER(G14),G14,2) -> 2
B15: S6 | C15: Plan für Grundstücksvereinigung erforderlich | G15: nein | K15: S6 | L15: =VLOOKUP(G15,Konstante!J$6:K$7,2,FALSE) -> 0
B16: S7 | C16: Grundteilung | G16: ja | K16: S7 | L16: =VLOOKUP(G16,Konstante!J$3:K$4,2,FALSE) -> 1
B17: n4 | C17: Anzahl der Grundstücke im neuen Stand | K17: n4 | L17: =IF(ISNUMBER(G17),G17,1) -> 1
B18: F | C18: Durchschnittliche Größe der zur Gänze betroffenen Grundstücke | H18: [m2] | K18: F | L18: =IF(ISNUMBER(G18),IF(G18<25,25,G18),25) -> 25
B19: V | C19: Verkehrswert der betroffenen Grundstücke | H19: [€/m2] | K19: V | L19: =IF(ISNUMBER(G19),G19,0) -> 0
B20: n5 | C20: Anzahl der Teilungsentwürfe | K20: n5 | L20: =IF(ISNUMBER(G20),G20,0) -> 0
B21: n6 | C21: Anzahl der Einreichungen | K21: n6 | L21: =IF(ISNUMBER(G21),G21,0) -> 0
F22: Beschreibung:
D23: Zu-/Abschlag in %:
D24: Nebenkosten:
D25: Amtsgebühren:
D26: Amtsgebühren ohne Mwst.:
C28: =IF(F28=0, "UNVOLLSTÄNDIG AUSGEFÜLLT!","") -> UNVOLLSTÄNDIG AUSGEFÜLLT! | F28: =IF(OR(O4<>0,O5<>0,O6<>0,O7<>0,O8<>0,O9<>0),1,0) -> 0 | G28: =IF(VSK<>0, G79,"")
G29: =IF(AND(VSK<>0,NK_3<>0), "zuzügl. Amtsgebühren ohne Mwst.","") | H29: =IF(AND(VSK<>0,NK_3<>0), NK_3,"")
A31: D r u c k b e r e i c h | H31: =IF(VLOOKUP(B37,CHOOSE({5,4,3,2,1},Gesamt!L32:L65,Gesamt!M32:M65,Gesamt!N32:N65,Gesamt!O32:O65,Gesamt!P32:P65,),4,0)>0,CONCATENATE("Pos. ",VLOOKUP(B37,CHOOSE({5,4,3,2,1},Gesamt!L32:L65,Gesamt!M32:M65,Gesamt!N32:N65,Gesamt!O32:O65,Gesamt!P32:P65,),VLOOKUP(Gesamt!C19,Gesamt!L5:N7,3,0),0)),"")
B32: =CONCATENATE(Gesamt!C2, ": ", Gesamt!E2) -> Projekt:
B33: =CONCATENATE(Gesamt!C4, ": ", Gesamt!E4, IF(Gesamt!E5<>""," - ",""), IF(Gesamt!E5<>"",Gesamt!E5,""), IF(Gesamt!E6<>""," - GZ. ",""), IF(Gesamt!E6<>"",Gesamt!E6,""),) -> Auftraggeber:
B34: =CONCATENATE(Gesamt!C9, ": ",Gesamt!E9, IF(Gesamt!C10<>""," - ",""), IF(Gesamt!C10<>"",Gesamt!E10,""), IF(Gesamt!C11<>""," - GZ. ",""), IF(Gesamt!C11<>"",Gesamt!E11,""), ) -> Bieter: - - GZ.
B35: Kalkulationsgrundlage: Leistungsbild für Vermessung und Geoinformation (LB_VG)
B37: =D2 -> Katastervermessung
C39: LB_VG, Pos. 3.1, Tätigkeiten, die bei jeder Katastervermessung erfolgen
C40: In den folgenden Formeln sind sämtliche Leistungen gemäß RVS 06.01.11, Pos. 3.1 bis 3.7 abgedeckt; Pos. 3.6 kann auch mit dem Standardleistungsverzeichnis RLVerm kalkuliert werden.
C42: mittlerer Bürostundensatz: | F42: =IS -> 0
C44: H = (T1 + T2 + T3 + T4 + T5+ T6) * IS + N1 + N2
D45: T1 = (1+L/400+n1/10+n2/20)*K*(1+n6/20)
D46: T2 = (0,5+L/200+n1/100)*K+n2*(0,1+0,15*S2)
D47: T3 = 0,5+L/400+n1/12+n2*(0,05+S2/2)*K*E*(1+0,3*S1)
D48: T4 = (L/200+n1/20+n2/20)*(S1+S3+S4+S5*S6)+(2*S7*WURZEL(n4)+WURZEL(n4*n5)/2
E49: +WURZEL(n3)*S5*(1+S6/2)*(1+WURZEL(F*V)/100)
D50: T5 = n6+0,5*S2
D51: T6 = (0,5+n4/2)*S7*(1+F/1000)*E
C53: L | D53: =G4 -> 0 | E53: Länge der Grenze im alten Stand [m]
C54: n1 | D54: =G5 -> 0 | E54: Anzahl der Grenzpunkte auf alten Grenzen
C55: n2 | D55: =G6 -> 0 | E55: Anzahl der Eigentümer
C56: K | D56: =G7 -> M | E56: Kataster-Kategorie (Qualität der Grenzen)
C57: E | D57: =G8 -> Ib | E57: Geländeklasse und Schwierigkeitsstufe
C58: S1 | D58: =G9 -> ja | E58: Aufnahme Naturbestand im Rahmen der Katastervermessung
C59: S2 | D59: =G10 -> ja | E59: Grenzverhandlung
C60: S3 | D60: =G11 -> nein | E60: Qualitätsverbesserungsplan
C61: S4 | D61: =G12 -> nein | E61: Mappenberichtigung, Umwandlung
C62: S5 | D62: =G13 -> nein | E62: Grundstücksvereinigung
C63: n3 | D63: =G14 -> 0 | E63: Anzahl der zu vereinigenden Grundstücke
C64: S6 | D64: =G15 -> nein | E64: Plan für Grundstücksvereinigung erforderlich
... C70: n6 | D70: =G21 -> 0 | E70: Anzahl der Einreichungen
C72: Honorar: | F72: =IF(F28<>0,ROUND(SUM(O4:O9)*IS,2),0) -> 0
C74: =IF(AND(ZuAbschlag<>0,VSK<>0),"Zu-/Abschlag:","") | E74: =IF(AND(ZuAbschlag<>0,VSK<>0),ZuAbschlag,"") | F74: =IF(AND(ZuAbschlag<>0,VSK<>0),ROUND(ZuAbschlag*F72,2),"") | G74: =IF(AND(NK_1<>0,VSK<>0,F23<>""),CONCATENATE(" ",F23),"")
C75: =IF(AND(NK_1<>0,VSK<>0),"Nebenkosten:","") | F75: =IF(AND(NK_1<>0,VSK<>0),ROUND(NK_1,2),"") | G75: =IF(AND(NK_1<>0,VSK<>0,F24<>""),CONCATENATE(" ",F24),"")
C76: =IF(AND(NK_2<>0,VSK<>0),"Amtsgebühren mit Mwst.:","") | F76: =IF(AND(NK_2<>0,VSK<>0),ROUND(NK_2,2),"") | G76: =IF(AND(NK_2<>0,VSK<>0,F25<>""),CONCATENATE(" ",F25),"")
C78: =IF(E27>0,"Nebenkosten:","") | F78: =IF(E27>0,ROUND(E27,2),"")
C79: Gesamthonorar: | G79: =IF(F28=1,SUM(F72:F76),0) -> 0
F80: =IF(O26<>0,ROUND(O26,2),"")
C81: =IF(AND(NK_3<>0,VSK<>0),"zuzügl. Amtsgebühren ohne Mwst.:","") | F81: =IF(AND(NK_3<>0,VSK<>0),ROUND(NK_3,2),"") | G81: =IF(AND(NK_3<>0,VSK<>0,F26<>""),CONCATENATE(" ",F26),"")

Sheet 4.1.1
A1: E i n g a b e b e r e i c h | K1: Überschriftszeile Druckbereich: | N1: =CELL("ZEILE",B27) -> 27
C2: Überschrift | D2: Ingenieurgeodätische Netzmessung | K2: Ergebniszeile Druckbereich | N2: =CELL("ZEILE",G60) -> 60
K3: Vollständigkeit | N3: =F19 -> 0
C4: Durchschnittlicher Punktabstand [m]: | K4: Punktabstandsklasse: | M4: =IF(H4<=600,1,2) -> 1 | N4: Klasse 1: bis 600m; Klasse 2: über 600m
C5: vorgeschlagene Messmethode: | H5: =IF(H4<=600,"tachymetrisch","GNSS") -> tachymetrisch
C6: Mindestanzahl an Netzpunkten: | H6: =IF(H4<=600,4,1) -> 4 | K6: Konstante!$C$22:$C$23
C7: Anzahl der Netzpunkte: | G7: =IF(n<H6,"Mindestanzahl beachten >>>","") -> Mindestanzahl beachten >>> | K7: Konstante!$C$24:$C$25
C8: Standardabweichung in Lage und Höhe:
C9: G = | D9: =VLOOKUP(E9,Konstante!C22:G25,5,FALSE) -> 1 | E9: L=(2mm+8mm/km) H=(5mm+10mm/km) | I9: =IF(OR(AND(Messmet=Konstante!C31,E9=Konstante!C24),AND(Messmet=Konstante!C31,E9=Konstante!C25),AND(Messmet=Konstante!C32,E9=Konstante!C22),AND(Messmet=Konstante!C32,E9=Konstante!C23),),"<<<<","")
C10: Erschwernis: | G10: E = | H10: 1
C11: =IF(E<1.2,"Punkte ohne größere Umwege und ohne längere Fußwege erreichbar","Punkte über größere Umwege und/oder längere Fußwege erreichbar") -> Punkte ohne größere Umwege und ohne längere Fußwege erreichbar | K11: =Messmet -> tachymetrisch | M11: =IF(Messmet="tachymetrisch",Konstante!J23,Konstante!Q$23) -> 100 | N11: =IF(Messmet="tachymetrisch",Konstante!K23,Konstante!R$23) -> 200 | O11: =IF(Messmet="tachymetrisch",Konstante!L23,Konstante!S$23) -> 300 | P11: =IF(Messmet="tachymetrisch",Konstante!M23,Konstante!T$23) -> 400 | Q11: =IF(Messmet="tachymetrisch",Konstante!N23,Konstante!U$23) -> 600
C12: Wiederholungsmess.: | E12: NEIN | G12: W = | H12: =VLOOKUP(E12,Konstante!C28:D29,2,FALSE) -> 1 | K12: A: erster Wert | M12: =IF(Messmet="tachymetrisch",VLOOKUP(n,Konstante!$I$24:$N$27,2,TRUE),Konstante!Q$24) -> #N/A | N12: =IF(Messmet="tachymetrisch",VLOOKUP(n,Konstante!$I$24:$N$27,3,TRUE),Konstante!R$24) -> #N/A | O12: =IF(Messmet="tachymetrisch",VLOOKUP(n,Konstante!$I$24:$N$27,4,TRUE),Konstante!S$24) -> #N/A | P12: =IF(Messmet="tachymetrisch",VLOOKUP(n,Konstante!$I$24:$N$27,5,TRUE),Konstante!T$24) -> #N/A | Q12: =IF(Messmet="tachymetrisch",VLOOKUP(n,Konstante!$I$24:$N$27,6,TRUE),Konstante!U$24) -> #N/A
C13: inkl. Höhenmess.: | E13: JA | G13: h = | H13: =IF(H5="tachymetrisch",VLOOKUP(E13,Konstante!E28:F29,2,FALSE),1) -> 1.2 | K13: A: zweiter Wert | M13: =IF(Messmet="tachymetrisch",Konstante!J28,Konstante!Q$25) -> 11.74 | N13: =IF(Messmet="tachymetrisch",Konstante!K28,Konstante!R$25) -> 14.54 | O13: =IF(Messmet="tachymetrisch",Konstante!L28,Konstante!S$25) -> 16.23 | P13: =IF(Messmet="tachymetrisch",Konstante!M28,Konstante!T$25) -> 17.32 | Q13: =IF(Messmet="tachymetrisch",Konstante!N28,Konstante!U$25) -> 18.12
C14: =IF(Messmet=Konstante!C32, "h hat keine Relevanz!","")
G15: Beschreibung: | K15: Interpolation: | M15: =IF(PktAbst>M11,IF(PktAbst>N11,IF(PktAbst>O11,IF(PktAbst>P11,IF(PktAbst>Q11,Q11,P11),O11),N11),M11),M11) -> 100 | N15: =IF(PktAbst>M11,IF(PktAbst>N11,IF(PktAbst>O11,IF(PktAbst>P11,Q11,P11),O11),N11),M11) -> 100 | P15: =IF(PktAbst<=M15,0,IF(PktAbst>=N15,1,((PktAbst-M15)/(N15-M15)))) -> 0
C16: Zu/Abschlag in % | K16: A: erster Wert | M16: =IF(PktAbst>M11,IF(PktAbst>N11,IF(PktAbst>O11,IF(PktAbst>P11,IF(PktAbst>Q11,Q12,P12),O12),N12),M12),M12) -> #N/A | N16: =IF(PktAbst>M11,IF(PktAbst>N11,IF(PktAbst>O11,IF(PktAbst>P11,Q12,P12),O12),N12),M12) -> #N/A | P16: =M16+(N16-M16)*P$15 -> #N/A
C17: Nebenkosten | K17: A: zweiter Wert | M17: =IF(PktAbst>M11,IF(PktAbst>N11,IF(PktAbst>O11,IF(PktAbst>P11,IF(PktAbst>Q11,Q13,P13),O13),N13),M13),M13) -> 11.74 | N17: =IF(PktAbst>M11,IF(PktAbst>N11,IF(PktAbst>O11,IF(PktAbst>P13,Q13,P13),O13),N13),M13) -> 11.74 | P17: =M17+(N17-M17)*P$15 -> 11.74 | Q17: =IF(Messmet="tachymetrisch",IF(n>7,n-7,0),IF(n>1,n-1,0)) -> 0 | R17: A = | S17: =IF(VSK>0,P16+Q17*P17,0) -> 0
C19: =IF(F19=0, "UNVOLLSTÄNDIG AUSGEFÜLLT!","") -> UNVOLLSTÄNDIG AUSGEFÜLLT! | F19: =IF(AND(ISNUMBER(H4),ISNUMBER(H7),E9<>"",ISNUMBER(E),ISNUMBER(W),ISNUMBER(h),n>=H6),1,0) -> 0 | G19: =IF(VSK<>0, G60,"")
A21: D r u c k b e r e i c h | I21: =IF(VLOOKUP(B27,CHOOSE({5,4,3,2,1},Gesamt!L32:L65,Gesamt!M32:M65,Gesamt!N32:N65,Gesamt!O32:O65,Gesamt!P32:P65,),4,0)>0,CONCATENATE("Pos. ",VLOOKUP(B27,CHOOSE({5,4,3,2,1},Gesamt!L32:L65,Gesamt!M32:M65,Gesamt!N32:N65,Gesamt!O32:O65,Gesamt!P32:P65,),VLOOKUP(Gesamt!C19,Gesamt!L5:N7,3,0),0)),"")
C22: =CONCATENATE(Gesamt!C2, ": ", Gesamt!E2) -> Projekt:
C23: =CONCATENATE(Gesamt!C4, ": ", Gesamt!E4, IF(Gesamt!E5<>""," - ",""), IF(Gesamt!E5<>"",Gesamt!E5,""), IF(Gesamt!E6<>""," - GZ. ",""), IF(Gesamt!E6<>"",Gesamt!E6,""),) -> Auftraggeber:
C24: =CONCATENATE(Gesamt!C9, ": ",Gesamt!E9, IF(Gesamt!C10<>""," - ",""), IF(Gesamt!C10<>"",Gesamt!E10,""), IF(Gesamt!C11<>""," - GZ. ",""), IF(Gesamt!C11<>"",Gesamt!E11,""), ) -> Bieter: - - GZ.
C25: Kalkulationsgrundlage: Leistungsbild für Vermessung und Geoinformation (LB_VG)
B27: =IF(Messmet=Konstante!C31,CONCATENATE(D2," - tachymetrisch"),CONCATENATE(D2," - GNSS")) -> Ingenieurgeodätische Netzmessung - tachymetrisch
C29: =IF(Messmet=Konstante!C31,"LB_VG, Pos. 4.1.1, Ingenieurgeodätische Netzmessung","LB_VG, Pos. 4.1.2, Ingenieurgeodätische Netzmessung") -> LB_VG, Pos. 4.1.1, Ingenieurgeodätische Netzmessung
C30: =IF(Messmet="tachymetrisch",Konstante!E31,Konstante!E32) -> Bearbeitungsaufwand von Netzen mit durchschnittlichem Punktabstand von max. 600m
C32: mittlerer Bürostundensatz: | E32: =IS -> 0
C34: =IF(Messmet="tachymetrisch",Konstante!M31,Konstante!M32) -> H = (A * G * E * W * h * IS) + N
D36: =PktAbst -> 0 | E36: durchschnittlicher Punktabstand | K36: =IF(VLOOKUP(B27,CHOOSE({5,4,3,2,1},Gesamt!L32:L65,Gesamt!M32:M65,Gesamt!N32:N65,Gesamt!O32:O65,Gesamt!P32:P65,),4,0)>0,CONCATENATE("Pos. ",VLOOKUP(B27,CHOOSE({5,4,3,2,1},Gesamt!L32:L65,Gesamt!M32:M65,Gesamt!N32:N65,Gesamt!O32:O65,Gesamt!P32:P65,),VLOOKUP(Gesamt!C19,Gesamt!L5:N7,3,0),0)),"")
C38: n = | D38: =n -> 0 | E38: Anzahl der Netzpunkte
C39: A = | D39: =IF(ISERROR(A), 0,A) -> 0 | E39: interpolierter Wert aus Tabelle
C40: G = | D40: =G -> 1 | E40: =CONCATENATE("Standardabweichung: ",E9) -> Standardabweichung: L=(2mm+8mm/km) H=(5mm+10mm/km)
C41: E = | D41: =E -> 1 | E41: =IF(E>1,"außerordentliche Erschwernisse","")
C42: W = | D42: =W -> 1 | E42: =IF(W>=1, "Erstmessung", "Wiederholungsmessung") -> Erstmessung
C43: =IF(h>1,"h = ","") -> h = | D43: =IF(h<>1,h,"") -> 1.2 | E43: =IF(h>1,"zusätzliche Höhenmessung ","") -> zusätzliche Höhenmessung
C46: Honorar: | F46: =IF(h>1,PRODUCT(D39,D40,D41,D42,D43,E32),PRODUCT(D39,D40,D41,D42,E32)) -> 0
C56: =IF(AND(ZuAbschlag<>0,VSK<>0),"Zu-/Abschlag:","") | E56: =IF(AND(ZuAbschlag<>0,VSK<>0),ZuAbschlag,"") | F56: =IF(AND(ZuAbschlag<>0,VSK<>0),F46*E56,"") | G56: =IF(AND(ZuAbschlag<>0,VSK<>0,G16<>""),G16,"")
C57: =IF(AND(NK<>0,VSK<>0),"Nebenkosten:","") | F57: =IF(AND(NK<>0,VSK<>0),NK,"") | G57: =IF(AND(NK<>0,VSK<>0,G17<>""),G17,"")
C60: Gesamthonorar: | G60: =IF(VSK>0,SUM(F46,F56,F57),0) -> 0

Sheet 4.1.3
A1: E i n g a b e b e r e i c h | K1: Überschriftszeile Druckbereich: | N1: =CELL("ZEILE",B27) -> 27
C2: Überschrift | D2: Polygonzug | K2: Ergebniszeile Druckbereich | N2: =CELL("ZEILE",G60) -> 60
K3: Vollständigkeit | N3: =F19 -> 0
C4: Art des Poygonzuges: | F4: Feinpolygonzug
C5: Standardabw. in Lage und Höhe: | H5: =IF(Art=Konstante!X30,Konstante!AA30,Konstante!AA31) -> L=(10mm/km) H=(10mm/km)
C7: Leistungsumfang:
C8: ohne Punktbeschreibung und ohne Polygonzugsübersicht, ohne Höhenmessung
C10: Länge des Polygonzuges [km] | K10: Formel: | M10: =VLOOKUP(Art,Konstante!X30:Z31,3,FALSE)+VLOOKUP(C8,Konstante!X23:AG26,10,FALSE) -> 2
C12: Anzahl der Instr.-standpunkte inkl. Anschlusspunkte | K12: Term 1 | M12: =VLOOKUP(M$10,Konstante!AG$23:AQ$31,8,FALSE) -> 2.319
K13: Term 2 | M13: =VLOOKUP(M$10,Konstante!AG$23:AQ$31,9,FALSE) -> 1.694
C14: Geländeklasse/Schwierigkeitsstufe | H14: Ib | K14: Term 3 | M14: =VLOOKUP(M$10,Konstante!AG$23:AQ$31,10,FALSE) -> 0.124
G15: Beschreibung: | K15: Term 4 | M15: =VLOOKUP(M$10,Konstante!AG$23:AQ$31,11,FALSE) -> 0.64
C16: Zu/Abschlag in %
C17: Nebenkosten
C19: =IF(VSK=0, "UNVOLLSTÄNDIG AUSGEFÜLLT!","") -> UNVOLLSTÄNDIG AUSGEFÜLLT! | F19: =IF(AND(ISNUMBER(S_),ISNUMBER(n)),1,0) -> 0 | G19: =IF(VSK<>0, G60,"")
A21: D r u c k b e r e i c h | I21: =IF(VLOOKUP(B27,CHOOSE({5,4,3,2,1},Gesamt!L32:L65,Gesamt!M32:M65,Gesamt!N32:N65,Gesamt!O32:O65,Gesamt!P32:P65,),4,0)>0,CONCATENATE("Pos. ",VLOOKUP(B27,CHOOSE({5,4,3,2,1},Gesamt!L32:L65,Gesamt!M32:M65,Gesamt!N32:N65,Gesamt!O32:O65,Gesamt!P32:P65,),VLOOKUP(Gesamt!C19,Gesamt!L5:N7,3,0),0)),"")
B22: =CONCATENATE(Gesamt!C2, ": ", Gesamt!E2) -> Projekt:
B23: =CONCATENATE(Gesamt!C4, ": ", Gesamt!E4, IF(Gesamt!E5<>""," - ",""), IF(Gesamt!E5<>"",Gesamt!E5,""), IF(Gesamt!E6<>""," - GZ. ",""), IF(Gesamt!E6<>"",Gesamt!E6,""),) -> Auftraggeber:
B24: =CONCATENATE(Gesamt!C9, ": ",Gesamt!E9, IF(Gesamt!C10<>""," - ",""), IF(Gesamt!C10<>"",Gesamt!E10,""), IF(Gesamt!C11<>""," - GZ. ",""), IF(Gesamt!C11<>"",Gesamt!E11,""), ) -> Bieter: - - GZ.
B25: Kalkulationsgrundlage: Leistungsbild für Vermessung und Geoinformation (LB_VG)
B27: =D2 -> Polygonzug
C29: =IF(Art=Konstante!X30,"LB_VG, Pos. 4.1.3, Bearbeitungsaufwand von Feinpolygonzügen","LB_VG, Pos. 4.1.4, Bearbeitungsaufwand von technischen Polygonzügen") -> LB_VG, Pos. 4.1.3, Bearbeitungsaufwand von Feinpolygonzügen
C31: =Art -> Feinpolygonzug
C32: =CONCATENATE("Standardabweichung: ",H5) -> Standardabweichung: L=(10mm/km) H=(10mm/km)
C33: =C8 -> ohne Punktbeschreibung und ohne Polygonzugsübersicht, ohne Höhenmessung
C35: mittlerer Bürostundensatz: | E35: =IS -> 0
C37: =VLOOKUP(M10,Konstante!AG23:AM31,2,FALSE) -> H = ((2,319 * S + 1,694 * n) * f + 0,124 * n + 0,640) * ((S/(n/7))^0,2) * IS + N
C40: S = | D40: =S_ -> 0 | E40: Länge des Polygonzuges
C41: n = | D41: =n -> 0 | E41: Anzahl der Polygonpunkte inkl. Anschlusspunkte
C42: f = | D42: =VLOOKUP(f,Konstante!AE23:AF31,2,FALSE) -> 1.15 | E42: =CONCATENATE(f," - Geländeklasse und Schwierigkeitsstufe") -> Ib - Geländeklasse und Schwierigkeitsstufe
C45: Honorar: | F45: =IF(VSK<>0,((M12*S_+M13*n)*VLOOKUP(f,Konstante!AE23:AF31,2,FALSE)+M14*n+M15)*((S_/(n/7))^0.2)*IS,0) -> 0
C56: =IF(AND(ZuAbschlag<>0,VSK<>0),"Zu-/Abschlag:","") | E56: =IF(AND(ZuAbschlag<>0,VSK<>0),ZuAbschlag,"") | F56: =IF(AND(ZuAbschlag<>0,VSK<>0),F45*E56,"") | G56: =IF(AND(ZuAbschlag<>0,VSK<>0,G16<>""),G16,"")
C57: =IF(AND(NK<>0,VSK<>0),"Nebenkosten:","") | F57: =IF(AND(NK<>0,VSK<>0),NK,"") | G57: =IF(AND(NK<>0,VSK<>0,G17<>""),G17,"")
C60: Gesamthonorar: | G60: =IF(VSK>0,SUM(F45,F56,F57),0) -> 0

Sheet 4.2
A1: E i n g a b e b e r e i c h | K1: Überschriftszeile Druckbereich: | N1: =CELL("ZEILE",B27) -> 27
C2: Überschrift | D2: Einzelpunkteinschaltung | K2: Ergebniszeile Druckbereich | N2: =CELL("ZEILE",G60) -> 60
K3: Vollständigkeit | N3: =F19 -> 0
C4: Leistungsumfang:
C5: mit Topographien und Netzübersicht, ohne Höhenbestimmung
C7: durchschnittliche Seitenlänge zu Bodenzielen in [km]
C9: Geländeklasse/Schwierigkeitsstufe | H9: Ib
C11: Genauigkeitkeitsfaktor | H11: 1
H12: =IF(G=1, "Standardabweichung: L=(10mm+20mm/km), H=(18mm+20mm/km)",IF(G>1,"Standardabweichung besser L=(10mm+20mm/km), H=(18mm+20mm/km","Standardabweichung schlechter L=(10mm+20mm/km), H=(18mm+20mm/km")) -> Standardabweichung: L=(10mm+20mm/km), H=(18mm+20mm/km)
K13: Term 2 | M13: =VLOOKUP($C$5,Konstante!AT$23:BG$26,12,FALSE) -> 1.416
K14: Term 3 | M14: =VLOOKUP($C$5,Konstante!AT$23:BG$26,13,FALSE) -> 7.821
G15: Beschreibung: | K15: Term 4 | M15: =VLOOKUP($C$5,Konstante!AT$23:BG$26,14,FALSE) -> 1
C16: Zu/Abschlag in %
C17: Nebenkosten
C19: =IF(VSK=0, "UNVOLLSTÄNDIG AUSGEFÜLLT!","") -> UNVOLLSTÄNDIG AUSGEFÜLLT! | F19: =IF(AND(ISNUMBER(S_),ISNUMBER(G)),1,0) -> 0 | G19: =IF(VSK<>0, G60,"")
A21: D r u c k b e r e i c h | I21: =IF(VLOOKUP(B27,CHOOSE({5,4,3,2,1},Gesamt!L32:L65,Gesamt!M32:M65,Gesamt!N32:N65,Gesamt!O32:O65,Gesamt!P32:P65,),4,0)>0,CONCATENATE("Pos. ",VLOOKUP(B27,CHOOSE({5,4,3,2,1},Gesamt!L32:L65,Gesamt!M32:M65,Gesamt!N32:N65,Gesamt!O32:O65,Gesamt!P32:P65,),VLOOKUP(Gesamt!C19,Gesamt!L5:N7,3,0),0)),"")
B22: =CONCATENATE(Gesamt!C2, ": ", Gesamt!E2) -> Projekt:
B23: =CONCATENATE(Gesamt!C4, ": ", Gesamt!E4, IF(Gesamt!E5<>""," - ",""), IF(Gesamt!E5<>"",Gesamt!E5,""), IF(Gesamt!E6<>""," - GZ. ",""), IF(Gesamt!E6<>"",Gesamt!E6,""),) -> Auftraggeber:
B24: =CONCATENATE(Gesamt!C9, ": ",Gesamt!E9, IF(Gesamt!C10<>""," - ",""), IF(Gesamt!C10<>"",Gesamt!E10,""), IF(Gesamt!C11<>""," - GZ. ",""), IF(Gesamt!C11<>"",Gesamt!E11,""), ) -> Bieter: - - GZ.
B25: Kalkulationsgrundlage: Leistungsbild für Vermessung und Geoinformation (LB_VG)
B27: =D2 -> Einzelpunkteinschaltung
C29: LB_VG, Pos. 4.2, Einzelpunkteinschaltung
C31: mittlerer Bürostundensatz: | E31: =IS -> 0
C33: =VLOOKUP($C$5,Konstante!AT$23:BG$26,7,FALSE) -> H = ((2,832 * S + 1,416) x f + 7,821) * G * IS + N
C37: S = | D37: =S_ -> 0 | E37: durchschnittliche Seitenlänge zu Bodenzielen
C38: f = | D38: =VLOOKUP(f,Konstante!AE23:AF31,2,FALSE) -> 1.15 | E38: =CONCATENATE(f," - Geländeklasse und Schwierigkeitsstufe") -> Ib - Geländeklasse und Schwierigkeitsstufe
C39: G = | D39: =G -> 1 | E39: Genauigkeitsfaktor
C44: Honorar: | F44: =IF(VSK<>0,((2.832 * S_ + M13) * VLOOKUP(f,Konstante!AE23:AF31,2,FALSE) + M14) * G * M15 * IS,0) -> 0
C56: =IF(AND(ZuAbschlag<>0,VSK<>0),"Zu-/Abschlag:","") | E56: =IF(AND(ZuAbschlag<>0,VSK<>0),ZuAbschlag,"") | F56: =IF(AND(ZuAbschlag<>0,VSK<>0),F44*E56,"") | G56: =IF(AND(ZuAbschlag<>0,VSK<>0,G16<>""),G16,"")
C57: =IF(AND(NK<>0,VSK<>0),"Nebenkosten:","") | F57: =IF(AND(NK<>0,VSK<>0),NK,"") | G57: =IF(AND(NK<>0,VSK<>0,G17<>""),G17,"")
C60: Gesamthonorar: | G60: =IF(VSK>0,SUM(F44,F56,F57),0) -> 0

Sheet 4.3
A1: E i n g a b e b e r e i c h | K1: Überschriftszeile Druckbereich: | N1: =CELL("ZEILE",B27) -> 27
C2: Überschrift | D2: Kreisel-Stütz-Azimut | K2: Ergebniszeile Druckbereich | N2: =CELL("ZEILE",G60) -> 60
K3: Vollständigkeit | N3: =F19 -> 0
C4: Azimut- | D4: Anzahl | F4: Genauigkeits- | H4: Standard-
C5: gruppe | D5: Polygonseiten | F5: faktor | H5: abweichung
C6: 1 | F6: 1 | H6: =IF(F6=1, "1,5 mgon",IF(F6>1,"besser 1,5 mgon","schlechter 1,5 mgon")) -> 1,5 mgon | K6: Vollständigkeit (1): | M6: =IF(AND(ISNUMBER(D6),ISNUMBER(F6)),1,0) -> 0
C7: 2 | F7: 1 | H7: =IF(F7=1, "1,5 mgon",IF(F7>1,"besser 1,5 mgon","schlechter 1,5 mgon")) -> 1,5 mgon | K7: Vollständigkeit (2): | M7: =IF(AND(ISNUMBER(D7),ISNUMBER(F7)),1,0) -> 0
C8: 3 | F8: 1 | H8: =IF(F8=1, "1,5 mgon",IF(F8>1,"besser 1,5 mgon","schlechter 1,5 mgon")) -> 1,5 mgon | K8: Vollständigkeit (3): | M8: =IF(AND(ISNUMBER(D8),ISNUMBER(F8)),1,0) -> 0
C9: 4 | F9: 1 | H9: =IF(F9=1, "1,5 mgon",IF(F9>1,"besser 1,5 mgon","schlechter 1,5 mgon")) -> 1,5 mgon | K9: Vollständigkeit (4): | M9: =IF(AND(ISNUMBER(D9),ISNUMBER(F9)),1,0) -> 0
C10: 5 | F10: 1 | H10: =IF(F10=1, "1,5 mgon",IF(F10>1,"besser 1,5 mgon","schlechter 1,5 mgon")) -> 1,5 mgon | K10: Vollständigkeit (5): | M10: =IF(AND(ISNUMBER(D10),ISNUMBER(F10)),1,0) -> 0
C12: =IF(AND(VSK=0,SUM(M7:M10)>0),"Azimutgruppe 1 ausfüllen!","")
G15: Beschreibung:
C16: Zu/Abschlag in %
C17: Nebenkosten
C19: =IF(VSK=0, "UNVOLLSTÄNDIG AUSGEFÜLLT!","") -> UNVOLLSTÄNDIG AUSGEFÜLLT! | F19: =IF((SUM(M7:M10)*M6+M6)>0,1,0) -> 0 | G19: =IF(VSK<>0, G60,"")
A21: D r u c k b e r e i c h | I21: =IF(VLOOKUP(B27,CHOOSE({5,4,3,2,1},Gesamt!L32:L65,Gesamt!M32:M65,Gesamt!N32:N65,Gesamt!O32:O65,Gesamt!P32:P65,),4,0)>0,CONCATENATE("Pos. ",VLOOKUP(B27,CHOOSE({5,4,3,2,1},Gesamt!L32:L65,Gesamt!M32:M65,Gesamt!N32:N65,Gesamt!O32:O65,Gesamt!P32:P65,),VLOOKUP(Gesamt!C19,Gesamt!L5:N7,3,0),0)),"")
B22: =CONCATENATE(Gesamt!C2, ": ", Gesamt!E2) -> Projekt:
B23: =CONCATENATE(Gesamt!C4, ": ", Gesamt!E4, IF(Gesamt!E5<>""," - ",""), IF(Gesamt!E5<>"",Gesamt!E5,""), IF(Gesamt!E6<>""," - GZ. ",""), IF(Gesamt!E6<>"",Gesamt!E6,""),) -> Auftraggeber:
B24: =CONCATENATE(Gesamt!C9, ": ",Gesamt!E9, IF(Gesamt!C10<>""," - ",""), IF(Gesamt!C10<>"",Gesamt!E10,""), IF(Gesamt!C11<>""," - GZ. ",""), IF(Gesamt!C11<>"",Gesamt!E11,""), ) -> Bieter: - - GZ.
B25: Kalkulationsgrundlage: Leistungsbild für Vermessung und Geoinformation (LB_VG)
B27: =D2 -> Kreisel-Stütz-Azimut
C29: LB_VG, Pos. 4.3, Kreisel-Stütz-Azimut
C31: mittlerer Bürostundensatz: | E31: =IS -> 0
C33: Erste Azimutgruppe: | E33: H = (15 * n + 61,2) * G * IS + N
C34: weitere Azimutgruppe: | E34: H = (15 * n + 31,5) * G * IS + N
C37: Azimut- | D37: Anzahl | E37: Genauigkeits- | F37: Einzel- | H37: Standard-
C38: gruppe | D38: Polygonseiten | E38: faktor | F38: preis | H38: abweichung
C39: =IF($M$6>0,"1","") | D39: =IF($M$6>0,D6,"") | E39: =IF($M$6>0,F6,"") | F39: =IF(VSK<>0, ((15*D39+61.2)*E39*IS),"") | H39: =IF($M$6>0,H6,"")
C40: =IF(AND($M$6>0,M7>0),"2","") | D40: =IF(AND($M$6>0,M7>0),D7,"") | E40: =IF(AND($M$6>0,M7>0),F7,"") | F40: =IF(AND(M7<>0,VSK>0), ((15*D40+31.5)*E40*IS),"") | H40: =IF(AND($M$6>0,M7>0),H7,"")
C41: =IF(AND($M$6>0,M8>0),"3","") | D41: =IF(AND($M$6>0,M8>0),D8,"") | E41: =IF(AND($M$6>0,M8>0),F8,"") | F41: =IF(AND(M8<>0,VSK>0), ((15*D41+31.5)*E41*IS),"") | H41: =IF(AND($M$6>0,M8>0),H8,"")
C42: =IF(AND($M$6>0,M9>0),"4","") | D42: =IF(AND($M$6>0,M9>0),D9,"") | E42: =IF(AND($M$6>0,M9>0),F9,"") | F42: =IF(AND(M9<>0,VSK>0), ((15*D42+31.5)*E42*IS),"") | H42: =IF(AND($M$6>0,M9>0),H9,"")
C43: =IF(AND($M$6>0,M10>0),"5","") | D43: =IF(AND($M$6>0,M10>0),D10,"") | E43: =IF(AND($M$6>0,M10>0),F10,"") | F43: =IF(AND(M10<>0,VSK>0), ((15*D43+31.5)*E43*IS),"") | H43: =IF(AND($M$6>0,M10>0),H10,"")
C46: Honorar: | F46: =IF(VSK<>0,SUM(F39:F43),0) -> 0
C56: =IF(AND(ZuAbschlag<>0,VSK<>0),"Zu-/Abschlag:","") | E56: =IF(AND(ZuAbschlag<>0,VSK<>0),ZuAbschlag,"") | F56: =IF(AND(ZuAbschlag<>0,VSK<>0),E56*F46,"") | G56: =IF(AND(ZuAbschlag<>0,VSK<>0,G16<>""),G16,"")
C57: =IF(AND(NK<>0,VSK<>0),"Nebenkosten:","") | F57: =IF(AND(NK<>0,VSK<>0),NK,"") | G57: =IF(AND(NK<>0,VSK<>0,G17<>""),G17,"")
C60: Gesamthonorar: | G60: =IF(VSK>0,SUM(F46,F56,F57),0) -> 0

Sheet 4.4.2
A1: E i n g a b e b e r e i c h | K1: Überschriftszeile Druckbereich: | N1: =CELL("ZEILE",B27) -> 27
C2: Überschrift | D2: =CONCATENATE("Setzungsmessung - ",C4) -> Setzungsmessung - Nullmessung | K2: Ergebniszeile Druckbereich | N2: =CELL("ZEILE",G60) -> 60
K3: Vollständigkeit | N3: =F19 -> 0
C4: Nullmessung | G4: =IF(C4="Wiederholungsmessung","Anzahl der Wiederholungsmessungen:","") | H4: 1
C6: S | E6: Länge in km als geradlinige Verbindung der zu bestimmenden Punkte
C8: P | E8: Anzahl der zu bestimmenden Punkte
C10: E | D10: =VLOOKUP(E10,Konstante!Y40:Z48,2,FALSE) -> 1 | E10: Ia | F10: Geländeklasse und Schwierigkeitsstufe
C12: G | D12: =VLOOKUP(E12,Konstante!AC40:AD43,2,FALSE) -> 0.6409 | E12: 5mm | F12: Standardabweichung
G15: Beschreibung:
C16: Zu/Abschlag in %
C17: Nebenkosten
C19: =IF(VSK=0, "UNVOLLSTÄNDIG AUSGEFÜLLT!","") -> UNVOLLSTÄNDIG AUSGEFÜLLT! | F19: =IF(AND(ISNUMBER(S_),ISNUMBER(P)),1,0) -> 0 | G19: =IF(VSK<>0, G60,"")
A21: D r u c k b e r e i c h | I21: =IF(VLOOKUP(B27,CHOOSE({5,4,3,2,1},Gesamt!L32:L65,Gesamt!M32:M65,Gesamt!N32:N65,Gesamt!O32:O65,Gesamt!P32:P65,),4,0)>0,CONCATENATE("Pos. ",VLOOKUP(B27,CHOOSE({5,4,3,2,1},Gesamt!L32:L65,Gesamt!M32:M65,Gesamt!N32:N65,Gesamt!O32:O65,Gesamt!P32:P65,),VLOOKUP(Gesamt!C19,Gesamt!L5:N7,3,0),0)),"")
B22: =CONCATENATE(Gesamt!C2, ": ", Gesamt!E2) -> Projekt:
B23: =CONCATENATE(Gesamt!C4, ": ", Gesamt!E4, IF(Gesamt!E5<>""," - ",""), IF(Gesamt!E5<>"",Gesamt!E5,""), IF(Gesamt!E6<>""," - GZ. ",""), IF(Gesamt!E6<>"",Gesamt!E6,""),) -> Auftraggeber:
B24: =CONCATENATE(Gesamt!C9, ": ",Gesamt!E9, IF(Gesamt!C10<>""," - ",""), IF(Gesamt!C10<>"",Gesamt!E10,""), IF(Gesamt!C11<>""," - GZ. ",""), IF(Gesamt!C11<>"",Gesamt!E11,""), ) -> Bieter: - - GZ.
B25: Kalkulationsgrundlage: Leistungsbild für Vermessung und Geoinformation (LB_VG)
B27: =D2 -> Setzungsmessung - Nullmessung
C29: LB_VG, Pos. 4.4.2, Deformationsmessung Höhe (Setzungsmessung, Flächennivellement)
C31: mittlerer Bürostundensatz: | E31: =IS -> 0
C33: =VLOOKUP(C4,Konstante!Y36:AC37,5,FALSE) -> H = (3/(S^0,5) + (5,95 * S + 0,46 * P) * G * E) * IS + N
C36: =C4 -> Nullmessung
C38: S = | D38: =S_ -> 0 | E38: Länge als geradlinige Verbindung der zu bestimmenden Punkte
C39: P = | D39: =P -> 0 | E39: Anzahl der zu bestimmenden Punkte
C40: E = | D40: =E -> 1 | E40: =CONCATENATE("Geländeklasse und Schwierigkeitsstufe: ",E10) -> Geländeklasse und Schwierigkeitsstufe: Ia
C41: G = | D41: =G -> 0.6409 | E41: =CONCATENATE("Standardabweichung Höhe: ", E12) -> Standardabweichung Höhe: 5mm
C42: =IF(AND($M$6>0,M9>0),"4","") | D42: =IF(AND($M$6>0,M9>0),D9,"") | E42: =IF(AND($M$6>0,M9>0),F9,"")
C43: Honorar: | F43: =IF(VSK<>0,((3/(S_^0.5) + (VLOOKUP(C4,Konstante!Y36:AB37,3,FALSE) * S_ + VLOOKUP(C4,Konstante!Y36:AB37,4,FALSE) * P) * G * E)) * IS,0) -> 0
C45: =IF(AND(VSK>0,C4=Konstante!Y37,H4>1),CONCATENATE("insgesamt ", H4, " Folgemessungen: "),"") | F45: =IF(AND(VSK>0,C4=Konstante!Y37,H4>1),H4*F43,"")
C56: =IF(AND(ZuAbschlag<>0,VSK<>0),"Zu-/Abschlag:","") | E56: =IF(AND(ZuAbschlag<>0,VSK<>0),ZuAbschlag,"") | F56: =IF(AND(ZuAbschlag<>0,VSK<>0),IF(AND(H4>1,C4="Wiederholungsmessung"),E56*F45,E56*F43),"") | G56: =IF(AND(ZuAbschlag<>0,VSK<>0,G16<>""),G16,"")
C57: =IF(AND(NK<>0,VSK<>0),"Nebenkosten:","") | F57: =IF(AND(NK<>0,VSK<>0),NK,"") | G57: =IF(AND(NK<>0,VSK<>0,G17<>""),G17,"")
C60: Gesamthonorar: | G60: =IF(VSK>0,IF(AND(H4>1,C4="Wiederholungsmessung"),SUM(F45,F56,F57),SUM(F43,F56,F57)),0) -> 0

Sheet 4.4.x
A1: E i n g a b e b e r e i c h | K1: Überschriftszeile Druckbereich: | N1: =CELL("ZEILE",B27) -> 27
C2: Überschrift | D2: Detailpunkte | K2: Ergebniszeile Druckbereich | N2: =CELL("ZEILE",G60) -> 60
K3: Vollständigkeit | N3: =F19 -> 0
B4: =IF(AND(n>=Ndp+Nds,n<>""),"?","") | C4: n | E4: Anzahl der Standpunkte | G4: =IF(AND(n>=Ndp+Nds,n<>""),"Achtung: n muss kleiner Ndp+Nds sein!","")
C5: Ndp | E5: Anzahl der zugänglichen Detailpunkte
C6: Nds | E6: Anzahl der nicht zugänglichen Detailpunkte
B7: =IF(AND(Nd>Ndp+Nds,Nd<>""),"?","") | C7: Nd | E7: Anzahl der erstmals aufgenommenen Detailpunkte (Nullmessung) | K7: * n muss kleiner Ndp+Nds sein * Nd muss kleiner Ndp+Nds sein * Ndh muss kleiner Ndp+Nds sein
B8: =IF(AND(Ndh>Ndp+Nds,Ndh<>""),"?","") | C8: Ndh | E8: Anzahl der mit trig. Höhenmessung bestimmten Detailpunkte
C9: Es | D9: =VLOOKUP(E9,Konstante!C37:F39,3,FALSE) -> 0 | E9: einfach | F9: Erreichbarkeitszuschlag für Standpunkte
C10: Ed | D10: =VLOOKUP(E10,Konstante!C37:F39,4,FALSE) -> 0 | E10: einfach | F10: Erreichbarkeitszuschlag für Detailpunkte
C11: f | D11: =VLOOKUP(E11,Konstante!C37:F39,2,FALSE) -> 0 | E11: einfach | F11: Geländeklasse und Schwierigkeitsstufe
C12: G | D12: =VLOOKUP(E12,Konstante!C42:E46,3,FALSE) -> 1 | E12: 3mm/5mm | G12: (Standardabweichung Lage/Höhe)
C13: D | D13: =VLOOKUP(E13,Konstante!K36:N45,4,FALSE) -> 1 | E13: Deformationsmessung | H13: Darstellungsfaktor
C14: =IF(AND(E13=Konstante!K36,Nd=0),"Anz","") -> Anz | D14: 1 | E14: =IF(AND(E13=Konstante!K36,Nd>0),"Möglichkeit der Eingabe einer Anzahl von Folgemess., wenn Nd=0!",IF(AND(E13=Konstante!K36,Nd=0)," Anzahl der Folgemessungen","")) -> Anzahl der Folgemessungen
G15: Beschreibung:
C16: Zu/Abschlag in % | E16: 0
C17: Nebenkosten | E17: 0
C19: =IF(VSK=0, "UNVOLLSTÄNDIG AUSGEFÜLLT!","") -> UNVOLLSTÄNDIG AUSGEFÜLLT! | F19: =IF(AND(ISNUMBER(n),ISNUMBER(Ndp),ISNUMBER(Nds),ISNUMBER(Nd),ISNUMBER(Ndh),ISNUMBER(Es),ISNUMBER(Ed),ISNUMBER(f),ISNUMBER(G),ISNUMBER(D)),1,0) -> 0 | G19: =IF(VSK<>0, G60,"")
A21: D r u c k b e r e i c h | I21: =IF(VLOOKUP(B27,CHOOSE({5,4,3,2,1},Gesamt!L32:L65,Gesamt!M32:M65,Gesamt!N32:N65,Gesamt!O32:O65,Gesamt!P32:P65,),4,0)>0,CONCATENATE("Pos. ",VLOOKUP(B27,CHOOSE({5,4,3,2,1},Gesamt!L32:L65,Gesamt!M32:M65,Gesamt!N32:N65,Gesamt!O32:O65,Gesamt!P32:P65,),VLOOKUP(Gesamt!C19,Gesamt!L5:N7,3,0),0)),"")
B22: =CONCATENATE(Gesamt!C2, ": ", Gesamt!E2) -> Projekt:
B23: =CONCATENATE(Gesamt!C4, ": ", Gesamt!E4, IF(Gesamt!E5<>""," - ",""), IF(Gesamt!E5<>"",Gesamt!E5,""), IF(Gesamt!E6<>""," - GZ. ",""), IF(Gesamt!E6<>"",Gesamt!E6,""),) -> Auftraggeber:
B24: =CONCATENATE(Gesamt!C9, ": ",Gesamt!E9, IF(Gesamt!C10<>""," - ",""), IF(Gesamt!C10<>"",Gesamt!E10,""), IF(Gesamt!C11<>""," - GZ. ",""), IF(Gesamt!C11<>"",Gesamt!E11,""), ) -> Bieter: - - GZ.
B25: Kalkulationsgrundlage: Leistungsbild für Vermessung und Geoinformation (LB_VG)
B27: =D2 -> Detailpunkte
C29: =CONCATENATE("LB_VG, Pos. ", VLOOKUP(E13,Konstante!K36:T45,5,FALSE)) -> LB_VG, Pos. 4.4.1, Deformationsmessung Lage und Höhe
C31: mittlerer Bürostundensatz: | E31: =IS -> 0
C33: H = | D33: (12,145+(0,847*n^0,4*(1+Es)+(0,42*Ndp^0,8+0,2555*Nd^0,8+0,056*Ndh^0,8)*(1+Ed)+
D34: 0,2625*Nds^0,8)*(n*15/(Ndp+Nds))^0,4)*G*(1+f)*D*IS+N
C36: n = | D36: =n -> 0 | E36: Anzahl der Stadpunkte
C37: Ndp = | D37: =Ndp -> 0 | E37: Anzahl der zugänglichen Detailpunkte
C38: Nds = | D38: =Nds -> 0 | E38: Anzahl der nicht zugänglichen Detailpunkte
C39: Nd = | D39: =Nd -> 0 | E39: Anzahl der erstmals aufgenommenen Detailpunkte (Nullmessung)
C40: Ndh = | D40: =Ndh -> 0 | E40: Anzahl der mit trig. Höhenmessung bestimmten Detailpunkte
C41: Es = | D41: =Es -> 0 | E41: =CONCATENATE("Erreichbarkeit der Standpunkte: ", E9) -> Erreichbarkeit der Standpunkte: einfach
C42: Ed = | D42: =Ed -> 0 | E42: =CONCATENATE("Erreichbarkeit der Detailpunkte: ",E10) -> Erreichbarkeit der Detailpunkte: einfach
C43: f = | D43: =f -> 0 | E43: =CONCATENATE("Geländeklasse und Schwierigkeitsstufe: ",E11) -> Geländeklasse und Schwierigkeitsstufe: einfach
C44: G = | D44: =G -> 1 | E44: =CONCATENATE("Standardabweichung Lage/Höhe: ", E12) -> Standardabweichung Lage/Höhe: 3mm/5mm
C45: D = | D45: =D -> 1 | E45: =CONCATENATE("Darstellungsfaktor (",E13,")") -> Darstellungsfaktor (Deformationsmessung)
C48: Honorar: | F48: =IF(VSK<>0,(12.145+(0.847*n^0.4*(1+Es)+(0.42*Ndp^0.8+0.2555*Nd^0.8+0.056*Ndh^0.8)*(1+Ed)+0.2625*Nds^0.8)*(n*15/(Ndp+Nds))^0.4)*G*(1+f)*D*IS,0) -> 0
C50: =IF(AND(VSK>0,D14>1,E13=Konstante!K36,Nd=0),CONCATENATE("insgesamt ", D14, " Folgemessungen: "),"") | F50: =IF(AND(VSK>0,D14>1,E13=Konstante!K36,Nd=0),D14*F48,"")
C56: =IF(AND(ZuAbschlag<>0,VSK<>0),"Zu-/Abschlag:","") | E56: =IF(AND(ZuAbschlag<>0,VSK<>0),ZuAbschlag,"") | F56: =IF(AND(ZuAbschlag<>0,VSK<>0),IF(AND(VSK>0,D14>1,E13=Konstante!K36,Nd=0),E56*F50,E56*F48),"") | G56: =IF(AND(ZuAbschlag<>0,VSK<>0,G16<>""),G16,"")
C57: =IF(AND(NK<>0,VSK<>0),"Nebenkosten:","") | F57: =IF(AND(NK<>0,VSK<>0),NK,"") | G57: =IF(AND(NK<>0,VSK<>0,G17<>""),G17,"")
C60: Gesamthonorar: | G60: =IF(VSK>0,IF(AND(VSK>0,D14>1,E13=Konstante!K36,Nd=0),SUM(F50,F56,F57),SUM(F48,F56,F57)),0) -> 0

Sheet 4.5
A1: E i n g a b e b e r e i c h | K1: Überschriftszeile Druckbereich: | N1: =CELL("ZEILE",B60) -> 60
C2: Punktbestimmung durch kinematische GNSS-Messung | K2: Ergebniszeile Druckbereich | N2: =CELL("ZEILE",G92) -> 92
K3: Vollständigkeit | N3: =E52 -> 0
C4: Qualifikation/Beschreibung | G4: Kürzel | H4: EP
C5: ='6.2'!C8:F8 -> Messgehilfe | G5: ='6.2'!G8 -> Geh. | H5: ='6.2'!H8 -> 0
C6: ='6.2'!C9:F9 -> Schreibkraft | G6: ='6.2'!G9 -> Sek. | H6: ='6.2'!H9 -> 0
C7: ='6.2'!C10:F10 -> Techniker | G7: ='6.2'!G10 -> Tech. | H7: ='6.2'!H10 -> 0
C8: ='6.2'!C11:F11 -> Nachtzuschlag Techniker | G8: ='6.2'!G11 -> NZ-Techn. | H8: ='6.2'!H11 -> 0
C9: ='6.2'!C12:F12 -> CAD-Auswertestunde | G9: ='6.2'!G12 -> CAD | H9: ='6.2'!H12 -> 0
C10: ='6.2'!C13:F13 -> Ingenieur | G10: ='6.2'!G13 -> Ing. | H10: ='6.2'!H13 -> 0
C11: ='6.2'!C14:F14 -> Nachtzuschlag Ingenieur | G11: ='6.2'!G14 -> NZ-Ing. | H11: ='6.2'!H14 -> 0
C12: ='6.2'!C15:F15 -> qualifizierter Ingenieur | G12: ='6.2'!G15 -> qu.Ing. | H12: ='6.2'!H15 -> 0
C13: ='6.2'!C16:F16 -> Ziviltechnikerleistung | G13: ='6.2'!G16 -> ZT | H13: ='6.2'!H16 -> 0
C14: ='6.2'!C17:F17 -> 1-Personen-Partie inkl. Gerät | G14: ='6.2'!G17 -> 1MP | H14: ='6.2'!H17 -> 0
C15: ='6.2'!C18:F18 -> 2-Personen-Partie inkl. Gerät | G15: ='6.2'!G18 -> 2MP | H15: ='6.2'!H18 -> 0
C16: ='6.2'!C19:F19 -> Nachtzuschlag 1-Personen-Partie | G16: ='6.2'!G19 -> NZ-1MP | H16: ='6.2'!H19 -> 0
... C24: ='6.2'!C27:F27 -> Barauslagen | G24: ='6.2'!G27 -> Bar | H24: ='6.2'!H27 -> 1
C26: Pos. | D26: Leistungsbeschreibung | E26: Qual. | F26: Std./Anz. | G26: EP | H26: gesamt (€)
G27: =IF(E27<>"",VLOOKUP(E27,G$5:H$18,2,FALSE),"") | H27: =IF(AND(E27<>"",F27<>"",F27>0),F27*G27,"")
G28: =IF(E28<>"",VLOOKUP(E28,G$5:H$18,2,FALSE),"") | H28: =IF(AND(E28<>"",F28<>"",F28>0),F28*G28,"")
G29: =IF(E29<>"",VLOOKUP(E29,G$5:H$18,2,FALSE),"") | H29: =IF(AND(E29<>"",F29<>"",F29>0),F29*G29,"")
G30: =IF(E30<>"",VLOOKUP(E30,G$5:H$18,2,FALSE),"") | H30: =IF(AND(E30<>"",F30<>"",F30>0),F30*G30,"")
G31: =IF(E31<>"",VLOOKUP(E31,G$5:H$18,2,FALSE),"") | H31: =IF(AND(E31<>"",F31<>"",F31>0),F31*G31,"")
G32: =IF(E32<>"",VLOOKUP(E32,G$5:H$18,2,FALSE),"") | H32: =IF(AND(E32<>"",F32<>"",F32>0),F32*G32,"")
G33: =IF(E33<>"",VLOOKUP(E33,G$5:H$18,2,FALSE),"") | H33: =IF(AND(E33<>"",F33<>"",F33>0),F33*G33,"")
G34: =IF(E34<>"",VLOOKUP(E34,G$5:H$18,2,FALSE),"") | H34: =IF(AND(E34<>"",F34<>"",F34>0),F34*G34,"")
G35: =IF(E35<>"",VLOOKUP(E35,G$5:H$18,2,FALSE),"") | H35: =IF(AND(E35<>"",F35<>"",F35>0),F35*G35,"")
G36: =IF(E36<>"",VLOOKUP(E36,G$5:H$18,2,FALSE),"") | H36: =IF(AND(E36<>"",F36<>"",F36>0),F36*G36,"")
G37: =IF(E37<>"",VLOOKUP(E37,G$5:H$18,2,FALSE),"") | H37: =IF(AND(E37<>"",F37<>"",F37>0),F37*G37,"")
G38: =IF(E38<>"",VLOOKUP(E38,G$5:H$18,2,FALSE),"") | H38: =IF(AND(E38<>"",F38<>"",F38>0),F38*G38,"")
... G46: =IF(E46<>"",VLOOKUP(E46,G$5:H$18,2,FALSE),"") | H46: =IF(AND(E46<>"",F46<>"",F46>0),F46*G46,"")
H47: =IF(VSK<>0, SUM(H27:H46),"")
F48: Beschreibung:
C49: Zu/Abschlag in %
C50: Nebenkosten in €
C52: =IF(VSK=0, "UNVOLLSTÄNDIG AUSGEFÜLLT!","") -> UNVOLLSTÄNDIG AUSGEFÜLLT! | E52: =IF(SUM(H27:H46)>0,1,0) -> 0 | G52: =IF(VSK<>0, G92,"")
A54: D r u c k b e r e i c h | I54: =IF(VLOOKUP(B32,CHOOSE({5,4,3,2,1},Gesamt!L32:L65,Gesamt!M32:M65,Gesamt!N32:N65,Gesamt!O32:O65,Gesamt!P32:P65,),4,0)>0,CONCATENATE("Pos. ",VLOOKUP(B32,CHOOSE({5,4,3,2,1},Gesamt!L32:L65,Gesamt!M32:M65,Gesamt!N32:N65,Gesamt!O32:O65,Gesamt!P32:P65,),VLOOKUP(Gesamt!C19,Gesamt!L5:N7,3,0),0)),"")
B55: =CONCATENATE(Gesamt!C2, ": ", Gesamt!E2) -> Projekt:
B56: =CONCATENATE(Gesamt!C4, ": ", Gesamt!E4, IF(Gesamt!E5<>""," - ",""), IF(Gesamt!E5<>"",Gesamt!E5,""), IF(Gesamt!E6<>""," - GZ. ",""), IF(Gesamt!E6<>"",Gesamt!E6,""),) -> Auftraggeber:
B57: =CONCATENATE(Gesamt!C9, ": ",Gesamt!E9, IF(Gesamt!C10<>""," - ",""), IF(Gesamt!C10<>"",Gesamt!E10,""), IF(Gesamt!C11<>""," - GZ. ",""), IF(Gesamt!C11<>"",Gesamt!E11,""), ) -> Bieter: - - GZ.
B58: Kalkulationsgrundlage: Leistungsbild für Vermessung und Geoinformation (LB_VG)
B60: =C2 -> Punktbestimmung durch kinematische GNSS-Messung
C62: =CONCATENATE("LB_VG, Pos. 4.5, ",C2) -> LB_VG, Pos. 4.5, Punktbestimmung durch kinematische GNSS-Messung
C64: mittlerer Bürostundensatz: | E64: =IS -> 0
C66: Pos. | D66: Leistungsbeschreibung | E66: Qual. | F66: Std./Anz. | G66: EP | H66: gesamt (€)
C67: =IF(C27<>"",C27,"") | D67: =IF(D27<>"",D27,"") | E67: =IF(E27<>"",E27,"") | F67: =IF(F27<>"",F27,"") | G67: =IF(G27<>"",G27,"") | H67: =IF(H27<>"",H27,"") | K67: Mit Start > Format > Zeilenhöhe automatisch anpassen können mehrzeilige Leistungsbeschreibungen formatiert werden
C68: =IF(C28<>"",C28,"") | D68: =IF(D28<>"",D28,"") | E68: =IF(E28<>"",E28,"") | F68: =IF(F28<>"",F28,"") | G68: =IF(G28<>"",G28,"") | H68: =IF(H28<>"",H28,"")
C69: =IF(C29<>"",C29,"") | D69: =IF(D29<>"",D29,"") | E69: =IF(E29<>"",E29,"") | F69: =IF(F29<>"",F29,"") | G69: =IF(G29<>"",G29,"") | H69: =IF(H29<>"",H29,"")
C70: =IF(C30<>"",C30,"") | D70: =IF(D30<>"",D30,"") | E70: =IF(E30<>"",E30,"") | F70: =IF(F30<>"",F30,"") | G70: =IF(G30<>"",G30,"") | H70: =IF(H30<>"",H30,"")
C71: =IF(C31<>"",C31,"") | D71: =IF(D31<>"",D31,"") | E71: =IF(E31<>"",E31,"") | F71: =IF(F31<>"",F31,"") | G71: =IF(G31<>"",G31,"") | H71: =IF(H31<>"",H31,"")
C72: =IF(C32<>"",C32,"") | D72: =IF(D32<>"",D32,"") | E72: =IF(E32<>"",E32,"") | F72: =IF(F32<>"",F32,"") | G72: =IF(G32<>"",G32,"") | H72: =IF(H32<>"",H32,"")
C73: =IF(C33<>"",C33,"") | D73: =IF(D33<>"",D33,"") | E73: =IF(E33<>"",E33,"") | F73: =IF(F33<>"",F33,"") | G73: =IF(G33<>"",G33,"") | H73: =IF(H33<>"",H33,"")
C74: =IF(C34<>"",C34,"") | D74: =IF(D34<>"",D34,"") | E74: =IF(E34<>"",E34,"") | F74: =IF(F34<>"",F34,"") | G74: =IF(G34<>"",G34,"") | H74: =IF(H34<>"",H34,"")
C75: =IF(C35<>"",C35,"") | D75: =IF(D35<>"",D35,"") | E75: =IF(E35<>"",E35,"") | F75: =IF(F35<>"",F35,"") | G75: =IF(G35<>"",G35,"") | H75: =IF(H35<>"",H35,"")
C76: =IF(C36<>"",C36,"") | D76: =IF(D36<>"",D36,"") | E76: =IF(E36<>"",E36,"") | F76: =IF(F36<>"",F36,"") | G76: =IF(G36<>"",G36,"") | H76: =IF(H36<>"",H36,"")
C77: =IF(C37<>"",C37,"") | D77: =IF(D37<>"",D37,"") | E77: =IF(E37<>"",E37,"") | F77: =IF(F37<>"",F37,"") | G77: =IF(G37<>"",G37,"") | H77: =IF(H37<>"",H37,"")
C78: =IF(C38<>"",C38,"") | D78: =IF(D38<>"",D38,"") | E78: =IF(E38<>"",E38,"") | F78: =IF(F38<>"",F38,"") | G78: =IF(G38<>"",G38,"") | H78: =IF(H38<>"",H38,"")
C79: =IF(C39<>"",C39,"") | D79: =IF(D39<>"",D39,"") | E79: =IF(E39<>"",E39,"") | F79: =IF(F39<>"",F39,"") | G79: =IF(G39<>"",G39,"") | H79: =IF(H39<>"",H39,"")
... C86: =IF(C46<>"",C46,"") | D86: =IF(D46<>"",D46,"") | E86: =IF(E46<>"",E46,"") | F86: =IF(F46<>"",F46,"") | G86: =IF(G46<>"",G46,"") | H86: =IF(H46<>"",H46,"")
G87: =IF(VSK<>0, SUM(H67:H86),"")
C89: =IF(AND(ZuAbschlag<>0,VSK<>0),"Zu-/Abschlag:","") | E89: =IF(AND(ZuAbschlag<>0,VSK<>0),ZuAbschlag,"") | F89: =IF(AND(ZuAbschlag<>0,VSK<>0),G87*E89,"") | G89: =IF(AND(ZuAbschlag<>0,VSK<>0,F49<>""),F49,"")
C90: =IF(AND(NK<>0,VSK<>0),"Nebenkosten:","") | F90: =IF(AND(NK<>0,VSK<>0),NK,"") | G90: =IF(AND(NK<>0,VSK<>0,F50<>""),F50,"")
C92: Gesamthonorar: | G92: =IF(VSK>0,SUM(F90,F89,G87),0) -> 0

Sheet 4.6
A1: E i n g a b e b e r e i c h | K1: Überschriftszeile Druckbereich: | N1: =CELL("ZEILE",B27) -> 27
C2: Überschrift | D2: Nivellement | K2: Ergebniszeile Druckbereich | N2: =CELL("ZEILE",G60) -> 60
K3: Vollständigkeit | N3: =F19 -> 0
C4: Technisches Nivellement | E4: Art des Nivellements
C6: G | D6: =VLOOKUP(C4,Konstante!C52:E54,3,FALSE) -> 0.297 | E6: Genauigkeitsfaktor gemäß Art des Nivellements
C8: S | E8: Einfacher Nivellementweg in km
C10: n | E10: Anzahl der zu topographierenden Nivellementpunkte
C12: f | D12: =VLOOKUP(E12,Konstante!G53:H61,2,FALSE) -> 1.15 | E12: Ib | F12: Geländeklasse und Schwierigkeitsstufe
G15: Beschreibung:
C16: Zu/Abschlag in %
C17: Nebenkosten
C19: =IF(VSK=0, "UNVOLLSTÄNDIG AUSGEFÜLLT!","") -> UNVOLLSTÄNDIG AUSGEFÜLLT! | F19: =IF(AND(ISNUMBER(S_),ISNUMBER(n)),1,0) -> 0 | G19: =IF(VSK<>0, G60,"")
A21: D r u c k b e r e i c h | I21: =IF(VLOOKUP(B27,CHOOSE({5,4,3,2,1},Gesamt!L32:L65,Gesamt!M32:M65,Gesamt!N32:N65,Gesamt!O32:O65,Gesamt!P32:P65,),4,0)>0,CONCATENATE("Pos. ",VLOOKUP(B27,CHOOSE({5,4,3,2,1},Gesamt!L32:L65,Gesamt!M32:M65,Gesamt!N32:N65,Gesamt!O32:O65,Gesamt!P32:P65,),VLOOKUP(Gesamt!C19,Gesamt!L5:N7,3,0),0)),"")
B22: =CONCATENATE(Gesamt!C2, ": ", Gesamt!E2) -> Projekt:
B23: =CONCATENATE(Gesamt!C4, ": ", Gesamt!E4, IF(Gesamt!E5<>""," - ",""), IF(Gesamt!E5<>"",Gesamt!E5,""), IF(Gesamt!E6<>""," - GZ. ",""), IF(Gesamt!E6<>"",Gesamt!E6,""),) -> Auftraggeber:
B24: =CONCATENATE(Gesamt!C9, ": ",Gesamt!E9, IF(Gesamt!C10<>""," - ",""), IF(Gesamt!C10<>"",Gesamt!E10,""), IF(Gesamt!C11<>""," - GZ. ",""), IF(Gesamt!C11<>"",Gesamt!E11,""), ) -> Bieter: - - GZ.
B25: Kalkulationsgrundlage: Leistungsbild für Vermessung und Geoinformation (LB_VG)
B27: =D2 -> Nivellement
C29: LB_VG, Pos. 4.6, Nivellement
C31: mittlerer Bürostundensatz: | E31: =IS -> 0
C33: H = (13,963 * S * G * f + 0,293 * n + 0,595) * IS + N
C36: =C4 -> Technisches Nivellement
C38: G = | D38: =G -> 0.297 | E38: Genauigkeitsfaktor gemäß Art des Nivellements | O38: =IF(VLOOKUP(B27,CHOOSE({5,4,3,2,1},Gesamt!L32:L65,Gesamt!M32:M65,Gesamt!N32:N65,Gesamt!O32:O65,Gesamt!P32:P65,),4,0)>0,CONCATENATE("Pos. ",VLOOKUP(B27,CHOOSE({5,4,3,2,1},Gesamt!L32:L65,Gesamt!M32:M65,Gesamt!N32:N65,Gesamt!O32:O65,Gesamt!P32:P65,),VLOOKUP(Gesamt!C19,Gesamt!L5:N7,3,0),0)),"")
C39: S = | D39: =S_ -> 0 | E39: Einfacher Nivellementweg in km
C40: n = | D40: =n -> 0 | E40: Anzahl der zu topographierenden Nivellementpunkte
C41: f = | D41: =f -> 1.15 | E41: =CONCATENATE("Geländeklasse und Schwierigkeitsstufe: ",E12) -> Geländeklasse und Schwierigkeitsstufe: Ib
C42: =IF(AND($M$6>0,M9>0),"4","") | D42: =IF(AND($M$6>0,M9>0),D9,"") | E42: =IF(AND($M$6>0,M9>0),F9,"")
C43: Honorar: | F43: =IF(VSK<>0, (13.963 * S_* G * f + 0.293 * n + 0.595) * IS,0) -> 0
C45: =IF(AND(VSK>0,C4="Wiederholungsmessung",H4>1),CONCATENATE("insgesamt ", H4, " Folgemessungen: "),"") | F45: =IF(AND(VSK>0,C4="Wiederholungsmessung",H4>1),H4*F43,"")
C56: =IF(AND(ZuAbschlag<>0,VSK<>0),"Zu-/Abschlag:","") | E56: =IF(AND(ZuAbschlag<>0,VSK<>0),ZuAbschlag,"") | F56: =IF(AND(ZuAbschlag<>0,VSK<>0),F43*E56,"") | G56: =IF(AND(ZuAbschlag<>0,VSK<>0,G16<>""),G16,"")
C57: =IF(AND(NK<>0,VSK<>0),"Nebenkosten:","") | F57: =IF(AND(NK<>0,VSK<>0),NK,"") | G57: =IF(AND(NK<>0,VSK<>0,G17<>""),G17,"")
C60: Gesamthonorar: | G60: =IF(VSK>0,IF(AND(H4>1,C4="Wiederholungsmessung"),SUM(F45,F56,F57),SUM(F43,F56,F57)),0) -> 0

Sheet 4.7.1
A1: E i n g a b e b e r e i c h | K1: Überschriftszeile Druckbereich: | N1: =CELL("ZEILE",B27) -> 27 | P1: 0-60 Züge/Tag | R1: 0
C2: Überschrift | D2: Lage- und Höhenplan | K2: Ergebniszeile Druckbereich | N2: =CELL("ZEILE",G71) -> 71 | P2: 61-120 Züge/Tag | R2: 0.03
E3: T e i l b e r e i c h e | K3: Vollständigkeit | N3: =F19 -> 0 | P3: 121-220 Züge/Tag | R3: 0.06
E4: 1 | F4: 2 | G4: 3 | H4: 4 | P4: 221-300 Züge/Tag | R4: 0.1
C5: Maßstab | E5: 1:500 | F5: 1:500 | G5: 1:500 | H5: 1:500 | P5: über 300 Züge/Tag | R5: 0.14
C6: Anzahl der Layer | E6: 1-20 | F6: 1-20 | G6: 1-20 | H6: 1-20 | L6: ja
C7: Fläche [ha] | D7: =SUM(E7:H7) -> 0 | L7: nein
C8: Geländeklasse | E8: Ib | F8: Ib | G8: Ib | H8: Ib
C9: Länge [km] | D9: =SUM(E9:H9) -> 0 | K9: Bereich | L9: Fläche | M9: f | N9: k | O9: d | P9: Honorar | Q9: Höhenlinien | R9: Höhenk. frei | S9: Polygozug | T9: Detailp. | U9: Ream: | V9: VerkZuschl. | W9: Gesamt
C10: Zuschlag Polygonzug | E10: ja | F10: ja | G10: ja | H10: ja | K10: 1 | L10: =IF(AND(E7>0,E7<0.5),0.5,E7) -> 0 | M10: =IF(ISNUMBER(E$7),IF((0.8944-SQRT(L10/($E$9*10)))*0.8944<0,0,(0.8944-SQRT(L10/($E$9*10)))*0.8944),0) -> 0 | N10: =VLOOKUP(E8,INDIRECT(VLOOKUP($E$5,Konstante!$AH$68:$AL$72,2,FALSE)),VLOOKUP(L10,Konstante!$AH$75:$AI$78,2,TRUE)) -> -12.26 | O10: =VLOOKUP(E8,INDIRECT(VLOOKUP($E$5,Konstante!$AH$68:$AL$72,4,FALSE)),VLOOKUP(L10,Konstante!$AH$75:$AI$78,2,TRUE)) -> 27.06 | P10: =(1+M10)*L10*(N10*L10+O10)*VLOOKUP(E6,Konstante!AN67:AO70,2,FALSE)*Gesamt!$E$14 -> 0 | Q10: =IF(E11="ja",0,-P10*0.1) -> 0 | R10: =IF(E12="ja",0,-P10*0.05) -> 0 | S10: =IF(AND(E10="ja",E9>0),5.4355*IS*E9,0) -> 0 | T10: =IF(E7>0,ROUND(E13,0)*Konstante!$AK$77*Gesamt!$E$14,0) -> 0 | U10: =SUM(P10:T10)*E14 -> 0 | V10: =SUM(P10:U10)*VLOOKUP(E15,P$1:R$5,3,FALSE) -> 0 | W10: =SUM(P10:V10) -> 0
C11: Höhenlinien | E11: nein | F11: nein | G11: nein | H11: nein | K11: 2 | L11: =IF(AND(F7>0,F7<0.5),0.5,F7) -> 0 | M11: =IF(ISNUMBER(F$7),IF((0.8944-SQRT(L11/($F$9*10)))*0.8944<0,0,(0.8944-SQRT(L11/($F$9*10)))*0.8944),0) -> 0 | N11: =VLOOKUP(F8,INDIRECT(VLOOKUP($F$5,Konstante!$AH$68:$AL$72,2,FALSE)),VLOOKUP(L11,Konstante!$AH$75:$AI$78,2,TRUE)) -> -12.26 | O11: =VLOOKUP(F8,INDIRECT(VLOOKUP($F$5,Konstante!$AH$68:$AL$72,4,FALSE)),VLOOKUP(L11,Konstante!$AH$75:$AI$78,2,TRUE)) -> 27.06 | P11: =(1+M11)*L11*(N11*L11+O11)*VLOOKUP(F6,Konstante!AN67:AO70,2,FALSE)*Gesamt!$E$14 -> 0 | Q11: =IF(F11="ja",0,-P11*0.1) -> 0 | R11: =IF(F12="ja",0,-P11*0.05) -> 0 | S11: =IF(AND(F10="ja",F9>0),5.4355*IS*F9,0) -> 0 | T11: =IF(F7>0,ROUND(F13,0)*Konstante!$AK$77*Gesamt!$E$14,0) -> 0 | U11: =SUM(P11:T11)*F14 -> 0 | V11: =SUM(P11:U11)*VLOOKUP(F15,P$1:R$5,3,FALSE) -> 0 | W11: =SUM(P11:V11) -> 0
C12: Höhenkoten freistellen | E12: ja | F12: ja | G12: ja | H12: ja | K12: 3 | L12: =IF(AND(G7>0,G7<0.5),0.5,G7) -> 0 | M12: =IF(ISNUMBER(G$7),IF((0.8944-SQRT(L12/($G$9*10)))*0.8944<0,0,(0.8944-SQRT(L12/($G$9*10)))*0.8944),0) -> 0 | N12: =VLOOKUP(G8,INDIRECT(VLOOKUP($G$5,Konstante!$AH$68:$AL$72,2,FALSE)),VLOOKUP(L12,Konstante!$AH$75:$AI$78,2,TRUE)) -> -12.26 | O12: =VLOOKUP(G8,INDIRECT(VLOOKUP($G$5,Konstante!$AH$68:$AL$72,4,FALSE)),VLOOKUP(L12,Konstante!$AH$75:$AI$78,2,TRUE)) -> 27.06 | P12: =(1+M12)*L12*(N12*L12+O12)*VLOOKUP(G6,Konstante!AN67:AO70,2,FALSE)*Gesamt!$E$14 -> 0 | Q12: =IF(G11="ja",0,-P12*0.1) -> 0 | R12: =IF(G12="ja",0,-P12*0.05) -> 0 | S12: =IF(AND(G10="ja",G9>0),5.4355*IS*G9,0) -> 0 | T12: =IF(G7>0,ROUND(G13,0)*Konstante!$AK$77*Gesamt!$E$14,0) -> 0 | U12: =SUM(P12:T12)*G14 -> 0 | V12: =SUM(P12:U12)*VLOOKUP(G15,P$1:R$5,3,FALSE) -> 0 | W12: =SUM(P12:V12) -> 0
C13: Detailpunkte | D13: =SUM(ROUND(E13,0),ROUND(F13,0),ROUND(G13,0),ROUND(H13,0)) -> 0 | K13: 4 | L13: =IF(AND(H7>0,H7<0.5),0.5,H7) -> 0 | M13: =IF(ISNUMBER(H$7),IF((0.8944-SQRT(L13/($H$9*10)))*0.8944<0,0,(0.8944-SQRT(L13/($H$9*10)))*0.8944),0) -> 0 | N13: =VLOOKUP(H8,INDIRECT(VLOOKUP($H$5,Konstante!$AH$68:$AL$72,2,FALSE)),VLOOKUP(L13,Konstante!$AH$75:$AI$78,2,TRUE)) -> -12.26 | O13: =VLOOKUP(H8,INDIRECT(VLOOKUP($H$5,Konstante!$AH$68:$AL$72,4,FALSE)),VLOOKUP(L13,Konstante!$AH$75:$AI$78,2,TRUE)) -> 27.06 | P13: =(1+M13)*L13*(N13*L13+O13)*VLOOKUP(H6,Konstante!AN67:AO70,2,FALSE)*Gesamt!$E$14 -> 0 | Q13: =IF(H11="ja",0,-P13*0.1) -> 0 | R13: =IF(H12="ja",0,-P13*0.05) -> 0 | S13: =IF(AND(H10="ja",H9>0),5.4355*IS*H9,0) -> 0 | T13: =IF(H7>0,ROUND(H13,0)*Konstante!$AK$77*Gesamt!$E$14,0) -> 0 | U13: =SUM(P13:T13)*H14 -> 0 | V13: =SUM(P13:U13)*VLOOKUP(H15,P$1:R$5,3,FALSE) -> 0 | W13: =SUM(P13:V13) -> 0
C14: Reambulierungsabschlag [%] | K14: Summen: | P14: =IF($F19=1,SUM(P10:P13),0) -> 0 | Q14: =IF($F19=1,SUM(Q10:Q13),0) -> 0 | S14: =IF($F19=1,SUM(S10:S13),0) -> 0 | T14: =IF($F19=1,SUM(T10:T13),0) -> 0 | U14: =IF($F19=1,SUM(U10:U13),0) -> 0 | V14: =IF($F19=1,SUM(V10:V13),0) -> 0 | W14: =IF($F19=1,SUM(W10:W13),0) -> 0
C15: Verkehrszuschlag | E15: 0-60 Züge/Tag | F15: 0-60 Züge/Tag | G15: 0-60 Züge/Tag | H15: 0-60 Züge/Tag | K15: Zu/Abschlag: | W15: =IF(ISNUMBER(E17),W14*E17,0) -> 0
F16: Beschreibung: | K16: Gesamt: | W16: =W15+W14 -> 0
C17: Ab-/Zuschlag in %
C18: Nebenkosten
C19: =IF(F19=0, "UNVOLLSTÄNDIG AUSGEFÜLLT!","") -> UNVOLLSTÄNDIG AUSGEFÜLLT! | F19: =IF(AND(E7<0.01,F7<0.01,G7<0.01,H7<0.01),0,1) -> 0 | G19: =IF(F19<>0,W16+E18,"")
A21: D r u c k b e r e i c h | I21: =IF(VLOOKUP(B27,CHOOSE({5,4,3,2,1},Gesamt!L32:L65,Gesamt!M32:M65,Gesamt!N32:N65,Gesamt!O32:O65,Gesamt!P32:P65,),4,0)>0,CONCATENATE("Pos. ",VLOOKUP(B27,CHOOSE({5,4,3,2,1},Gesamt!L32:L65,Gesamt!M32:M65,Gesamt!N32:N65,Gesamt!O32:O65,Gesamt!P32:P65,),VLOOKUP(Gesamt!C19,Gesamt!L5:N7,3,0),0)),"")
B22: =CONCATENATE(Gesamt!C2, ": ", Gesamt!E2) -> Projekt:
B23: =CONCATENATE(Gesamt!C4, ": ", Gesamt!E4, IF(Gesamt!E5<>""," - ",""), IF(Gesamt!E5<>"",Gesamt!E5,""), IF(Gesamt!E6<>""," - GZ. ",""), IF(Gesamt!E6<>"",Gesamt!E6,""),) -> Auftraggeber:
B24: =CONCATENATE(Gesamt!C9, ": ",Gesamt!E9, IF(Gesamt!C10<>""," - ",""), IF(Gesamt!C10<>"",Gesamt!E10,""), IF(Gesamt!C11<>""," - GZ. ",""), IF(Gesamt!C11<>"",Gesamt!E11,""), ) -> Bieter: - - GZ.
B25: Kalkulationsgrundlage: Leistungsbild für Vermessung und Geoinformation (LB_VG)
B27: =D2 -> Lage- und Höhenplan
C29: LB_VG, Pos. 4.7.1, Kombinierte Lage- und Höhenmessung - Geländeaufnahme
C31: mittlerer Bürostundensatz: | E31: =IS -> 0
C34: Teilbereich | D34: gesamt | E34: =E4 -> 1 | F34: =F4 -> 2 | G34: =G4 -> 3 | H34: =H4 -> 4
C36: Maßstab | E36: =IF(E7>0,E5,"") | F36: =IF(F7>0,F5,"") | G36: =IF(G7>0,G5,"") | H36: =IF(H7>0,H5,"")
C37: Anzahl der Layer | E37: =IF(E7>0,E6,"") | F37: =IF(F7>0,F6,"") | G37: =IF(G7>0,G6,"") | H37: =IF(H7>0,H6,"")
C38: Fläche [ha] | D38: =IF(SUM(E38:H38)>0,SUM(E38:H38),"") | E38: =IF(E7>0,E7,"") | F38: =IF(F7>0,F7,"") | G38: =IF(G7>0,G7,"") | H38: =IF(H7>0,H7,"")
C39: Länge [km] | D39: =IF(SUM(E39:H39)>0,SUM(E39:H39),"") | E39: =IF(AND(E9>0,E7>0),E9,"") | F39: =IF(AND(F9>0,F7>0),F9,"") | G39: =IF(AND(G9>0,G7>0),G9,"") | H39: =IF(AND(H9>0,H7>0),H9,"")
C40: Streifenfaktor | E40: =IF(AND(E9>0,E7>0),M10,"") | F40: =IF(AND(F9>0,F7>0),M11,"") | G40: =IF(AND(G9>0,G7>0),M12,"") | H40: =IF(AND(H9>0,H7>0),M13,"")
C41: Geländeklasse | E41: =IF(E7>0,E8,"") | F41: =IF(F7>0,F8,"") | G41: =IF(G7>0,G8,"") | H41: =IF(H7>0,H8,"")
C42: Zwischensumme [€] | E42: =IF(E7>0,P10,"") | F42: =IF(F7>0,P11,"") | G42: =IF(G7>0,P12,"") | H42: =IF(H7>0,P13,"")
C44: Höhenlinien | E44: =IF(E7>0,E11,"") | F44: =IF(F7>0,F11,"") | G44: =IF(G7>0,G11,"") | H44: =IF(H7>0,H11,"")
C45: Abschlag [€] | E45: =IF(AND(E7>0,E11=$L$7),Q10,"") | F45: =IF(AND(F7>0,F11=$L$7),Q11,"") | G45: =IF(AND(G7>0,G11=$L$7),Q12,"") | H45: =IF(AND(H7>0,H11=$L$7),Q13,"")
C47: Höhenkoten freistellen | E47: =IF(E7>0,E12,"") | F47: =IF(F7>0,F12,"") | G47: =IF(G7>0,G12,"") | H47: =IF(H7>0,H12,"")
C48: Abschlag [€] | E48: =IF(AND(E7>0,E12=$L$7),R10,"") | F48: =IF(AND(F7>0,F12=$L$7),R11,"") | G48: =IF(AND(G7>0,G12=$L$7),R12,"") | H48: =IF(AND(H7>0,H12=$L$7),R13,"")
C50: Zuschlag Polygonzug | E50: =IF(AND(E7>0,E9>0),E10,"") | F50: =IF(AND(F7>0,F9>0),F10,"") | G50: =IF(AND(G7>0,G9>0),G10,"") | H50: =IF(AND(H7>0,H9>0),H10,"")
C51: Kosten (€5,4355 * IS / km) | E51: =IF(AND(E7>0,E9>0,E10=$L$6),S10,"") | F51: =IF(AND(F7>0,F9>0,F10=$L$6),S11,"") | G51: =IF(AND(G7>0,G9>0,G10=$L$6),S12,"") | H51: =IF(AND(H7>0,H9>0,H10=$L$6),S13,"")
C53: Detailpunkte | D53: =IF(SUM(E53:H53)>0,SUM(E53:H53),"") | E53: =IF(AND(E7>0,E13>0),E13,"") | F53: =IF(AND(F7>0,F13>0),F13,"") | G53: =IF(AND(G7>0,G13>0),G13,"") | H53: =IF(AND(H7>0,H13>0),H13,"")
C54: Kosten (€0,41 * IS / Pkt) | E54: =IF(AND(E7>0,E13>0),T10,"") | F54: =IF(AND(F7>0,F13>0),T11,"") | G54: =IF(AND(G7>0,G13>0),T12,"") | H54: =IF(AND(H7>0,H13>0),T13,"")
C56: Reambulierungsabschlag | E56: =IF(AND(E7>0,E14<>0),E14,"") | F56: =IF(AND(F7>0,F14<>0),F14,"") | G56: =IF(AND(G7>0,G14<>0),G14,"") | H56: =IF(AND(H7>0,H14<>0),H14,"")
C57: Abschlag [€] | E57: =IF(AND(E7>0,E14<>0),U10,"") | F57: =IF(AND(F7>0,F14<>0),U11,"") | G57: =IF(AND(G7>0,G14<>0),U12,"") | H57: =IF(AND(H7>0,H14<>0),U13,"")
C59: Verkehrszuschlag [%] | E59: =IF(AND(E7>0,V10>0),VLOOKUP(E15,$P$1:$R$5,3,FALSE),"") | F59: =IF(AND(F7>0,V11>0),VLOOKUP(F15,$P$1:$R$5,3,FALSE),"") | G59: =IF(AND(G7>0,V12>0),VLOOKUP(G15,$P$1:$R$5,3,FALSE),"") | H59: =IF(AND(H7>0,V13>0),VLOOKUP(H15,$P$1:$R$5,3,FALSE),"")
C60: (Anzahl der Züge pro Tag) | E60: =IF(AND(E7>0,V10>0),E15,"") | F60: =IF(AND(F7>0,V11>0),F15,"") | G60: =IF(AND(G7>0,V12>0),G15,"") | H60: =IF(AND(H7>0,V13>0),H15,"")
C61: Kosten [€] | E61: =IF(AND(E7>0,V10>0),V10,"") | F61: =IF(AND(F7>0,V11>0),V11,"") | G61: =IF(AND(G7>0,V12>0),V12,"") | H61: =IF(AND(H7>0,V13>0),V13,"")
C63: Zwischensumme [€] | E63: =IF(E7>0,W10,"") | F63: =IF(F7>0,W11,"") | G63: =IF(G7>0,W12,"") | H63: =IF(H7>0,W13,"")
C66: Honorar: | E66: =IF(F19<>0,ROUND(SUM(E63:H63),2),0) -> 0
C67: =IF(E17>0,CONCATENATE(E17*100,"% Zuschlag:"),IF(E17<0,CONCATENATE(E17*100,"% Abschlag:"),"")) | E67: =IF(E17<>0,ROUND(W15,2),"") | F67: =IF(AND(E17<>0,F17<>""),F17,"")
C68: =IF(E18>0,"Nebenkosten:","") | E68: =IF(E18>0,ROUND(E18,2),"") | F68: =IF(AND(E18<>0,F18<>""),F18,"")
C71: Gesamthonorar: | G71: =IF(F19=1,SUM(E66:E69),0) -> 0

Sheet 4.7.2
A1: E i n g a b e b e r e i c h | K1: Überschriftszeile Druckbereich: | N1: =CELL("ZEILE",B27) -> 27
C2: Überschrift | D2: Erstellen und verfeinern eines DGM | K2: Ergebniszeile Druckbereich | N2: =CELL("ZEILE",G58) -> 58
K3: Vollständigkeit | N3: =F19 -> 0
K4: Grundaufwand | N4: =((Qe+Qv)^0.4+1)*IS -> 0
K5: Ermittlung DGM | N5: =IF(Qe>0,(((Qe+Qv)*5*f*D^0.5)^0.5)*IS,0) -> 0
D6: Fläche Ermittlung DGM: | F6: ha | K6: Verfeinerung DGM | N6: =Qv*AO*0.5*IS -> 0
D7: Fläche Verfeinerung DGM: | F7: ha
N8: =((( Qe + Qv)^0.4 + 1) + ((Qe + Qv) * 5 * f * D^0.5)^0.5 + Qv * AO * 0.5) * IS -> 0
D9: Punktdichte: | F9: Anzahl der Punkte pro m2
D10: Objektdichte: | F10: Anzahl der Objekte pro ha
D12: Geländeklassee: | E12: Ia
C17: Zu/Abschlag in %
C18: Nebenkosten
C19: =IF(F19=0, "UNVOLLSTÄNDIG AUSGEFÜLLT!","") -> UNVOLLSTÄNDIG AUSGEFÜLLT! | F19: =IF(AND(SUM(E6:E7)>0,SUM(E9:E10)>0),1,0) -> 0 | G19: =IF(VSK<>0, G58,"")
A21: D r u c k b e r e i c h | I21: =IF(VLOOKUP(B27,CHOOSE({5,4,3,2,1},Gesamt!L32:L65,Gesamt!M32:M65,Gesamt!N32:N65,Gesamt!O32:O65,Gesamt!P32:P65,),4,0)>0,CONCATENATE("Pos. ",VLOOKUP(B27,CHOOSE({5,4,3,2,1},Gesamt!L32:L65,Gesamt!M32:M65,Gesamt!N32:N65,Gesamt!O32:O65,Gesamt!P32:P65,),VLOOKUP(Gesamt!C19,Gesamt!L5:N7,3,0),0)),"")
B22: =CONCATENATE(Gesamt!C2, ": ", Gesamt!E2) -> Projekt:
B23: =CONCATENATE(Gesamt!C4, ": ", Gesamt!E4, IF(Gesamt!E5<>""," - ",""), IF(Gesamt!E5<>"",Gesamt!E5,""), IF(Gesamt!E6<>""," - GZ. ",""), IF(Gesamt!E6<>"",Gesamt!E6,""),) -> Auftraggeber:
B24: =CONCATENATE(Gesamt!C9, ": ",Gesamt!E9, IF(Gesamt!C10<>""," - ",""), IF(Gesamt!C10<>"",Gesamt!E10,""), IF(Gesamt!C11<>""," - GZ. ",""), IF(Gesamt!C11<>"",Gesamt!E11,""), ) -> Bieter: - - GZ.
B25: Kalkulationsgrundlage: Leistungsbild für Vermessung und Geoinformation (LB_VG)
B27: =CONCATENATE(D2," ",D3) -> Erstellen und verfeinern eines DGM
C29: LB_VG, Pos. 4.7.2, Erstellen und verfeinern eines DGM
C31: mittlerer Bürostundensatz: | E31: =IS -> 0
C33: H = ((( Qe + Qv)^0,4 + 1) + ((Qe + Qv) * 5 * f * D^0,5)^0,5 + Qv * AO * 0,5) * IST + N
C37: Qe = | D37: =E6 -> 0 | E37: [ha] | F37: Fläche Ermittlung DGM
C38: Qv = | D38: =E7 -> 0 | E38: [ha] | F38: Fläche Verfeinerung DGM
C40: D = | D40: =E9 -> 0 | E40: Pkt./m2 | F40: Punktdichte
C41: AO = | D41: =E10 -> 0 | E41: Objekte/ha | F41: Objektdichte
C43: f = | D43: =VLOOKUP(E43,Konstante!AQ67:AR75,2,FALSE) -> 1 | E43: =E12 -> Ia | F43: Geländeklasse / Schwierigkeitsstufe
C46: Grundaufwand: | E46: =IF(VSK>0,N4,"")
C47: Ermittlung DGM: | E47: =IF(VSK>0,N5,"")
C48: Verfeinerung DGM: | E48: =IF(VSK>0,N6,"")
C51: Honorar: | F51: =SUM(E46:E48) -> 0
C54: =IF(AND(ZuAbschlag<>0,VSK<>0),"Zu-/Abschlag:","") | E54: =IF(AND(ZuAbschlag<>0,VSK<>0),ZuAbschlag,"") | F54: =IF(AND(ZuAbschlag<>0,VSK<>0),F51*E54,"") | G54: =IF(AND(ZuAbschlag<>0,VSK<>0,G17<>""),G17,"")
C55: =IF(AND(NK<>0,VSK<>0),"Nebenkosten:","") | F55: =IF(AND(NK<>0,VSK<>0),NK,"") | G55: =IF(AND(NK<>0,VSK<>0,G18<>""),G18,"")
C58: Gesamthonorar: | G58: =IF(F19,SUM(F51:F55),0) -> 0

Sheet 4.7.3
A1: E i n g a b e b e r e i c h | K1: Überschriftszeile Druckbereich: | N1: =CELL("ZEILE",B28) -> 28
C2: Überschrift | D2: 3d-Planerstellung auf Basis eines | K2: Ergebniszeile Druckbereich | N2: =CELL("ZEILE",G61) -> 61
D3: 2,5d-LH-Planes | K3: Vollständigkeit | N3: =F20 -> 0
C5: Straßenlänge (km): | F5: zus. Fahrstreifen (km): | H5: (ab dem 3.)
D7: längenbezogene Objekte (km): | F7: (Lärmschutzwände, Stützmauern)
D8: Anzahl Kreuzungen: | F8: (Brücken, Unterführungen, Durchlässe)
D9: Anz. Überlänge oder Überbreite: | F9: (pro zusätzlichen Fahrstreifen oder pro 30m Brückenlänge) | N9: =(3+6.67*$D$5+2.2*$G$5+2.94*$E$7+7.63*$E$8+2.52*$E$9) -> 3
L10: f
C11: Fläche (ha): | F11: Geländeklasse: | G11: Ib | L11: =VLOOKUP(G11,Konstante!AQ$67:AR$75,2,) -> 1.6 | N11: =0.48*D11*L11 -> 0
C12: Fläche (ha): | F12: Geländeklasse: | G12: Ib | L12: =VLOOKUP(G12,Konstante!AQ$67:AR$75,2,) -> 1.6 | N12: =0.48*D12*L12 -> 0
C13: Fläche (ha): | F13: Geländeklasse: | G13: Ib | L13: =VLOOKUP(G13,Konstante!AQ$67:AR$75,2,) -> 1.6 | N13: =0.48*D13*L13 -> 0
C14: Summe Fläche: | D14: =SUM(D11:D13) -> 0 | E14: ha | N14: =($N$9+$N$11+$N$12+$N$13)*$L$16*IS -> 0
D16: Art der Bearbeitung: | E16: gleichzeitige Beauftragung der 2,5d Aufnahme | L16: =VLOOKUP(E16,Konstante!AT67:AU69,2,FALSE) -> 0.8
C18: Zu/Abschlag in %
C19: Nebenkosten
C20: =IF(F20=0, "UNVOLLSTÄNDIG AUSGEFÜLLT!","") -> UNVOLLSTÄNDIG AUSGEFÜLLT! | F20: =IF(OR(D5<0.01,AND(D11<0.01,D12<0.01,D13<0.01)),0,1) -> 0 | G20: =IF(VSK<>0, G61,"")
A22: D r u c k b e r e i c h | I22: =IF(VLOOKUP(B28,CHOOSE({5,4,3,2,1},Gesamt!L32:L65,Gesamt!M32:M65,Gesamt!N32:N65,Gesamt!O32:O65,Gesamt!P32:P65,),4,0)>0,CONCATENATE("Pos. ",VLOOKUP(B28,CHOOSE({5,4,3,2,1},Gesamt!L32:L65,Gesamt!M32:M65,Gesamt!N32:N65,Gesamt!O32:O65,Gesamt!P32:P65,),VLOOKUP(Gesamt!C19,Gesamt!L5:N7,3,0),0)),"")
B23: =CONCATENATE(Gesamt!C2, ": ", Gesamt!E2) -> Projekt:
B24: =CONCATENATE(Gesamt!C4, ": ", Gesamt!E4, IF(Gesamt!E5<>""," - ",""), IF(Gesamt!E5<>"",Gesamt!E5,""), IF(Gesamt!E6<>""," - GZ. ",""), IF(Gesamt!E6<>"",Gesamt!E6,""),) -> Auftraggeber:
B25: =CONCATENATE(Gesamt!C9, ": ",Gesamt!E9, IF(Gesamt!C10<>""," - ",""), IF(Gesamt!C10<>"",Gesamt!E10,""), IF(Gesamt!C11<>""," - GZ. ",""), IF(Gesamt!C11<>"",Gesamt!E11,""), ) -> Bieter: - - GZ.
B26: Kalkulationsgrundlage: Leistungsbild für Vermessung und Geoinformation (LB_VG)
B28: =CONCATENATE(D2," ",D3) -> 3d-Planerstellung auf Basis eines 2,5d-LH-Planes
C30: LB_VG, Pos. 4.7.3, 3d-Planerstellung auf Basis eines 2,5d-Lage- und Höhenplanes
C32: mittlerer Bürostundensatz: | E32: =IS -> 0
C34: H = (3 + 6,67 * L + 2,20 * Lz + 2,94 * Lm + 0,48 * F * f + 7,63 * B + 2,52 * Bz) * K * IS + N
C36: Straßenlänge: | E36: =D5 -> 0
C37: =IF(G5>0,"zus. Fahrstreifen:","") | E37: =IF(G5>0,G5,"") | F37: =IF(G5>0,"(ab dem 3.ten Fahrstreifen bzw. Gleis)","")
C38: =IF(E7>0,"längenbezogene Objekte:","") | E38: =IF(E7>0,E7,"") | F38: =IF(E7>0,"(Lärmschutzwände, Stützmauern...)","")
C40: =IF(E8>0,"Anzahl der Kreuzungen:","") | E40: =IF(E8>0,E8,"") | F40: =IF(E8>0,"(Brücken, Unterführungen, Durchlässe)","")
C41: =IF(E9>0,"Überlänge oder Überbreite:","") | E41: =IF(E9>0,E9,"") | F41: =IF(E9>0,"(pro zusätzlichen Fahrstreifen oder pro 30m Brückenlänge)","")
C43: Aufnahmefläche | E43: Geländeklasse
C44: =IF(D11>0,"A1=","") | D44: =IF(D11>0,D11,"") | E44: =IF(D11>0,G11,"")
C45: =IF(D12>0,"A2=","") | D45: =IF(D12>0,D12,"") | E45: =IF(D12>0,G12,"")
C46: =IF(D13>0,"A3=","") | D46: =IF(D13>0,D13,"") | E46: =IF(D13>0,G13,"")
C47: A= | D47: =SUM(D44:D46) -> 0
C50: Art der Bearbeitung: | E50: =E16 -> gleichzeitige Beauftragung der 2,5d Aufnahme
C54: Honorar: | F54: =IF(F20<>0,ROUND(N14,2),0) -> 0
C57: =IF(AND(ZuAbschlag<>0,VSK<>0),"Zu-/Abschlag:","") | E57: =IF(AND(ZuAbschlag<>0,VSK<>0),ZuAbschlag,"") | F57: =IF(AND(ZuAbschlag<>0,VSK<>0),F54*E57,"") | G57: =IF(AND(ZuAbschlag<>0,VSK<>0,G18<>""),G18,"")
C58: =IF(AND(NK<>0,VSK<>0),"Nebenkosten:","") | F58: =IF(AND(NK<>0,VSK<>0),NK,"") | G58: =IF(AND(NK<>0,VSK<>0,G19<>""),G19,"")
C61: Gesamthonorar: | G61: =IF(F20,SUM(F54:F58),0) -> 0

Sheet 4.7.4
A1: E i n g a b e b e r e i c h | K1: Überschriftszeile Druckbereich: | N1: =CELL("ZEILE",B27) -> 27
C2: Überschrift | D2: Umbildung einer Geländeaufnahme | K2: Ergebniszeile Druckbereich | N2: =CELL("ZEILE",G54) -> 54
D3: durch Maßstabsänderung | K3: Vollständigkeit | N3: =F19 -> 0
C5: Zielmaßstab: | D5: 1:500
L6: k | M6: d
C7: Fläche (ha): | F7: Geländeklasse: | G7: Ib | L7: =VLOOKUP($G7,INDIRECT(VLOOKUP($D$5,Konstante!$AH$68:$AL$72,2,FALSE)),VLOOKUP($D7,Konstante!$AH$75:$AI$78,2,TRUE)) -> -12.26 | M7: =VLOOKUP($G7,INDIRECT(VLOOKUP($D$5,Konstante!$AH$68:$AL$72,4,FALSE)),VLOOKUP($D7,Konstante!$AH$75:$AI$78,2,TRUE)) -> 27.06 | N7: =D7*(L7*D7+M7)*$K$13*IS*$K$12 -> 0
C8: Fläche (ha): | F8: Geländeklasse: | G8: Ib | L8: =VLOOKUP($G8,INDIRECT(VLOOKUP($D$5,Konstante!$AH$68:$AL$72,2,FALSE)),VLOOKUP($D8,Konstante!$AH$75:$AI$78,2,TRUE)) -> -12.26 | M8: =VLOOKUP($G8,INDIRECT(VLOOKUP($D$5,Konstante!$AH$68:$AL$72,4,FALSE)),VLOOKUP($D8,Konstante!$AH$75:$AI$78,2,TRUE)) -> 27.06 | N8: =D8*(L8*D8+M8)*$K$13*IS*$K$12 -> 0
C9: Fläche (ha): | F9: Geländeklasse: | G9: Ib | L9: =VLOOKUP($G9,INDIRECT(VLOOKUP($D$5,Konstante!$AH$68:$AL$72,2,FALSE)),VLOOKUP($D9,Konstante!$AH$75:$AI$78,2,TRUE)) -> -12.26 | M9: =VLOOKUP($G9,INDIRECT(VLOOKUP($D$5,Konstante!$AH$68:$AL$72,4,FALSE)),VLOOKUP($D9,Konstante!$AH$75:$AI$78,2,TRUE)) -> 27.06 | N9: =D9*(L9*D9+M9)*$K$13*IS*$K$12 -> 0
C10: Summe Fläche: | D10: =SUM(D7:D9) -> 0 | E10: ha | N10: =SUM(N7:N9) -> 0
C12: Datenherkunft: | D12: analog | K12: =VLOOKUP(D12,Konstante!AW67:AX68,2,FALSE) -> 0.4
C13: Anzahl der Layer: | D13: wiederholte Datenlieferung | K13: =VLOOKUP(D13,Konstante!AN67:AO70,2,FALSE) -> 1
G15: Beschreibung:
C16: Zu/Abschlag in %
C17: Nebenkosten
C19: =IF(F19=0, "UNVOLLSTÄNDIG AUSGEFÜLLT!","") -> UNVOLLSTÄNDIG AUSGEFÜLLT! | F19: =IF(AND(D7<0.01,D8<0.01,D9<0.01),0,1) -> 0 | G19: =IF(F19<>0, G54,"")
A21: D r u c k b e r e i c h | I21: =IF(VLOOKUP(B27,CHOOSE({5,4,3,2,1},Gesamt!L32:L65,Gesamt!M32:M65,Gesamt!N32:N65,Gesamt!O32:O65,Gesamt!P32:P65,),4,0)>0,CONCATENATE("Pos. ",VLOOKUP(B27,CHOOSE({5,4,3,2,1},Gesamt!L32:L65,Gesamt!M32:M65,Gesamt!N32:N65,Gesamt!O32:O65,Gesamt!P32:P65,),VLOOKUP(Gesamt!C19,Gesamt!L5:N7,3,0),0)),"")
B22: =CONCATENATE(Gesamt!C2, ": ", Gesamt!E2) -> Projekt:
B23: =CONCATENATE(Gesamt!C4, ": ", Gesamt!E4, IF(Gesamt!E5<>""," - ",""), IF(Gesamt!E5<>"",Gesamt!E5,""), IF(Gesamt!E6<>""," - GZ. ",""), IF(Gesamt!E6<>"",Gesamt!E6,""),) -> Auftraggeber:
B24: =CONCATENATE(Gesamt!C9, ": ",Gesamt!E9, IF(Gesamt!C10<>""," - ",""), IF(Gesamt!C10<>"",Gesamt!E10,""), IF(Gesamt!C11<>""," - GZ. ",""), IF(Gesamt!C11<>"",Gesamt!E11,""), ) -> Bieter: - - GZ.
B25: Kalkulationsgrundlage: Leistungsbild für Vermessung und Geoinformation (LB_VG)
B27: =CONCATENATE(D2," ",D3) -> Umbildung einer Geländeaufnahme durch Maßstabsänderung
C29: LB_VG, Pos. 4.7.4, Umbildung einer Geländeaufnahme durch Maßstabsänderung
C31: mittlerer Bürostundensatz: | E31: =IS -> 0
C33: =VLOOKUP(D12,Konstante!AW67:AY68,3) -> H = F * (k * F + d) * E * IS * 0,40 + N
C35: Zielmaßstab: | E35: =D5 -> 1:500
C36: Anzahl der Layer: | E36: =D13 -> wiederholte Datenlieferung
C37: Datenherkunft: | E37: =D12 -> analog
C40: Aufnahmefläche | E40: Geländeklasse
C41: =IF(D7>0,"A1=","") | D41: =IF(D7>0,D7,"") | E41: =IF(D7>0,G7,"")
C42: =IF(D8>0,"A2=","") | D42: =IF(D8>0,D8,"") | E42: =IF(D8>0,G8,"")
C43: =IF(D9>0,"A3=","") | D43: =IF(D9>0,D9,"") | E43: =IF(D9>0,G9,"")
C44: A= | D44: =SUM(D41:D43) -> 0
C47: Honorar: | F47: =IF(F19<>0,ROUND(N10,2),0) -> 0
C50: =IF(AND(ZuAbschlag<>0,VSK<>0),"Zu-/Abschlag:","") | E50: =IF(AND(ZuAbschlag<>0,VSK<>0),ZuAbschlag,"") | F50: =IF(AND(ZuAbschlag<>0,VSK<>0),F47*E50,"") | G50: =IF(AND(ZuAbschlag<>0,VSK<>0,G16<>""),G16,"")
C51: =IF(AND(NK<>0,VSK<>0),"Nebenkosten:","") | F51: =IF(AND(NK<>0,VSK<>0),NK,"") | G51: =IF(AND(NK<>0,VSK<>0,G17<>""),G17,"")
C53: =IF(E18>0,"Nebenkosten:","") | F53: =IF(E18>0,ROUND(E18,2),"")
C54: Gesamthonorar: | G54: =IF(F19=1,SUM(F47:F51),0) -> 0
C55: =IF(O15<>0,"ohne Höhenschichtenlinien (-10%):","") | F55: =IF(O15<>0,ROUND(O15,2),"")
C56: =IF(O16<>0,"Höhenkoten nicht freistellen (-5%):","") | F56: =IF(O16<>0,ROUND(O16,2),"")

Sheet 4.7.5
A1: E i n g a b e b e r e i c h | K1: Überschriftszeile Druckbereich: | N1: =CELL("ZEILE",B27) -> 27
C2: Überschrift | D2: Umbildung einer Geländeaufnahme | K2: Ergebniszeile Druckbereich | N2: =CELL("ZEILE",G54) -> 54
D3: analog auf digital | K3: Vollständigkeit | N3: =F19 -> 0
C5: Zielmaßstab: | D5: 1:500
L6: k | M6: d
C7: Fläche (ha): | F7: Geländeklasse: | G7: Ib | L7: =VLOOKUP($G7,INDIRECT(VLOOKUP($D$5,Konstante!$AH$68:$AL$72,2,FALSE)),VLOOKUP($D7,Konstante!$AH$75:$AI$78,2,TRUE)) -> -12.26 | M7: =VLOOKUP($G7,INDIRECT(VLOOKUP($D$5,Konstante!$AH$68:$AL$72,4,FALSE)),VLOOKUP($D7,Konstante!$AH$75:$AI$78,2,TRUE)) -> 27.06 | N7: =D7*(L7*D7+M7)*$K$13*IS*0.4 -> 0
C8: Fläche (ha): | F8: Geländeklasse: | G8: Ib | L8: =VLOOKUP($G8,INDIRECT(VLOOKUP($D$5,Konstante!$AH$68:$AL$72,2,FALSE)),VLOOKUP($D8,Konstante!$AH$75:$AI$78,2,TRUE)) -> -12.26 | M8: =VLOOKUP($G8,INDIRECT(VLOOKUP($D$5,Konstante!$AH$68:$AL$72,4,FALSE)),VLOOKUP($D8,Konstante!$AH$75:$AI$78,2,TRUE)) -> 27.06 | N8: =D8*(L8*D8+M8)*$K$13*IS*0.4 -> 0
C9: Fläche (ha): | F9: Geländeklasse: | G9: Ib | L9: =VLOOKUP($G9,INDIRECT(VLOOKUP($D$5,Konstante!$AH$68:$AL$72,2,FALSE)),VLOOKUP($D9,Konstante!$AH$75:$AI$78,2,TRUE)) -> -12.26 | M9: =VLOOKUP($G9,INDIRECT(VLOOKUP($D$5,Konstante!$AH$68:$AL$72,4,FALSE)),VLOOKUP($D9,Konstante!$AH$75:$AI$78,2,TRUE)) -> 27.06 | N9: =D9*(L9*D9+M9)*$K$13*IS*0.4 -> 0
C10: Summe Fläche: | D10: =SUM(D7:D9) -> 0 | E10: ha | N10: =SUM(N7:N9) -> 0
C13: Anzahl der Layer: | D13: wiederholte Datenlieferung | K13: =VLOOKUP(D13,Konstante!AN67:AO70,2,FALSE) -> 1
G15: Beschreibung:
C16: Zu/Abschlag in %
C17: Nebenkosten
C19: =IF(F19=0, "UNVOLLSTÄNDIG AUSGEFÜLLT!","") -> UNVOLLSTÄNDIG AUSGEFÜLLT! | F19: =IF(AND(D7<0.01,D8<0.01,D9<0.01),0,1) -> 0 | G19: =IF(F19<>0, G54,"")
A21: D r u c k b e r e i c h | I21: =IF(VLOOKUP(B27,CHOOSE({5,4,3,2,1},Gesamt!L32:L65,Gesamt!M32:M65,Gesamt!N32:N65,Gesamt!O32:O65,Gesamt!P32:P65,),4,0)>0,CONCATENATE("Pos. ",VLOOKUP(B27,CHOOSE({5,4,3,2,1},Gesamt!L32:L65,Gesamt!M32:M65,Gesamt!N32:N65,Gesamt!O32:O65,Gesamt!P32:P65,),VLOOKUP(Gesamt!C19,Gesamt!L5:N7,3,0),0)),"")
B22: =CONCATENATE(Gesamt!C2, ": ", Gesamt!E2) -> Projekt:
B23: =CONCATENATE(Gesamt!C4, ": ", Gesamt!E4, IF(Gesamt!E5<>""," - ",""), IF(Gesamt!E5<>"",Gesamt!E5,""), IF(Gesamt!E6<>""," - GZ. ",""), IF(Gesamt!E6<>"",Gesamt!E6,""),) -> Auftraggeber:
B24: =CONCATENATE(Gesamt!C9, ": ",Gesamt!E9, IF(Gesamt!C10<>""," - ",""), IF(Gesamt!C10<>"",Gesamt!E10,""), IF(Gesamt!C11<>""," - GZ. ",""), IF(Gesamt!C11<>"",Gesamt!E11,""), ) -> Bieter: - - GZ.
B25: Kalkulationsgrundlage: Leistungsbild für Vermessung und Geoinformation (LB_VG)
B27: =CONCATENATE(D2," (", D3,")") -> Umbildung einer Geländeaufnahme (analog auf digital)
C29: LB_VG, Pos. 4.7.5, Umbildung einer Geländeaufnahme durch Maßstabsänderung
C31: mittlerer Bürostundensatz: | E31: =IS -> 0
C33: H = F * (k * F + d) * E * IS * 0,40 + N
C35: Zielmaßstab: | E35: =D5 -> 1:500
C36: Anzahl der Layer: | E36: =D13 -> wiederholte Datenlieferung
C39: Aufnahmefläche | E39: Geländeklasse
C40: =IF(D7>0,"A1=","") | D40: =IF(D7>0,D7,"") | E40: =IF(D7>0,G7,"")
C41: =IF(D8>0,"A2=","") | D41: =IF(D8>0,D8,"") | E41: =IF(D8>0,G8,"")
C42: =IF(D9>0,"A3=","") | D42: =IF(D9>0,D9,"") | E42: =IF(D9>0,G9,"")
C43: A= | D43: =SUM(D40:D42) -> 0
C47: Honorar: | F47: =IF(N16<>9,ROUND(N10,2),0) -> 0
C49: =IF(D15>0,"Nebenkosten:","") | F49: =IF(N15>0,ROUND(N15,2),"")
C50: =IF(AND(ZuAbschlag<>0,VSK<>0),"Zu-/Abschlag:","") | E50: =IF(AND(ZuAbschlag<>0,VSK<>0),ZuAbschlag,"") | F50: =IF(AND(ZuAbschlag<>0,VSK<>0),F47*E50,"") | G50: =IF(AND(ZuAbschlag<>0,VSK<>0,G16<>""),G16,"")
C51: =IF(AND(NK<>0,VSK<>0),"Nebenkosten:","") | F51: =IF(AND(NK<>0,VSK<>0),NK,"") | G51: =IF(AND(NK<>0,VSK<>0,G17<>""),G17,"")
C53: =IF(E18>0,"Nebenkosten:","") | F53: =IF(E18>0,ROUND(E18,2),"")
C54: Gesamthonorar: | G54: =IF(F19=1,SUM(F45:F52),0) -> 0
C55: =IF(O15<>0,"ohne Höhenschichtenlinien (-10%):","") | F55: =IF(O15<>0,ROUND(O15,2),"")
C56: =IF(O16<>0,"Höhenkoten nicht freistellen (-5%):","") | F56: =IF(O16<>0,ROUND(O16,2),"")

Sheet 4.8
A1: E i n g a b e b e r e i c h | K1: Überschriftszeile Druckbereich: | N1: =CELL("ZEILE",B27) -> 27
C2: Überschrift | D2: Nutzflächenermittlung | K2: Ergebniszeile Druckbereich | N2: =CELL("ZEILE",G57) -> 57
K3: Vollständigkeit | N3: =F19 -> 0
T4: tab
C5: Nutzfläche | H5: m2 NF | L5: keine | O5: pv | P5: zf | Q5: lg | R5: gr | S5: rh | T5: 0
K6: ja | L6: auf Plan | O6: 0 | P6: 0 | Q6: 0 | R6: -0.4 | S6: 0.08 | T6: 0.12
C7: Ausführungspläne digital vorhanden | G7: ja | K7: nein | L7: im Excel | O7: 0.15 | P7: 0.1 | Q7: 0.1 | R7: 0 | S7: 0 | T7: 0.12
C8: zusammenhängende Flächen | G8: ja | L8: beides | T8: 0.2
C9: Flächen leerstehend oder genutzt | G9: 0 | H9: % genutzt | O9: =IF(G7="ja",O6,O7) -> 0 | P9: =IF(G8="ja",P6,P7) -> 0 | Q9: =Q6+(Q7-Q6)*G9/100 -> 0 | R9: =R7-(R7-R6)*G10/100 -> 0 | S9: =IF(G11="ja",S6,S7) -> 0 | T9: =VLOOKUP(G12,L5:T8,9,FALSE) -> 0
C10: Flächenanteil großer Räume (> 100m2) | G10: 0 | H10: %
C11: Raumhöhenauswertung | G11: nein
C12: Flächentabelle auf Plan und/oder im Excel-Format | G12: keine | K12: =(3 + 0.028*G5^(1/1.02)*(1+O$9+P$9+Q$9+R$9+S$9+T$9))*IS+NK -> 0 | L12: berechnetes Honorar
K13: =IF(G5>0,K12/G5,"")
G15: Beschreibung:
C16: Zu/Abschlag in %
C17: Nebenkosten
H18: =IF(G5>0,K12/G5,"")
C19: =IF(F19=0, "UNVOLLSTÄNDIG AUSGEFÜLLT!","") -> UNVOLLSTÄNDIG AUSGEFÜLLT! | F19: =IF(AND(ISNUMBER(G5),SUM(G5)>0),1,0) -> 0 | G19: =IF(F19<>0, G57,"")
A21: D r u c k b e r e i c h | I21: =IF(VLOOKUP(B27,CHOOSE({5,4,3,2,1},Gesamt!L32:L65,Gesamt!M32:M65,Gesamt!N32:N65,Gesamt!O32:O65,Gesamt!P32:P65,),4,0)>0,CONCATENATE("Pos. ",VLOOKUP(B27,CHOOSE({5,4,3,2,1},Gesamt!L32:L65,Gesamt!M32:M65,Gesamt!N32:N65,Gesamt!O32:O65,Gesamt!P32:P65,),VLOOKUP(Gesamt!C19,Gesamt!L5:N7,3,0),0)),"")
B22: =CONCATENATE(Gesamt!C2, ": ", Gesamt!E2) -> Projekt:
B23: =CONCATENATE(Gesamt!C4, ": ", Gesamt!E4, IF(Gesamt!E5<>""," - ",""), IF(Gesamt!E5<>"",Gesamt!E5,""), IF(Gesamt!E6<>""," - GZ. ",""), IF(Gesamt!E6<>"",Gesamt!E6,""),) -> Auftraggeber:
B24: =CONCATENATE(Gesamt!C9, ": ",Gesamt!E9, IF(Gesamt!C10<>""," - ",""), IF(Gesamt!C10<>"",Gesamt!E10,""), IF(Gesamt!C11<>""," - GZ. ",""), IF(Gesamt!C11<>"",Gesamt!E11,""), ) -> Bieter: - - GZ.
B25: Kalkulationsgrundlage: Leistungsbild für Vermessung und Geoinformation (LB_VG)
B27: =CONCATENATE(D2) -> Nutzflächenermittlung
C29: LB_VG, Pos. 4.8, Nutzflächenermittlung
C31: mittlerer Bürostundensatz: | E31: =IS -> 0
C33: H = (3,0 + 0,028 * (NF^(1/1,02)) * (1 + pv + zf + lg + gr + rh + tab)) * IST + NK
C36: NF = | D36: =CONCATENATE(G5,"m2 ") -> m2 | E36: Nutzfläche
C38: pv = | D38: =CONCATENATE(G7," ") -> ja | E38: Ausführungspläne vorhanden
C39: lg = | D39: =CONCATENATE(G8," ") -> ja | E39: Flächen leerstehend
C40: gr = | D40: =CONCATENATE(G9,"% ") -> 0% | E40: Flächenanteil großer Räume (> 100m2)
C41: rh = | D41: =CONCATENATE(G10,"% ") -> 0% | E41: Raumhöhenauswertung
C42: tab = | D42: =CONCATENATE(G12," ") -> keine | E42: Flächentabelle auf Plan, im Excel-Format oder beides
D44: =IF(D9>0,D9,"") | F44: =IF(D9>0,F9,"")
D45: =IF(D10>0,D10,"") | F45: =IF(D10>0,F10,"")
D46: =IF(D11>0,D11,"") | F46: =IF(D11>0,F11,"")
C50: Honorar: | F50: =IF(F19<>0,ROUND(K12,2),0) -> 0
C53: =IF(AND(ZuAbschlag<>0,VSK<>0),"Zu-/Abschlag:","") | E53: =IF(AND(ZuAbschlag<>0,VSK<>0),ZuAbschlag,"") | F53: =IF(AND(ZuAbschlag<>0,VSK<>0),F50*E53,"") | G53: =IF(AND(ZuAbschlag<>0,VSK<>0,G16<>""),G16,"")
C54: =IF(AND(NK<>0,VSK<>0),"Nebenkosten:","") | F54: =IF(AND(NK<>0,VSK<>0),NK,"") | G54: =IF(AND(NK<>0,VSK<>0,G17<>""),G17,"")
C56: =IF(E18>0,"Nebenkosten:","") | F56: =IF(E18>0,ROUND(E18,2),"")
C57: Gesamthonorar: | G57: =IF(F19,SUM(F50:F54),0) -> 0

Sheet 4.9
A1: E i n g a b e b e r e i c h | K1: Überschriftszeile Druckbereich: | N1: =CELL("ZEILE",B33) -> 33
C2: Überschrift | D2: Herstellung von Baubestandsplänen | K2: Ergebniszeile Druckbereich | N2: =CELL("ZEILE",G69) -> 69
K3: Vollständigkeit | N3: =F25 -> 0
E4: Bruttogeschoß- fläche | F4: Schnitt- fläche | G4: Ansichts- fläche | O4: BGF/SF/AF | T4: BGF | U4: SF | V4: AF
K5: Zeitgenössisches Gebäude | O5: 0 | P5: Keller | T5: 0.3 | U5: 0.15 | W5: Anteile | Y5: BGF | Z5: €/m2 ohne Basiskosten | AA5: Schnitt- fläche | AB5: €/m2 ohne Basiskosten | AC5: Ansichts- fläche | AD5: €/m2 ohne Basiskosten
C6: Keller | H6: =IF(AND(E10<200,E10>0),"Gesamtbruttogeschoßflächen unter 200m² können nach Zeit- und Sachaufwand verrechnet werden.","") | K6: Historisches Gebäude | O6: 0.25 | P6: Regelgeschoß | T6: 0 | U6: 0 | V6: 0
C7: Regelgeschoß | K7: gt | O7: =VLOOKUP(E13,K5:O6,5,FALSE) -> 0 | P7: Rohdachboden (ohne Gesperre) | T7: -0.3 | U7: -0.3 | W7: Basiskosten | Y7: =IF(E10>0,Y$14*IS,"") | AA7: =IF(F$10>0,AA$14*IS*U16,"") | AC7: =IF(G$10>0,AC$14*IS*V16,"")
C8: Dachboden | P8: Rohdachboden (mit Hauptgesperre) | T8: 0 | U8: 0 | W8: Keller | Y8: =IF(E$10>0,(Y$15*E$10^(1/Y$16)*(E$6/E$10)*(1+$T$5+$O$7+$O$16+$T$16))*IS,"") | Z8: =Y8/E6 -> #VALUE! | AA8: =IF(F$10>0,(AA$15*F$10^(1/AA$16)*(F$6/F$10)*(1+$U$5+$O$7+$O$16))*$U$16*IS,"") | AB8: =AA8/F6 -> #VALUE!
C9: Dachdraufsicht | P9: Rohdachboden (Gesperre komplett) | T9: 0.75 | U9: 0.35 | W9: Regelgeschoß | Y9: =IF(E$10>0,(Y$15*E$10^(1/Y$16)*(E$7/E$10)*(1+T$6+O$7+O$16+T$16))*IS,"") | Z9: =Y9/E7 -> #VALUE! | AA9: =IF(F$10>0,(AA$15*F$10^(1/AA$16)*(F$7/F$10)*(1+$U$6+$O$7+$O$16))*$U$16*IS,"") | AB9: =AA9/F7 -> #VALUE! | AC9: =IF(G$10>0,(AC$15*G$10^(1/AC$16)*(G$7/G$10)*(1+$V$6+$O$7+$O$16))*$V$16*IS,"") | AD9: =AC9/G7 -> #VALUE!
C10: Gesamt | E10: =SUM(E6:E9) -> 0 | F10: =SUM(F6:F8) -> 0 | G10: =SUM(G6,G7,G9) -> 0 | K10: A 6250-1, Aufnahmedichte A | O10: 0 | P10: ausgebaut (Gesperre nicht sichtbar) | T10: 0 | U10: 0 | W10: Dachboden | Y10: =IF(E$10>0,(Y$15*E$10^(1/Y$16)*(E$8/E$10)*(1+T$11+O$7+O$16+T$16))*IS,"") | Z10: =Y10/E8 -> #VALUE! | AA10: =IF(F$10>0,(AA$15*F$10^(1/AA$16)*(F$8/F$10)*(1+$U$11+$O$7+$O$16))*$U$16*IS,"") | AB10: =AA10/F8 -> #VALUE!
K11: A 6250-1, Aufnahmedichte B | O11: 0.1 | P11: ab | T11: =VLOOKUP(E16,P7:T10,5,FALSE) -> 0 | U11: =VLOOKUP(E16,P7:U10,6,FALSE) -> 0 | W11: Dachdraufsicht | Y11: =IF(E$10>0,(Y$15*E$10^(1/Y$16)*(E$9/E$10)*(1+T$12+O$7+O$16+T$16))*IS,"") | Z11: =Y11/E9 -> #VALUE! | AC11: =IF(G$10>0,(AC$15*G$10^(1/AC$16)*(G$9/G$10)*(1+$V$12+$O$7+$O$16))*$V$16*IS,"") | AD11: =AC11/G9 -> #VALUE!
E12: =IF(OR(E14=K14,E14=K15),"Denkmalschutz!","") | K12: A 6250-1, Aufnahmedichte C | O12: 0.2 | P12: Dachdraufsicht | T12: -0.5 | V12: -0.3 | W12: Summe | Y12: =SUM(Y7:Y11) -> 0 | AA12: =SUM(AA7:AA11) -> 0 | AC12: =SUM(AC7:AC11) -> 0
C13: Gebäudetyp: | E13: Zeitgenössisches Gebäude | K13: A 6250-1, Aufnahmedichte D | O13: 0.3 | P13: nein | T13: 0 | U13: 1 | V13: 1 | Y13: =IF(E10>0,Y12/E10,"") | AA13: =IF(F$10>0,AA12/F10,"") | AC13: =IF(G$10>0,AC12/G10,"") | AD13: =IF(I$10>0,AD12/I10,"")
C14: Ö-Norm: | E14: A 6250-1, Aufnahmedichte A | K14: A 6250-2, Konturdarstellung / Aufnahmedichte E | O14: 0.5 | P14: nur 3d-Modellierung | T14: 0.6 | U14: 0 | V14: 0 | W14: Basisstunden | Y14: 4 | AA14: 2 | AC14: 2
K15: A 6250-2, Portaitdarstellung / Aufnahmedichte F | O15: 0.6 | P15: mit Grundriss-, Schnitt- und/oder Ansichtsdarstellung | T15: 0.8 | U15: 0.3 | V15: 0.3 | W15: allgemeiner Faktor | Y15: 0.034 | AA15: 0.024 | AC15: 0.02
C16: Dachbodeninhalt: | E16: Rohdachboden (mit Hauptgesperre) | K16: norm | O16: =VLOOKUP(E14,K10:O15,5,FALSE) -> 0 | P16: mod | T16: =VLOOKUP(E18,P13:T15,5,FALSE) -> 0 | U16: =VLOOKUP(E18,P13:U15,6,FALSE) -> 1 | V16: =VLOOKUP(E18,P13:V15,7,FALSE) -> 1 | W16: Potenz | Y16: 1.02 | AA16: 1.02 | AC16: 1.02
C18: 3d-Modellierung: | E18: nein
C20: =IF(AND(SUM(F10:G10)>0,E18=P14),"Schnitt- und Ansichtsflächen werden nicht berücksichtigt!","")
G21: Beschreibung:
C22: Zu/Abschlag in %
C23: Nebenkosten
C25: =IF(F25=0, "UNVOLLSTÄNDIG AUSGEFÜLLT!","") -> UNVOLLSTÄNDIG AUSGEFÜLLT! | F25: =IF(E10>0,1,0) -> 0 | G25: =IF(F25<>0, G69,"")
A27: D r u c k b e r e i c h | I27: =IF(VLOOKUP(B33,CHOOSE({5,4,3,2,1},Gesamt!L32:L65,Gesamt!M32:M65,Gesamt!N32:N65,Gesamt!O32:O65,Gesamt!P32:P65,),4,0)>0,CONCATENATE("Pos. ",VLOOKUP(B33,CHOOSE({5,4,3,2,1},Gesamt!L32:L65,Gesamt!M32:M65,Gesamt!N32:N65,Gesamt!O32:O65,Gesamt!P32:P65,),VLOOKUP(Gesamt!C19,Gesamt!L5:N7,3,0),0)),"")
B28: =CONCATENATE(Gesamt!C2, ": ", Gesamt!E2) -> Projekt:
B29: =CONCATENATE(Gesamt!C4, ": ", Gesamt!E4, IF(Gesamt!E5<>""," - ",""), IF(Gesamt!E5<>"",Gesamt!E5,""), IF(Gesamt!E6<>""," - GZ. ",""), IF(Gesamt!E6<>"",Gesamt!E6,""),) -> Auftraggeber:
B30: =CONCATENATE(Gesamt!C9, ": ",Gesamt!E9, IF(Gesamt!C10<>""," - ",""), IF(Gesamt!C10<>"",Gesamt!E10,""), IF(Gesamt!C11<>""," - GZ. ",""), IF(Gesamt!C11<>"",Gesamt!E11,""), ) -> Bieter: - - GZ.
B31: Kalkulationsgrundlage: Leistungsbild für Vermessung und Geoinformation (LB_VG)
B33: =CONCATENATE(D2) -> Herstellung von Baubestandsplänen
C35: LB_VG, Pos. 4.9, Herstellung von Baubestandsplänen
C37: mittlerer Bürostundensatz: | E37: =IS -> 0
C39: Basis | D39: HBasis = 3,0 * IST + NK
C40: Keller | D40: HKeller = 0,034 * (BGF^(1/1,02)) * (BGFK/BGF) * (1 + gt + norm + ab + mod) * IST
C41: Regelgesch. | D41: HRegelgesch. = 0,034 * (BGF^(1/1,02)) * (BGFR/BGF) * (1 + gt + norm + ab + mod) * IST
C42: Dachboden | D42: HDachboden = 0,034 * (BGF^(1/1,02)) * (BGFDB/BGF) * (1 + gt + norm + ab + mod) * IST
C43: Dachdraufs. | D43: HDraufsicht = 0,034 * (BGF^(1/1,02)) * (BGFDD/BGF) * (1 + gt + norm + ab + mod) * IST
C44: HBGFgesamt = HBasis + HKeller + HRegelgesch. + HDachboden + HDachdraufsicht
C46: HSchnitt und HAnsicht : siehe RVS 06.01.12
C49: Gebäudetyp: | E49: gt = | F49: =E13 -> Zeitgenössisches Gebäude
C50: Ö-Norm: | E50: norm = | F50: =E14 -> A 6250-1, Aufnahmedichte A
C51: Aufnahmebereich: | E51: ab = | F51: =E16 -> Rohdachboden (mit Hauptgesperre)
C52: 3d-Modellierung: | E52: mod = | F52: =E18 -> nein
E54: Bruttogeschoß- fläche | F54: Schnitt- fläche | G54: Ansichts- fläche
C55: Keller | E55: =E6 -> 0 | F55: =F6 -> 0
C56: Regelgeschoß | E56: =E7 -> 0 | F56: =F7 -> 0 | G56: =G7 -> 0
C57: Dachboden | E57: =E8 -> 0 | F57: =F8 -> 0
C58: Dachdraufsicht | E58: =E9 -> 0 | G58: =G9 -> 0
C59: Gesamt | E59: =SUM(E55:E58) -> 0 | F59: =SUM(F55:F57) -> 0 | G59: =SUM(G56,G58) -> 0
C61: Kosten: | E61: =Y12 -> 0 | F61: =AA12 -> 0 | G61: =AC12 -> 0
C63: Honorar: | F63: =IF(F25<>0,ROUND(SUM(E61:G61),2),0) -> 0
C65: =IF(AND(ZuAbschlag<>0,VSK<>0),"Zu-/Abschlag:","") | E65: =IF(AND(ZuAbschlag<>0,VSK<>0),ZuAbschlag,"") | F65: =IF(AND(ZuAbschlag<>0,VSK<>0),F63*E65,"") | G65: =IF(AND(ZuAbschlag<>0,VSK<>0,G22<>""),G22,"")
C66: =IF(AND(NK<>0,VSK<>0),"Nebenkosten:","") | F66: =IF(AND(NK<>0,VSK<>0),NK,"") | G66: =IF(AND(NK<>0,VSK<>0,G23<>""),G23,"")
C68: =IF(E24>0,"Nebenkosten:","") | F68: =IF(E24>0,ROUND(E24,2),"")
C69: Gesamthonorar: | G69: =IF(F25,SUM(F63:F66),0) -> 0

Sheet 4.10
A1: E i n g a b e b e r e i c h | K1: Überschriftszeile Druckbereich: | N1: =CELL("ZEILE",B27) -> 27
C2: Überschrift | D2: Herstellung von Profilen | K2: Ergebniszeile Druckbereich | N2: =CELL("ZEILE",G62) -> 62
K3: Vollständigkeit | N3: =F19 -> 0
C4: Profilart | F4: Querprofil | G4: =VLOOKUP(H4,Konstante!Q97:R98,2,FALSE) -> 1 | H4: Gelände
C5: Leistungsumfang | E5: Herauszeichnen aus bestehenden LH-Plänen | K5: Innerhalb dieses Registers können Profile mit bis zu 3 verschiedenen Geländeklassen/Schwierigkeitsstufen kalkuliert werden.
C6: Abminderungsfaktor b | H6: =IF(E5="Herauszeichnen aus bestehenden LH-Plänen",0.6,1) -> 0.6
C7: Maßstab | H7: 1:200
C8: Profilanzahl ni | E8: Profillänge li (gesamt in [m]) | G8: Gelände/Schwierigkeit si | K8: Ha= | L8: =IF(VSK>0,((F1_*l)+PRODUCT(F2_,l1_,_s1)+PRODUCT(F2_,l2_,_s2)+PRODUCT(F2_,l3_,_s3)+(0.28*ns)+((l/ns)^0.5)/3-1+(2/ns^0.5)+PRODUCT(0.24,ns1_,_s1)+PRODUCT(0.24,ns2_,_s2)+PRODUCT(0.24,ns3_,_s3))*IS*Abminderungsfaktor,"") | M8: Ha = [(F1*l)+Si(F2*li*si)+(0,28*n)+((l/n)^0,5)/3-1+(2/n^0,5)+Si(0,24*ni*si)]*IS*b+N
C9: n1= | E9: l1= | G9: s1= | H9: Ib | K9: Hb= | L9: =IF(VSK>0,((F3_*l)+PRODUCT(F4_,l1_,_s1)+PRODUCT(F4_,l2_,_s2)+PRODUCT(F4_,l3_,_s3)+((l/ns)^0.5)/3-1+(2/ns^0.1))*IS*Abminderungsfaktor,"") | M9: Hb = [(F3*l)+Si(F4*li*si)+((l/n)^0,5)/3-1+(2/n^0,1)]*IS*b+N
C10: n2= | E10: l2= | G10: s2= | H10: Ib | K10: Hc= | L10: =IF(VSK>0,((F5_*l)+PRODUCT(F6_,l1_,_s1)+PRODUCT(F6_,l2_,_s2)+PRODUCT(F6_,l3_,_s3)+(0.19*ns)+((l/ns)^0.25/6)-1+(1/ns^0.25))*IS,"") | M10: Hc = [(F5*l)+Si(F6*li*si)+(0,19*n)+((l/n)^0,25/6)-1+(1/n^0,25)]*IS+N
C11: n3= | E11: l3= | G11: s3= | H11: Ib
C12: n= | D12: =SUM(D9:D11) -> 0 | E12: l= | F12: =SUM(F9:F11) -> 0 | G12: durchschn. l= | H12: =IF(D12>0,F12/D12,0) -> 0 | O12: =CONCATENATE("Änderung der Profilzahl wegen größerer Profillängen (>",Konstante!U101,"m)") -> Änderung der Profilzahl wegen größerer Profillängen (>250m)
K13: s1= | L13: =VLOOKUP(H9,Konstante!K$97:M$105,1+G$4,FALSE) -> 1.3 | M13: F1= | N13: =VLOOKUP(H$7,Konstante!C$97:I$103,2,FALSE) -> 0.0053 | O13: n1= | P13: =SUM(D42) -> 0 | Q13: n1+ = | R13: =IF(SUM(F42)<>"",IF((SUM(F42)-SUM(D42)*Konstante!U$101)>=0.5,ROUND((SUM(F42)-SUM(D42)*Konstante!U$101+Konstante!U$101/2-0.5)/Konstante!U$101,0),0),0) -> 0 | S13: ns1 = | T13: =P13+R13 -> 0
K14: s2= | L14: =VLOOKUP(H10,Konstante!K$97:M$105,1+G$4,FALSE) -> 1.3 | M14: F2= | N14: =VLOOKUP(H$7,Konstante!C$97:I$103,3,FALSE) -> 0.005 | O14: n2= | P14: =SUM(D43) -> 0 | Q14: n2+ = | R14: =IF(SUM(F43)<>"",IF((SUM(F43)-SUM(D43)*Konstante!U$101)>=0.5,ROUND((SUM(F43)-SUM(D43)*Konstante!U$101+Konstante!U$101/2-0.5)/Konstante!U$101,0),0),0) -> 0 | S14: ns2 = | T14: =P14+R14 -> 0
G15: Beschreibung: | K15: s3= | L15: =VLOOKUP(H11,Konstante!K$97:M$105,1+G$4,FALSE) -> 1.3 | M15: F3= | N15: =VLOOKUP(H$7,Konstante!C$97:I$103,4,FALSE) -> 0.0085 | O15: n3= | P15: =SUM(D44) -> 0 | Q15: n3+ = | R15: =IF(SUM(F44)<>"",IF((SUM(F44)-SUM(D44)*Konstante!U$101)>=0.5,ROUND((SUM(F44)-SUM(D44)*Konstante!U$101+Konstante!U$101/2-0.5)/Konstante!U$101,0),0),0) -> 0 | S15: ns3 = | T15: =P15+R15 -> 0
C16: Zu/Abschlag in % | K16: l1= | L16: =SUM(F42) -> 0 | M16: F4= | N16: =VLOOKUP(H$7,Konstante!C$97:I$103,5,FALSE) -> 0.0082 | O16: n= | P16: =SUM(P13:P15) -> 0 | Q16: n+ = | R16: =SUM(R13:R15) -> 0 | S16: ns = | T16: =P16+R16 -> 0
C17: Nebenkosten | K17: l2= | L17: =SUM(F43) -> 0 | M17: F5= | N17: =VLOOKUP(H$7,Konstante!C$97:I$103,6,FALSE) -> 0.003
K18: l3= | L18: =SUM(F44) -> 0 | M18: F6= | N18: =VLOOKUP(H$7,Konstante!C$97:I$103,7,FALSE) -> 0.0013
C19: =IF(F19=0, "UNVOLLSTÄNDIG AUSGEFÜLLT!","") -> UNVOLLSTÄNDIG AUSGEFÜLLT! | F19: =IF(OR(D12<1,F12<0.01,D12="",F12="",(D9*l1_+D10*F10+D11*F11)<0.01),0,1) -> 0 | G19: =IF(F19<>0, G62,"")
A21: D r u c k b e r e i c h | I21: =IF(VLOOKUP(B27,CHOOSE({5,4,3,2,1},Gesamt!L32:L65,Gesamt!M32:M65,Gesamt!N32:N65,Gesamt!O32:O65,Gesamt!P32:P65,),4,0)>0,CONCATENATE("Pos. ",VLOOKUP(B27,CHOOSE({5,4,3,2,1},Gesamt!L32:L65,Gesamt!M32:M65,Gesamt!N32:N65,Gesamt!O32:O65,Gesamt!P32:P65,),VLOOKUP(Gesamt!C19,Gesamt!L5:N7,3,0),0)),"")
B22: =CONCATENATE(Gesamt!C2, ": ", Gesamt!E2) -> Projekt:
B23: =CONCATENATE(Gesamt!C4, ": ", Gesamt!E4, IF(Gesamt!E5<>""," - ",""), IF(Gesamt!E5<>"",Gesamt!E5,""), IF(Gesamt!E6<>""," - GZ. ",""), IF(Gesamt!E6<>"",Gesamt!E6,""),) -> Auftraggeber:
B24: =CONCATENATE(Gesamt!C9, ": ",Gesamt!E9, IF(Gesamt!C10<>""," - ",""), IF(Gesamt!C10<>"",Gesamt!E10,""), IF(Gesamt!C11<>""," - GZ. ",""), IF(Gesamt!C11<>"",Gesamt!E11,""), ) -> Bieter: - - GZ.
B25: Kalkulationsgrundlage: Leistungsbild für Vermessung und Geoinformation (LB_VG)
B27: =D2 -> Herstellung von Profilen
C29: LB_VG, Pos. 4.10, Herstellung von Profilen
C31: mittlerer Bürostundensatz: | E31: =IS -> 0
C34: =CONCATENATE(E5," von ", H4, " - ",F4,"en") -> Herauszeichnen aus bestehenden LH-Plänen von Gelände - Querprofilen
C35: Messung
C36: =VLOOKUP(F4,Konstante!O97:X98,10,FALSE) -> Ha = [(F1*l)+Si(F2*li*si)+(0,28*n)+((l/n)^0,5)/3-1+(2/n^0,5)+Si(0,24*ni*si)]*IS*b+N
C38: Masstab: | E38: =H7 -> 1:200
C39: Abminderungsfaktor b: | E39: =H6 -> 0.6
C41: Profilanzahl ni | E41: Profillänge li (gesamt) | G41: Gelände/Schwierigkeit si
C42: =IF(AND($D9>0,$F9>0.05),"n1=","") | D42: =IF(AND($D9>0,$F9>0.05),D9,"") | E42: =IF(AND($D9>0,$F9>0.05),"l1=","") | F42: =IF(AND($D9>0,$F9>0.05),F9,"") | G42: =IF(AND($D9>0,$F9>0.05),"s1=","") | H42: =IF(AND($D9>0,$F9>0.05),H9,"")
C43: =IF(AND($D10>0,$F10>0.05),"n2=","") | D43: =IF(AND($D10>0,$F10>0.05),D10,"") | E43: =IF(AND($D10>0,$F10>0.05),"l2=","") | F43: =IF(AND($D10>0,$F10>0.05),F10,"") | G43: =IF(AND($D10>0,$F10>0.05),"s2=","") | H43: =IF(AND($D10>0,$F10>0.05),H10,"")
C44: =IF(AND($D11>0,$F11>0.05),"n3=","") | D44: =IF(AND($D11>0,$F11>0.05),D11,"") | E44: =IF(AND($D11>0,$F11>0.05),"l3=","") | F44: =IF(AND($D11>0,$F11>0.05),F11,"") | G44: =IF(AND($D11>0,$F11>0.05),"s3=","") | H44: =IF(AND($D11>0,$F11>0.05),H11,"")
C45: =IF(nplus>0,"n-zusätzlich","") | D45: =IF(nplus>0,nplus,"") | E45: =IF(nplus>0,CONCATENATE("weil Profile durchschnittlich länger ",Konstante!U101,"m"),"")
C46: =IF(AND($D12>0,$F12>0.05),"n=","") | D46: =IF(AND($D12>0,$F12>0.05),SUM(D42:D45),"") | E46: =IF(AND($D12>0,$F12>0.05),"l=","") | F46: =IF(AND($D12>0,$F12>0.05),SUM(F42:F44),"")
E47: =IF(AND($D12>0,$F12>0.05),"durchschnittliche Profillänge=","") | F47: =IF(F19>0,(F46/SUM(D42:D44)),"")
C49: Honorar: | F49: =INDIRECT("L"&SUM(7,VLOOKUP(F$4,Konstante!O$97:P$98,2,FALSE)))
C52: CAD-Auswertung
C53: =Konstante!X99 -> Hc = [(F5*l)+Si(F6*li*si)+(0,19*n)+((l/n)^0,25/6)-1+(1/n^0,25)]*IS+N
C55: Honorar: | F55: =Hc
C58: =IF(AND(E16<>0,F19<>0),"Zu-/Abschlag:","") | E58: =IF(AND(E16<>0,F19<>0),E16,"") | F58: =IF(AND(E16<>0,F19<>0),(F49+F55)*E58,"") | G58: =IF(AND(E16<>0,F19<>0,G16<>""),G16,"")
C59: =IF(AND(E17<>0,F19<>0),"Nebenkosten:","") | F59: =IF(AND(E17<>0,F19<>0),E17,"") | G59: =IF(AND(E17<>0,F19<>0,G17<>""),G17,"")
C62: Gesamthonorar: | G62: =IF(F19>0,SUM(F49,F55,F58,F59),0) -> 0

Sheet 4.11
A1: E i n g a b e b e r e i c h | K1: Überschriftszeile Druckbereich: | N1: =CELL("ZEILE",B28) -> 28
C2: Überschrift | D2: Absteckungen | K2: Ergebniszeile Druckbereich | N2: =CELL("ZEILE",G61) -> 61
K3: Vollständigkeit | N3: =F20 -> 0
C4: Datenherkunft: | D4: Koordinatenverzeichnis im System der Landesvermessung | K4: =VLOOKUP(D4,Konstante!P113:Q118,2,FALSE) -> 1 | M4: ja
M5: nein
C6: Punktanzahl | D6: mittlerer Punktabstand | E6: Punktlage- genauigkeit | F6: Geländeklasse | G6: Höhe | H6: Messeinsätze
K7: G | L7: T | M7: mit Höhe | N7: n | O7: E
D8: 10 | E8: 1 | F8: Ib | G8: nein | K8: =VLOOKUP(E8,Konstante!$M$113:$N$117,2,FALSE) -> 1 | L8: =VLOOKUP(F8,Konstante!$C$112:$H$120,VLOOKUP(D8,Konstante!$J$112:$K$116,2,FALSE),FALSE) -> 0.769 | M8: =IF(G8="ja",1.1,1) -> 1 | N8: =IF(P8>0.1,C8,0) -> 0 | O8: =IF(C8>=1,H8,0) -> 0 | P8: =IF(AND(C8>0,H$14>=1),(2.5*O8+K8*L8*C8^0.8*$K$4)*M8*IS,0) -> 0 | R8: =P8/C8 -> #DIV/0!
D9: 10 | E9: 1 | F9: Ib | G9: nein | K9: =VLOOKUP(E9,Konstante!$M$113:$N$117,2,FALSE) -> 1 | L9: =VLOOKUP(F9,Konstante!$C$112:$H$120,VLOOKUP(D9,Konstante!$J$112:$K$116,2,FALSE),FALSE) -> 0.769 | M9: =IF(G9="ja",1.1,1) -> 1 | N9: =IF(P9>0.1,C9,0) -> 0 | O9: =IF(C9>=1,H9,0) -> 0 | P9: =IF(AND(C9>0,H$14>=1),(2.5*H9+K9*L9*C9^0.8*$K$4)*M9*IS,0) -> 0 | R9: =P9/C9 -> #DIV/0!
D10: 10 | E10: 1 | F10: Ib | G10: nein | K10: =VLOOKUP(E10,Konstante!$M$113:$N$117,2,FALSE) -> 1 | L10: =VLOOKUP(F10,Konstante!$C$112:$H$120,VLOOKUP(D10,Konstante!$J$112:$K$116,2,FALSE),FALSE) -> 0.769 | M10: =IF(G10="ja",1.1,1) -> 1 | N10: =IF(P10>0.1,C10,0) -> 0 | O10: =IF(C10>=1,H10,0) -> 0 | P10: =IF(AND(C10>0,H$14>=1),(2.5*H10+K10*L10*C10^0.8*$K$4)*M10*IS,0) -> 0 | R10: =P10/C10 -> #DIV/0!
D11: 10 | E11: 1 | F11: Ib | G11: nein | K11: =VLOOKUP(E11,Konstante!$M$113:$N$117,2,FALSE) -> 1 | L11: =VLOOKUP(F11,Konstante!$C$112:$H$120,VLOOKUP(D11,Konstante!$J$112:$K$116,2,FALSE),FALSE) -> 0.769 | M11: =IF(G11="ja",1.1,1) -> 1 | N11: =IF(P11>0.1,C11,0) -> 0 | O11: =IF(C11>=1,H11,0) -> 0 | P11: =IF(AND(C11>0,H$14>=1),(2.5*H11+K11*L11*C11^0.8*$K$4)*M11*IS,0) -> 0 | R11: =P11/C11 -> #DIV/0!
D12: 10 | E12: 1 | F12: Ib | G12: nein | K12: =VLOOKUP(E12,Konstante!$M$113:$N$117,2,FALSE) -> 1 | L12: =VLOOKUP(F12,Konstante!$C$112:$H$120,VLOOKUP(D12,Konstante!$J$112:$K$116,2,FALSE),FALSE) -> 0.769 | M12: =IF(G12="ja",1.1,1) -> 1 | N12: =IF(P12>0.1,C12,0) -> 0 | O12: =IF(C12>=1,H12,0) -> 0 | P12: =IF(AND(C12>0,H$14>=1),(2.5*H12+K12*L12*C12^0.8*$K$4)*M12*IS,0) -> 0 | R12: =P12/C12 -> #DIV/0!
D13: 10 | E13: 1 | F13: Ib | G13: nein | K13: =VLOOKUP(E13,Konstante!$M$113:$N$117,2,FALSE) -> 1 | L13: =VLOOKUP(F13,Konstante!$C$112:$H$120,VLOOKUP(D13,Konstante!$J$112:$K$116,2,FALSE),FALSE) -> 0.769 | M13: =IF(G13="ja",1.1,1) -> 1 | N13: =IF(P13>0.1,C13,0) -> 0 | O13: =IF(C13>=1,H13,0) -> 0 | P13: =IF(AND(C13>0,H$14>=1),(2.5*H13+K13*L13*C13^0.8*$K$4)*M13*IS,0) -> 0 | R13: =P13/C13 -> #DIV/0!
C14: =N14 -> 0 | D14: =IF(N14>1,"Punkte","Punkt") -> Punkt | G14: Einsätze: | H14: =O14 -> 0 | N14: =SUM(N8:N13) -> 0 | O14: =SUM(O8:O13) -> 0 | P14: =IF(F20<>0,SUM(P8:P13),0) -> 0
C15: =IF(N14>0,IF(N14/O14>N15,"unplausibel kleine Anzahl an Einsätzen",""),"") | H15: =IF(H14<1, "Summe der Einsätze muss >=1 sein","") -> Summe der Einsätze muss >=1 sein | K15: maximale Punktanzahl pro Einsatz: | N15: 200
F16: Beschreibung:
C17: Zu/Abschlag :
C18: Nebenkosten:
C20: =IF(F20=0, "UNVOLLSTÄNDIG AUSGEFÜLLT!","") -> UNVOLLSTÄNDIG AUSGEFÜLLT! | F20: =IF(OR(AND(C8>0,H8>0),AND(C9>0,H9>0),AND(C10>0,H10>0),AND(C11>0,H11>0),AND(C12>0,H12>0),AND(C13>0,H13>0)),1,0) -> 0 | G20: =IF(AND(F20<>0,H14>=1),G61,"")
A22: D r u c k b e r e i c h | I22: =IF(VLOOKUP(B28,CHOOSE({5,4,3,2,1},Gesamt!L32:L65,Gesamt!M32:M65,Gesamt!N32:N65,Gesamt!O32:O65,Gesamt!P32:P65,),4,0)>0,CONCATENATE("Pos. ",VLOOKUP(B28,CHOOSE({5,4,3,2,1},Gesamt!L32:L65,Gesamt!M32:M65,Gesamt!N32:N65,Gesamt!O32:O65,Gesamt!P32:P65,),VLOOKUP(Gesamt!C19,Gesamt!L5:N7,3,0),0)),"")
B23: =CONCATENATE(Gesamt!C2, ": ", Gesamt!E2) -> Projekt:
B24: =CONCATENATE(Gesamt!C4, ": ", Gesamt!E4, IF(Gesamt!E5<>""," - ",""), IF(Gesamt!E5<>"",Gesamt!E5,""), IF(Gesamt!E6<>""," - GZ. ",""), IF(Gesamt!E6<>"",Gesamt!E6,""),) -> Auftraggeber:
B25: =CONCATENATE(Gesamt!C9, ": ",Gesamt!E9, IF(Gesamt!C10<>""," - ",""), IF(Gesamt!C10<>"",Gesamt!E10,""), IF(Gesamt!C11<>""," - GZ. ",""), IF(Gesamt!C11<>"",Gesamt!E11,""), ) -> Bieter: - - GZ.
B26: Kalkulationsgrundlage: Leistungsbild für Vermessung und Geoinformation (LB_VG)
B28: =D2 -> Absteckungen
C30: LB_VG, Pos. 4.11, Absteckungen
C32: mittlerer Bürostundensatz: | E32: =IS -> 0
C34: Absteckung ohne Höhenangabe: | F34: H = ( 2,5 * E + G * T * n^0,8 * R ) * IS + N
C35: Absteckung mit Höhenangabe: | F35: H = ( 2,5 * E + G * T * n^0,8 * R ) * 1,10 * IS+ N
C37: Datenherkunft: | E37: =D4 -> Koordinatenverzeichnis im System der Landesvermessung
C39: Messeinsätze/Anfahrten: | E39: =H14 -> 0
C43: Punktanzahl | D43: mittlerer Punktabstand | E43: Punktlage- genauigkeit | F43: Geländeklasse | G43: mit Höhe abstecken | H43: Messeinsätze
C45: =IF(P8>0,C8,"") | D45: =IF($P8>0,D8,"") | E45: =IF($P8>0,E8,"") | F45: =IF($P8>0,F8,"") | G45: =IF($P8>0,G8,"") | H45: =IF($P8>0,H8,"")
C46: =IF(P9>0,C9,"") | D46: =IF($P9>0,D9,"") | E46: =IF($P9>0,E9,"") | F46: =IF($P9>0,F9,"") | G46: =IF($P9>0,G9,"") | H46: =IF($P9>0,H9,"")
C47: =IF(P10>0,C10,"") | D47: =IF($P10>0,D10,"") | E47: =IF($P10>0,E10,"") | F47: =IF($P10>0,F10,"") | G47: =IF($P10>0,G10,"") | H47: =IF($P10>0,H10,"")
C48: =IF(P11>0,C11,"") | D48: =IF($P11>0,D11,"") | E48: =IF($P11>0,E11,"") | F48: =IF($P11>0,F11,"") | G48: =IF($P11>0,G11,"") | H48: =IF($P11>0,H11,"")
C49: =IF(P12>0,C12,"") | D49: =IF($P12>0,D12,"") | E49: =IF($P12>0,E12,"") | F49: =IF($P12>0,F12,"") | G49: =IF($P12>0,G12,"") | H49: =IF($P12>0,H12,"")
C50: =IF(P13>0,C13,"") | D50: =IF($P13>0,D13,"") | E50: =IF($P13>0,E13,"") | F50: =IF($P13>0,F13,"") | G50: =IF($P13>0,G13,"") | H50: =IF($P13>0,H13,"")
C51: =C14 -> 0 | D51: =CONCATENATE(" ",D14) -> Punkt
C54: Honorar: | F54: =IF(VSK<>0, P14,"")
C57: =IF(AND(ZuAbschlag<>0,VSK<>0),"Zu-/Abschlag:","") | E57: =IF(AND(ZuAbschlag<>0,VSK<>0),ZuAbschlag,"") | F57: =IF(AND(ZuAbschlag<>0,VSK<>0),F54*E57,"") | G57: =IF(AND(ZuAbschlag<>0,VSK<>0,F17<>""),F17,"")
C58: =IF(AND(NK<>0,VSK<>0),"Nebenkosten:","") | F58: =IF(AND(NK<>0,VSK<>0),NK,"") | G58: =IF(AND(NK<>0,VSK<>0,F18<>""),F18,"")
C61: Gesamthonorar: | G61: =IF(VSK>0,SUM(F58,F57,F54),0) -> 0
C62: =IF(O16<>0,"ohne Höhenschichtenlinien (-10%):","") | F62: =IF(O16<>0,ROUND(O16,2),"")
C63: =IF(O17<>0,"Höhenkoten nicht freistellen (-5%):","") | F63: =IF(O17<>0,ROUND(O17,2),"")

Sheet 4.12
A1: E i n g a b e b e r e i c h | K1: Überschriftszeile Druckbereich: | N1: =CELL("ZEILE",B27) -> 27
C2: Überschrift | D2: Achseinrechnung und Berechnung | K2: Ergebniszeile Druckbereich | N2: =CELL("ZEILE",G60) -> 60
D3: von Achszwischenpunkten | K3: Vollständigkeit | N3: =F19 -> 0
C7: Achslänge [km] | D7: Trassenhaupt- punkte je km | E7: Achszwischenpunkte je km | G7: Dimension
K8: g | L8: f | M8: d
D9: 0-5 | E9: 20 | F9: =VLOOKUP(E9,Konstante!$F$128:$G$133,2,FALSE) -> 50 | G9: Lage | K9: =VLOOKUP(D9,Konstante!$C$128:$D$130,2,FALSE) -> 3.5 | L9: =VLOOKUP(E9,Konstante!$F$128:$H$133,3,FALSE) -> 1 | M9: =VLOOKUP(G9,Konstante!$J$128:$K$130,2,FALSE) -> 1 | N9: =K9*L9*C9*M9*IS -> 0
D10: 5-20 | E10: 50 | F10: =VLOOKUP(E10,Konstante!$F$128:$G$133,2,FALSE) -> 20 | G10: Lage und Höhe | K10: =VLOOKUP(D10,Konstante!$C$128:$D$130,2,FALSE) -> 7 | L10: =VLOOKUP(E10,Konstante!$F$128:$H$133,3,FALSE) -> 2 | M10: =VLOOKUP(G10,Konstante!$J$128:$K$130,2,FALSE) -> 1.8 | N10: =K10*L10*C10*M10*IS -> 0
D11: über 20 | E11: 100 | F11: =VLOOKUP(E11,Konstante!$F$128:$G$133,2,FALSE) -> 10 | G11: Lage, Höhe und Überhöhung | K11: =VLOOKUP(D11,Konstante!$C$128:$D$130,2,FALSE) -> 10.5 | L11: =VLOOKUP(E11,Konstante!$F$128:$H$133,3,FALSE) -> 4 | M11: =VLOOKUP(G11,Konstante!$J$128:$K$130,2,FALSE) -> 2.2 | N11: =K11*L11*C11*M11*IS -> 0
C12: =SUM(C9:C11) -> 0 | N12: =SUM(N9:N11) -> 0
G14: Beschreibung:
C15: Zu/Abschlag in %
C16: Nebenkosten
C19: =IF(F19=0, "UNVOLLSTÄNDIG AUSGEFÜLLT!","") -> UNVOLLSTÄNDIG AUSGEFÜLLT! | F19: =IF(AND(H11<1,C12<1,C13<1),0,1) -> 0 | G19: =IF(F19<>0, G60,"")
A21: D r u c k b e r e i c h | I21: =IF(VLOOKUP(B27,CHOOSE({5,4,3,2,1},Gesamt!L32:L65,Gesamt!M32:M65,Gesamt!N32:N65,Gesamt!O32:O65,Gesamt!P32:P65,),4,0)>0,CONCATENATE("Pos. ",VLOOKUP(B27,CHOOSE({5,4,3,2,1},Gesamt!L32:L65,Gesamt!M32:M65,Gesamt!N32:N65,Gesamt!O32:O65,Gesamt!P32:P65,),VLOOKUP(Gesamt!C19,Gesamt!L5:N7,3,0),0)),"")
B22: =CONCATENATE(Gesamt!C2, ": ", Gesamt!E2) -> Projekt:
B23: =CONCATENATE(Gesamt!C4, ": ", Gesamt!E4, IF(Gesamt!E5<>""," - ",""), IF(Gesamt!E5<>"",Gesamt!E5,""), IF(Gesamt!E6<>""," - GZ. ",""), IF(Gesamt!E6<>"",Gesamt!E6,""),) -> Auftraggeber:
B24: =CONCATENATE(Gesamt!C9, ": ",Gesamt!E9, IF(Gesamt!C10<>""," - ",""), IF(Gesamt!C10<>"",Gesamt!E10,""), IF(Gesamt!C11<>""," - GZ. ",""), IF(Gesamt!C11<>"",Gesamt!E11,""), ) -> Bieter: - - GZ.
B25: Kalkulationsgrundlage: Leistungsbild für Vermessung und Geoinformation (LB_VG)
B27: =CONCATENATE(D2," ",D3) -> Achseinrechnung und Berechnung von Achszwischenpunkten
C29: LB_VG, Pos. 4.12, Achseinrechnung und Berechnung von Achszwischenpunkten
C31: mittlerer Bürostundensatz: | E31: =Gesamt!E14 -> 0
C33: H = g * f * L * d * IS + N
C36: Achslänge | D36: Trassenhaupt- punkte je km | E36: Achszwischenpunkte je km | G36: Dimension
C38: =IF(C9>0,C9,"") | D38: =IF($C9>0,D9,"") | E38: =IF($C9>0,E9,"") | F38: =IF($C9>0,F9,"") | G38: =IF(C9>0,G9,"")
C39: =IF(C10>0,C10,"") | D39: =IF($C10>0,D10,"") | E39: =IF($C10>0,E10,"") | F39: =IF($C10>0,F10,"") | G39: =IF(C10>0,G10,"")
C40: =IF(C11>0,C11,"") | D40: =IF($C11>0,D11,"") | E40: =IF($C11>0,E11,"") | F40: =IF($C11>0,F11,"") | G40: =IF(C11>0,G11,"")
C41: =SUM(C38:C40) -> 0
C53: Honorar: | F53: =IF(VSK<>0, N12,"")
C56: =IF(AND(ZuAbschlag<>0,VSK<>0),"Zu-/Abschlag:","") | E56: =IF(AND(ZuAbschlag<>0,VSK<>0),ZuAbschlag,"") | F56: =IF(AND(ZuAbschlag<>0,VSK<>0),F53*E56,"") | G56: =IF(AND(ZuAbschlag<>0,VSK<>0,G15<>""),G15,"")
C57: =IF(AND(NK<>0,VSK<>0),"Nebenkosten:","") | F57: =IF(AND(NK<>0,VSK<>0),NK,"") | G57: =IF(AND(NK<>0,VSK<>0,G16<>""),G16,"")
C60: Gesamthonorar: | G60: =IF(VSK>0,SUM(F57,F56,F53),0) -> 0

Sheet 4.13
A1: E i n g a b e b e r e i c h | K1: Überschriftszeile Druckbereich: | N1: =CELL("ZEILE",B57) -> 57
C2: Überschrift | D2: Photogrammetrie | K2: Ergebniszeile Druckbereich | N2: =CELL("ZEILE",G110) -> 110
K3: Vollständigkeit | N3: =F49 -> 0
C4: Flugkosten
C6: Auswertemaßstab | H6: 1 : 1.000
C8: Terrestr. Passpunktbestimmung | H8: =IF(VSK1_<>0,H70,"")
C9: Anzahl der einzumessenden Passpunkträume | G9: n =
C10: Schwierigkeit | F10: Zugänglichkeit: | G10: leicht zugänglich
C11: Vorhandene Festpunkte mit Abständen < 1km
C12: Passpunktdokumentation: | G12: Eintragung in Skizzen
C13: Sonstige Zuschläge | E13: 0.05 | F13: Gebirgstäler
C14: =IF(C11=Konstante!F152," Für diesen Fall keine Formel! > Bearbeitungsaufwand nach Zeitaufwand!","")
C15: Aerotriangulation | H15: =IF(VSK2_<>0,H75,"")
C16: Messart der Verknüpfungspunkte | H16: automatisch
C17: Anzahl der zu triangulierenden Bilder | G17: =IF(AND(H16="automatisch",H17<5),"sollte >= 5 sein!","") -> sollte >= 5 sein!
C19: Photogrammetrsiche Auswertung
C20: 1) Einzelpunktauswertung | H20: =IF(VSK3_<>0,H81,"")
C21: Anzahl der Neupuntke
C22: 2) Auswertung digitaler Datensätze | H22: =IF(VSK4_<>0,H95,"")
C23: Dimension der Auswertung | F23: Lage- und Höhe
C24: Höhenauswertung: | E24: Automatische DOM-Auswertung mit DGM-Berechnung
C26: Schwierigkeitsstufe | E26: % Abschlag | F26: Beschreibung Abschlag | H26: Fläche
B27: Q1: | C27: Ackerland mit großen Grundstücken, Geländeklasse I (eben)
C28: Sonstige Ab/Zuschläge
B30: Q2: | C30: Ackerland mit großen Grundstücken, Geländeklasse I (eben)
C31: Sonstige Ab/Zuschläge
B33: Q3: | C33: Ackerland mit großen Grundstücken, Geländeklasse I (eben)
C34: Sonstige Ab/Zuschläge
H35: =IF(VSK5_<>0,H102,"")
C36: 3) Digitale Orthophotos | H36: =IF(VSK5_<>0,H105,"")
C37: Anzahl der Orthophotovorlagen
C38: Geländeklasse | F38: eben, hügelig | H38: =VLOOKUP(F38,Konstante!AG148:AI149,3,FALSE) -> 0
C39: Jahreszeit der Befliegung | F39: Winter | H39: =VLOOKUP(F39,Konstante!AN142:AP144,3,FALSE) -> 0
C40: Befliegungsdauer pro Tag | F40: Sonnenhöchststand +/-2h | H40: =VLOOKUP(F40,Konstante!AN147:AP148,3,FALSE) -> 0
C41: Zeitdauer der Befliegung | F41: für einen Tag | H41: =VLOOKUP(F41,Konstante!AN151:AP153,3,FALSE) -> 0
C42: Strukturierung der Oberfläche | F42: ländliche Gebiete | H42: =VLOOKUP(F42,Konstante!AR142:AT143,3,FALSE) -> 0 | K42: Vollständigkeit Flugkosten | P42: =IF(AND(G4>0,ISNUMBER(G4)),1,0) -> 0
C43: Objektivart bei der Befliegung | F43: Normalwinkel | H43: =VLOOKUP(F43,Konstante!AR147:AT148,3,FALSE) -> 0 | K43: Vollständigkeit der Passpunktbestimmung: | P43: =IF(AND(AnzahlPasspunkte>0,ISNUMBER(AnzahlPasspunkte),VLOOKUP(C11,Konstante!F148:M152,7,FALSE)>0),1,0) -> 0
K44: Vollständigkeit der Aerotriangulation: | P44: =IF(AND(H17>0,ISNUMBER(H17)),1,0) -> 0
G45: Beschreibung: | K45: Vollständigkeit der Einzelpunktauswertung: | P45: =IF(ISNUMBER(H21),1,0) -> 0
C46: Zu/Abschlag in % | K46: Vollständigkeit der Auswertung digitaler Datensätze | P46: =IF(SUM(H27+H30+H33)>0,1,0) -> 0
C47: Nebenkosten | K47: Vollständigkeit Digitale Orthophotos | P47: =IF(ISNUMBER(H37),1,0) -> 0
C49: =IF(VSK=0, "UNVOLLSTÄNDIG AUSGEFÜLLT!","") -> UNVOLLSTÄNDIG AUSGEFÜLLT! | F49: =IF(SUM(P42:P47)>0,1,0) -> 0 | G49: =IF(VSK<>0, G110,"")
A51: D r u c k b e r e i c h | I51: =IF(VLOOKUP(B57,CHOOSE({5,4,3,2,1},Gesamt!L32:L65,Gesamt!M32:M65,Gesamt!N32:N65,Gesamt!O32:O65,Gesamt!P32:P65,),4,0)>0,CONCATENATE("Pos. ",VLOOKUP(B57,CHOOSE({5,4,3,2,1},Gesamt!L32:L65,Gesamt!M32:M65,Gesamt!N32:N65,Gesamt!O32:O65,Gesamt!P32:P65,),VLOOKUP(Gesamt!C19,Gesamt!L5:N7,3,0),0)),"")
B52: =CONCATENATE(Gesamt!C2, ": ", Gesamt!E2) -> Projekt:
B53: =CONCATENATE(Gesamt!C4, ": ", Gesamt!E4, IF(Gesamt!E5<>""," - ",""), IF(Gesamt!E5<>"",Gesamt!E5,""), IF(Gesamt!E6<>""," - GZ. ",""), IF(Gesamt!E6<>"",Gesamt!E6,""),) -> Auftraggeber:
B54: =CONCATENATE(Gesamt!C9, ": ",Gesamt!E9, IF(Gesamt!C10<>""," - ",""), IF(Gesamt!C10<>"",Gesamt!E10,""), IF(Gesamt!C11<>""," - GZ. ",""), IF(Gesamt!C11<>"",Gesamt!E11,""), ) -> Bieter: - - GZ.
B55: Kalkulationsgrundlage: Leistungsbild für Vermessung und Geoinformation (LB_VG)
B57: =D2 -> Photogrammetrie
C59: LB_VG, Pos. 4.13, Photogrammetrie | F59: IS: | G59: =Gesamt!E14 -> 0
C61: Flugkosten: | H61: =G4 -> 0
C63: Terrestr. Passpunktbestimmung
C64: M = | D64: =VLOOKUP(Masstab,Konstante!C142:D148,2,FALSE) -> 1.2 | E64: =CONCATENATE("Auswertemaßstab ",Masstab) -> Auswertemaßstab 1 : 1.000
C65: n = | D65: =AnzahlPasspunkte -> 0 | E65: Anzahl der einzumessenden Passpunkträume
C66: =CONCATENATE(C11, ", ", G10) -> Vorhandene Festpunkte mit Abständen < 1km, leicht zugänglich
C67: F = | D67: =VLOOKUP(C11,Konstante!F147:M152,6+VLOOKUP(G10,Konstante!F142:H143,3,FALSE),FALSE) -> 3 | E67: Faktor aus Tabelle 26
C68: d = | D68: =VLOOKUP(G12,Konstante!I142:K145,3,FALSE) -> 0.5 | E68: =IF(D68>0,CONCATENATE("Passpunktdokumentation: ",G12), "keine Passpunktdokumentation") -> Passpunktdokumentation: Eintragung in Skizzen
C69: z = | D69: =IF(ISNUMBER(E13),E13,0) -> 0.05 | E69: =IF(AND(ISNUMBER(E13),F13<>""),CONCATENATE("Zuschlag für ",F13),IF(AND(ISNUMBER(E13),F13=""),"Sonderzuschlag","keine sonstigen Zuschläge")) -> Zuschlag für Gebirgstäler
C70: Honorar: | D70: =IF(C11=Konstante!F152,"Keine Formel! > Bearbeitungsaufwand nach Zeitaufwand!","H = (n * F + 5) * IS * M * (1+ z) + (n * d * IST)") -> H = (n * F + 5) * IS * M * (1+ z) + (n * d * IST) | H70: =IF(VSK1_<>0,((D65*D67+5)*IS*D64*(D69+1)+(D65*D68*IS)),0) -> 0
C72: Aerotriangulation | E72: =CONCATENATE("(",H16,"e Messung der Verknüpfungspunkte)") -> (automatische Messung der Verknüpfungspunkte)
C73: n = | D73: =H17 -> 0 | E73: Anzahl der zu triangulierenden Bilder
C74: A = | D74: =IF(H16="automatisch",IF(H17>=100,0.1,IF(H17>50,0.3,IF(H17>10,0.5,0.8)))) -> 0.8 | E74: Additionskonstante für Projektvorbereitung
C75: Honorar: | D75: =IF(H16=Konstante!O142,"H = n * (0,15 + A) * IST","H = n * (0,25 + A) * IST") -> H = n * (0,15 + A) * IST | H75: =IF(VSK2_<>0,IF(H16=Konstante!O142,D73*(0.15+D74)*IS,D73*(0.25+D74)*IS),0) -> 0
C77: Photogrammetrische Auswertung
C78: 1) Einzelpunktauswerungen
C79: n = | D79: =H21 -> 0 | E79: Anzahl der zu bestimmenden Neupunkte
C80: A = | D80: =IF(H21>=500,0.006,IF(H21>=250,0.01,0.02)) -> 0.02 | E80: Additionskonstante für Projektvorbereitung
C81: Honorar: | D81: H = n * (0,05 + A) * IST | H81: =IF(VSK3_<>0,D79*(0.05+D80)*IS,0) -> 0
C83: 2) Auswertung digitaler Datensätze | F83: =CONCATENATE(Masstab, ", ", VLOOKUP(F23,Konstante!O149:Q151,3,FALSE)) -> 1 : 1.000, Auswertung nach Lage und Höhe
C84: Q1= | D84: =H27 -> 0 | E84: =C27 -> Ackerland mit großen Grundstücken, Geländeklasse I (eben)
C85: =IF(OR(E28=0,E28=""),"","") | D85: =IF(OR(E28=0,E28=""),"",E28) | E85: =IF(ISNUMBER(D85),IF(F28<>"",F28,""),"keine weiteren Zu-/Abschläge") -> keine weiteren Zu-/Abschläge
C86: Q2= | D86: =H30 -> 0 | E86: =C30 -> Ackerland mit großen Grundstücken, Geländeklasse I (eben)
C87: =IF(OR(E30=0,E30=""),"","") | D87: =IF(OR(E31=0,E31=""),"",E31) | E87: =IF(ISNUMBER(D87),IF(F31<>"",F31,""),"keine weiteren Zu-/Abschläge") -> keine weiteren Zu-/Abschläge
C88: Q3= | D88: =H33 -> 0 | E88: =C33 -> Ackerland mit großen Grundstücken, Geländeklasse I (eben)
C89: =IF(OR(E32=0,E32=""),"","") | D89: =IF(OR(E34=0,E34=""),"",E34) | E89: =IF(ISNUMBER(D89),IF(F34<>"",F34,""),"keine weiteren Zu-/Abschläge") -> keine weiteren Zu-/Abschläge
C90: F2 = | D90: =VLOOKUP(H$6,Konstante!AW143:BA149,1+VLOOKUP(C27,Konstante!W142:AD153,8,FALSE),FALSE) -> 0.606 | E90: =VLOOKUP(H$6,Konstante!AW143:BA149,1+VLOOKUP(C30,Konstante!W142:AD153,8,FALSE),FALSE) -> 0.606 | F90: =VLOOKUP(H$6,Konstante!AW143:BA149,1+VLOOKUP(C33,Konstante!W142:AD153,8,FALSE),FALSE) -> 0.606 | G90: Faktor aus Tabelle 28
C91: F3 = | D91: =IF(F23<>Konstante!O149,VLOOKUP(C27,Konstante!W142:AE153,9,FALSE),"") | E91: =IF(F23<>Konstante!O149,VLOOKUP(C30,Konstante!W142:AE153,9,FALSE),"") | F91: =IF(F23<>Konstante!O149,VLOOKUP(C33,Konstante!W142:AE153,9,FALSE),"") | G91: =IF(F23<>Konstante!O149,"Faktor aus Tabelle 31","kommt nicht zur Anwendung") -> kommt nicht zur Anwendung
C92: F4 = | D92: =IF(OR(F23=Konstante!O149,F23=Konstante!O151),VLOOKUP(E24,Konstante!AG142:AL144,6,FALSE),"") -> 0.9 | E92: =IF(OR(F23=Konstante!O149,F23=Konstante!O151),VLOOKUP(E24,Konstante!AG142:AL144,6,FALSE),"") -> 0.9 | F92: =IF(OR(F23=Konstante!O149,F23=Konstante!O151),VLOOKUP(E24,Konstante!AG142:AL144,6,FALSE),"") -> 0.9 | G92: =IF(OR(F23=Konstante!O149,F23=Konstante!O151),"Faktor aus Tabelle 29","kommt nicht zur Anwendung") -> Faktor aus Tabelle 29
C93: T = | D93: =IF((H27/VLOOKUP(H6,Konstante!BC143:BE149,2,FALSE))>0.15,0.85,ROUND(1-(H27/VLOOKUP(H6,Konstante!BC143:BE149,2,FALSE)),2)) -> 1 | E93: =IF((H30/VLOOKUP(H6,Konstante!BC143:BE149,2,FALSE))>0.15,0.85,ROUND(1-(H30/VLOOKUP(H6,Konstante!BC143:BE149,2,FALSE)),2)) -> 1 | F93: =IF((H33/VLOOKUP(H6,Konstante!BC143:BE149,2,FALSE))>0.15,0.85,ROUND(1-(H33/VLOOKUP(H6,Konstante!BC143:BE149,2,FALSE)),2)) -> 1 | G93: Reduktionsfaktor aus Tabelle 30
D94: =IF(VSK4_<>0,PRODUCT($D$84,D90,IF(D91="",1,D91),IF(D92="",IF($F$23=Konstante!$O$151,0.7,1),D92),D93,IS,SUM(1,$D$85),),0) -> 0 | E94: =IF(VSK4_<>0,PRODUCT($D$86,E90,IF(E91="",1,E91),IF(E92="",IF($F$23=Konstante!$O$151,0.7,1),E92),E93,IS,SUM(1,$D$87),),0) -> 0 | F94: =IF(VSK4_<>0,PRODUCT($D$88,F90,IF(F91="",1,F91),IF(F92="",IF($F$23=Konstante!$O$151,0.7,1),F92),F93,IS,SUM(1,$D$89),),0) -> 0 | G94: Summe Q1, Q2, Q3
C95: Honorar: | D95: =CONCATENATE(VLOOKUP(F23,Konstante!O149:T151,6,FALSE),IF(D85=0,""," zuzügl. Ab-/Zuschläge")) -> H1 = Q x F2 x F4 x T x IST zuzügl. Ab-/Zuschläge | H95: =SUM(D94:F94) -> 0
C97: 3 Digitale Orthophotos (DOP)
C98: Anzahl der Orthophotovorlagen | F98: =H37 -> 0
C99: Geländeklasse | F99: =F38 -> eben, hügelig | H99: =IF(H38=0,"",(IF(H38<0,CONCATENATE(ABS(H38)*100,"% Abschlag"),CONCATENATE(H38*100,"% Aufschlag"))))
C100: Jahreszeit der Befliegung | F100: =F39 -> Winter | H100: =IF(H39=0,"",(IF(H39<0,CONCATENATE(ABS(H39)*100,"% Abschlag"),CONCATENATE(H39*100,"% Aufschlag"))))
C101: Befliegungsdauer pro Tag | F101: =F40 -> Sonnenhöchststand +/-2h | H101: =IF(H40=0,"",(IF(H40<0,CONCATENATE(ABS(H40)*100,"% Abschlag"),CONCATENATE(H40*100,"% Aufschlag"))))
C102: Zeitdauer der Befliegung | F102: =F41 -> für einen Tag | H102: =IF(H41=0,"",(IF(H41<0,CONCATENATE(ABS(H41)*100,"% Abschlag"),CONCATENATE(H41*100,"% Aufschlag"))))
C103: Strukturierung der Oberfläche | F103: =F42 -> ländliche Gebiete | H103: =IF(H42=0,"",(IF(H42<0,CONCATENATE(ABS(H42)*100,"% Abschlag"),CONCATENATE(H42*100,"% Aufschlag"))))
C104: Objektivart bei der Befliegung | F104: =F43 -> Normalwinkel | H104: =IF(H43=0,"",(IF(H43<0,CONCATENATE(ABS(H43)*100,"% Abschlag"),CONCATENATE(H43*100,"% Aufschlag"))))
C105: Honorar: | D105: H = n x 0,25 x IST zuzügl. Ab-/Zuschläge | H105: =IF(VSK5_<>0,F98*0.25*IS*(1+SUM(H38:H43)),0) -> 0
C107: =IF(AND(ZuAbschlag<>0,VSK<>0),"Zu-/Abschlag:","") | E107: =IF(AND(ZuAbschlag<>0,VSK<>0),ZuAbschlag,"") | F107: =IF(AND(ZuAbschlag<>0,VSK<>0),H61*E107+H70*E107+H75*E107+H81*E107+H95*E107+H105*E107,"") | G107: =IF(AND(ZuAbschlag<>0,VSK<>0,G46<>""),G46,"")
C108: =IF(AND(NK<>0,VSK<>0),"Nebenkosten:","") | F108: =IF(AND(NK<>0,VSK<>0),NK,"") | G108: =IF(AND(NK<>0,VSK<>0,G47<>""),G47,"")
C110: Gesamthonorar: | G110: =IF(VSK>0,SUM(H61,H70,H75,H81,H95,H105,F107,F108),0) -> 0

Sheet 4.14
A1: E i n g a b e b e r e i c h | K1: Überschriftszeile Druckbereich: | N1: =CELL("ZEILE",B60) -> 60
C2: Laserscanning | K2: Ergebniszeile Druckbereich | N2: =CELL("ZEILE",G92) -> 92
K3: Vollständigkeit | N3: =E52 -> 0
C4: Qualifikation/Beschreibung | G4: Kürzel | H4: EP
C5: ='6.2'!C8:F8 -> Messgehilfe | G5: ='6.2'!G8 -> Geh. | H5: ='6.2'!H8 -> 0
C6: ='6.2'!C9:F9 -> Schreibkraft | G6: ='6.2'!G9 -> Sek. | H6: ='6.2'!H9 -> 0
C7: ='6.2'!C10:F10 -> Techniker | G7: ='6.2'!G10 -> Tech. | H7: ='6.2'!H10 -> 0
C8: ='6.2'!C11:F11 -> Nachtzuschlag Techniker | G8: ='6.2'!G11 -> NZ-Techn. | H8: ='6.2'!H11 -> 0
C9: ='6.2'!C12:F12 -> CAD-Auswertestunde | G9: ='6.2'!G12 -> CAD | H9: ='6.2'!H12 -> 0
C10: ='6.2'!C13:F13 -> Ingenieur | G10: ='6.2'!G13 -> Ing. | H10: ='6.2'!H13 -> 0
C11: ='6.2'!C14:F14 -> Nachtzuschlag Ingenieur | G11: ='6.2'!G14 -> NZ-Ing. | H11: ='6.2'!H14 -> 0
C12: ='6.2'!C15:F15 -> qualifizierter Ingenieur | G12: ='6.2'!G15 -> qu.Ing. | H12: ='6.2'!H15 -> 0
C13: ='6.2'!C16:F16 -> Ziviltechnikerleistung | G13: ='6.2'!G16 -> ZT | H13: ='6.2'!H16 -> 0
C14: ='6.2'!C17:F17 -> 1-Personen-Partie inkl. Gerät | G14: ='6.2'!G17 -> 1MP | H14: ='6.2'!H17 -> 0
C15: ='6.2'!C18:F18 -> 2-Personen-Partie inkl. Gerät | G15: ='6.2'!G18 -> 2MP | H15: ='6.2'!H18 -> 0
C16: ='6.2'!C19:F19 -> Nachtzuschlag 1-Personen-Partie | G16: ='6.2'!G19 -> NZ-1MP | H16: ='6.2'!H19 -> 0
... C24: ='6.2'!C27:F27 -> Barauslagen | G24: ='6.2'!G27 -> Bar | H24: ='6.2'!H27 -> 1
C26: Pos. | D26: Leistungsbeschreibung | E26: Qual. | F26: Std./Anz. | G26: EP | H26: gesamt (€)
G27: =IF(E27<>"",VLOOKUP(E27,G$5:H$18,2,FALSE),"") | H27: =IF(AND(E27<>"",F27<>"",F27>0),F27*G27,"")
G28: =IF(E28<>"",VLOOKUP(E28,G$5:H$18,2,FALSE),"") | H28: =IF(AND(E28<>"",F28<>"",F28>0),F28*G28,"")
G29: =IF(E29<>"",VLOOKUP(E29,G$5:H$18,2,FALSE),"") | H29: =IF(AND(E29<>"",F29<>"",F29>0),F29*G29,"")
G30: =IF(E30<>"",VLOOKUP(E30,G$5:H$18,2,FALSE),"") | H30: =IF(AND(E30<>"",F30<>"",F30>0),F30*G30,"")
G31: =IF(E31<>"",VLOOKUP(E31,G$5:H$18,2,FALSE),"") | H31: =IF(AND(E31<>"",F31<>"",F31>0),F31*G31,"")
G32: =IF(E32<>"",VLOOKUP(E32,G$5:H$18,2,FALSE),"") | H32: =IF(AND(E32<>"",F32<>"",F32>0),F32*G32,"")
G33: =IF(E33<>"",VLOOKUP(E33,G$5:H$18,2,FALSE),"") | H33: =IF(AND(E33<>"",F33<>"",F33>0),F33*G33,"")
G34: =IF(E34<>"",VLOOKUP(E34,G$5:H$18,2,FALSE),"") | H34: =IF(AND(E34<>"",F34<>"",F34>0),F34*G34,"")
G35: =IF(E35<>"",VLOOKUP(E35,G$5:H$18,2,FALSE),"") | H35: =IF(AND(E35<>"",F35<>"",F35>0),F35*G35,"")
G36: =IF(E36<>"",VLOOKUP(E36,G$5:H$18,2,FALSE),"") | H36: =IF(AND(E36<>"",F36<>"",F36>0),F36*G36,"")
G37: =IF(E37<>"",VLOOKUP(E37,G$5:H$18,2,FALSE),"") | H37: =IF(AND(E37<>"",F37<>"",F37>0),F37*G37,"")
G38: =IF(E38<>"",VLOOKUP(E38,G$5:H$18,2,FALSE),"") | H38: =IF(AND(E38<>"",F38<>"",F38>0),F38*G38,"")
... G46: =IF(E46<>"",VLOOKUP(E46,G$5:H$18,2,FALSE),"") | H46: =IF(AND(E46<>"",F46<>"",F46>0),F46*G46,"")
H47: =IF(VSK<>0, SUM(H27:H46),"")
F48: Beschreibung:
C49: Zu/Abschlag in %
C50: Nebenkosten in €
C52: =IF(VSK=0, "UNVOLLSTÄNDIG AUSGEFÜLLT!","") -> UNVOLLSTÄNDIG AUSGEFÜLLT! | E52: =IF(SUM(H27:H46)>0,1,0) -> 0 | G52: =IF(VSK<>0, G92,"")
A54: D r u c k b e r e i c h | I54: =IF(VLOOKUP(B60,CHOOSE({5,4,3,2,1},Gesamt!L32:L65,Gesamt!M32:M65,Gesamt!N32:N65,Gesamt!O32:O65,Gesamt!P32:P65,),4,0)>0,CONCATENATE("Pos. ",VLOOKUP(B60,CHOOSE({5,4,3,2,1},Gesamt!L32:L65,Gesamt!M32:M65,Gesamt!N32:N65,Gesamt!O32:O65,Gesamt!P32:P65,),VLOOKUP(Gesamt!C19,Gesamt!L5:N7,3,0),0)),"")
B55: =CONCATENATE(Gesamt!C2, ": ", Gesamt!E2) -> Projekt:
B56: =CONCATENATE(Gesamt!C4, ": ", Gesamt!E4, IF(Gesamt!E5<>""," - ",""), IF(Gesamt!E5<>"",Gesamt!E5,""), IF(Gesamt!E6<>""," - GZ. ",""), IF(Gesamt!E6<>"",Gesamt!E6,""),) -> Auftraggeber:
B57: =CONCATENATE(Gesamt!C9, ": ",Gesamt!E9, IF(Gesamt!C10<>""," - ",""), IF(Gesamt!C10<>"",Gesamt!E10,""), IF(Gesamt!C11<>""," - GZ. ",""), IF(Gesamt!C11<>"",Gesamt!E11,""), ) -> Bieter: - - GZ.
B58: Kalkulationsgrundlage: Leistungsbild für Vermessung und Geoinformation (LB_VG)
B60: =C2 -> Laserscanning
C62: =CONCATENATE("LB_VG, Pos. 4.14, ",C2) -> LB_VG, Pos. 4.14, Laserscanning
C64: mittlerer Bürostundensatz: | E64: =IS -> 0
C66: Pos. | D66: Leistungsbeschreibung | E66: Qual. | F66: Std./Anz. | G66: EP | H66: gesamt (€)
C67: =IF(C27<>"",C27,"") | D67: =IF(D27<>"",D27,"") | E67: =IF(E27<>"",E27,"") | F67: =IF(F27<>"",F27,"") | G67: =IF(G27<>"",G27,"") | H67: =IF(H27<>"",H27,"") | K67: Mit Start > Format > Zeilenhöhe automatisch anpassen können mehrzeilige Leistungsbeschreibungen formatiert werden
C68: =IF(C28<>"",C28,"") | D68: =IF(D28<>"",D28,"") | E68: =IF(E28<>"",E28,"") | F68: =IF(F28<>"",F28,"") | G68: =IF(G28<>"",G28,"") | H68: =IF(H28<>"",H28,"")
C69: =IF(C29<>"",C29,"") | D69: =IF(D29<>"",D29,"") | E69: =IF(E29<>"",E29,"") | F69: =IF(F29<>"",F29,"") | G69: =IF(G29<>"",G29,"") | H69: =IF(H29<>"",H29,"")
C70: =IF(C30<>"",C30,"") | D70: =IF(D30<>"",D30,"") | E70: =IF(E30<>"",E30,"") | F70: =IF(F30<>"",F30,"") | G70: =IF(G30<>"",G30,"") | H70: =IF(H30<>"",H30,"")
C71: =IF(C31<>"",C31,"") | D71: =IF(D31<>"",D31,"") | E71: =IF(E31<>"",E31,"") | F71: =IF(F31<>"",F31,"") | G71: =IF(G31<>"",G31,"") | H71: =IF(H31<>"",H31,"")
C72: =IF(C32<>"",C32,"") | D72: =IF(D32<>"",D32,"") | E72: =IF(E32<>"",E32,"") | F72: =IF(F32<>"",F32,"") | G72: =IF(G32<>"",G32,"") | H72: =IF(H32<>"",H32,"")
C73: =IF(C33<>"",C33,"") | D73: =IF(D33<>"",D33,"") | E73: =IF(E33<>"",E33,"") | F73: =IF(F33<>"",F33,"") | G73: =IF(G33<>"",G33,"") | H73: =IF(H33<>"",H33,"")
C74: =IF(C34<>"",C34,"") | D74: =IF(D34<>"",D34,"") | E74: =IF(E34<>"",E34,"") | F74: =IF(F34<>"",F34,"") | G74: =IF(G34<>"",G34,"") | H74: =IF(H34<>"",H34,"")
C75: =IF(C35<>"",C35,"") | D75: =IF(D35<>"",D35,"") | E75: =IF(E35<>"",E35,"") | F75: =IF(F35<>"",F35,"") | G75: =IF(G35<>"",G35,"") | H75: =IF(H35<>"",H35,"")
C76: =IF(C36<>"",C36,"") | D76: =IF(D36<>"",D36,"") | E76: =IF(E36<>"",E36,"") | F76: =IF(F36<>"",F36,"") | G76: =IF(G36<>"",G36,"") | H76: =IF(H36<>"",H36,"")
C77: =IF(C37<>"",C37,"") | D77: =IF(D37<>"",D37,"") | E77: =IF(E37<>"",E37,"") | F77: =IF(F37<>"",F37,"") | G77: =IF(G37<>"",G37,"") | H77: =IF(H37<>"",H37,"")
C78: =IF(C38<>"",C38,"") | D78: =IF(D38<>"",D38,"") | E78: =IF(E38<>"",E38,"") | F78: =IF(F38<>"",F38,"") | G78: =IF(G38<>"",G38,"") | H78: =IF(H38<>"",H38,"")
C79: =IF(C39<>"",C39,"") | D79: =IF(D39<>"",D39,"") | E79: =IF(E39<>"",E39,"") | F79: =IF(F39<>"",F39,"") | G79: =IF(G39<>"",G39,"") | H79: =IF(H39<>"",H39,"")
... C86: =IF(C46<>"",C46,"") | D86: =IF(D46<>"",D46,"") | E86: =IF(E46<>"",E46,"") | F86: =IF(F46<>"",F46,"") | G86: =IF(G46<>"",G46,"") | H86: =IF(H46<>"",H46,"")
G87: =IF(VSK<>0, SUM(H67:H86),"")
C89: =IF(AND(ZuAbschlag<>0,VSK<>0),"Zu-/Abschlag:","") | E89: =IF(AND(ZuAbschlag<>0,VSK<>0),ZuAbschlag,"") | F89: =IF(AND(ZuAbschlag<>0,VSK<>0),G87*E89,"") | G89: =IF(AND(ZuAbschlag<>0,VSK<>0,F49<>""),F49,"")
C90: =IF(AND(NK<>0,VSK<>0),"Nebenkosten:","") | F90: =IF(AND(NK<>0,VSK<>0),NK,"") | G90: =IF(AND(NK<>0,VSK<>0,F50<>""),F50,"")
C92: Gesamthonorar: | G92: =IF(VSK>0,SUM(F90,F89,G87),0) -> 0

Sheet 4.15
A1: E i n g a b e b e r e i c h | K1: Überschriftszeile Druckbereich: | N1: =CELL("ZEILE",B27) -> 27
C2: Überschrift | D2: Signalisierung und Stabilisierung | K2: Ergebniszeile Druckbereich | N2: =CELL("ZEILE",G60) -> 60
K3: Vollständigkeit | N3: =F19 -> 0
C6: Anzahl | D6: Vermarkung | G6: Erreichbarkeit | H6: Geländeklasse | K6: m | L6: v | M6: E
D7: Grenzstein, Länge mind. 50 cm | G7: A | H7: I | K7: =VLOOKUP(D7,Konstante!$D$158:$F$170,3,FALSE) -> 0.31 | L7: =VLOOKUP(D7,Konstante!$D$158:$F$170,2,FALSE) -> 0.3 | M7: =VLOOKUP(G7,Konstante!$I$160:$M$162,VLOOKUP(H7,Konstante!$I$166:$J$168,2,FALSE),FALSE) -> 1 | N7: =(K7*C7)+(L7*M7*C7) -> 0
D8: Gabelpunkt | G8: A | H8: I | K8: =VLOOKUP(D8,Konstante!$D$158:$F$170,3,FALSE) -> 0.27 | L8: =VLOOKUP(D8,Konstante!$D$158:$F$170,2,FALSE) -> 0.54 | M8: =VLOOKUP(G8,Konstante!$I$160:$M$162,VLOOKUP(H8,Konstante!$I$166:$J$168,2,FALSE),FALSE) -> 1 | N8: =(K8*C8)+(L8*M8*C8) -> 0
D9: Eisenrohr oder Eisenbolzen, einbetoniert | G9: A | H9: I | K9: =VLOOKUP(D9,Konstante!$D$158:$F$170,3,FALSE) -> 0.17 | L9: =VLOOKUP(D9,Konstante!$D$158:$F$170,2,FALSE) -> 0.54 | M9: =VLOOKUP(G9,Konstante!$I$160:$M$162,VLOOKUP(H9,Konstante!$I$166:$J$168,2,FALSE),FALSE) -> 1 | N9: =(K9*C9)+(L9*M9*C9) -> 0
D10: Eisenrohr oder Eisenbolzen | G10: A | H10: I | K10: =VLOOKUP(D10,Konstante!$D$158:$F$170,3,FALSE) -> 0.05 | L10: =VLOOKUP(D10,Konstante!$D$158:$F$170,2,FALSE) -> 0.12 | M10: =VLOOKUP(G10,Konstante!$I$160:$M$162,VLOOKUP(H10,Konstante!$I$166:$J$168,2,FALSE),FALSE) -> 1 | N10: =(K10*C10)+(L10*M10*C10) -> 0
D11: Eingemeißeltes Kreuz oder Loch | G11: A | H11: I | K11: =VLOOKUP(D11,Konstante!$D$158:$F$170,3,FALSE) -> 0.02 | L11: =VLOOKUP(D11,Konstante!$D$158:$F$170,2,FALSE) -> 0.18 | M11: =VLOOKUP(G11,Konstante!$I$160:$M$162,VLOOKUP(H11,Konstante!$I$166:$J$168,2,FALSE),FALSE) -> 1 | N11: =(K11*C11)+(L11*M11*C11) -> 0
D12: Sichtpflock, Länge mind. 60 cm | G12: A | H12: I | K12: =VLOOKUP(D12,Konstante!$D$158:$F$170,3,FALSE) -> 0.07 | L12: =VLOOKUP(D12,Konstante!$D$158:$F$170,2,FALSE) -> 0.03 | M12: =VLOOKUP(G12,Konstante!$I$160:$M$162,VLOOKUP(H12,Konstante!$I$166:$J$168,2,FALSE),FALSE) -> 1 | N12: =(K12*C12)+(L12*M12*C12) -> 0
C13: =SUM(C7:C12) -> 0 | D13: =IF(C13>1,"Punkte","Punkt") -> Punkt | N13: =SUM(N7:N12) -> 0
F15: Beschreibung:
C16: Zu/Abschlag :
C17: Nebenkosten:
C19: =IF(F19=0, "UNVOLLSTÄNDIG AUSGEFÜLLT!","") -> UNVOLLSTÄNDIG AUSGEFÜLLT! | F19: =IF(AND(C7<1,C8<1,C9<1,C10<1,C11<1,C12<1),0,1) -> 0 | G19: =IF(VSK<>0, G60,"")
A21: D r u c k b e r e i c h | I21: =IF(VLOOKUP(B27,CHOOSE({5,4,3,2,1},Gesamt!L32:L65,Gesamt!M32:M65,Gesamt!N32:N65,Gesamt!O32:O65,Gesamt!P32:P65,),4,0)>0,CONCATENATE("Pos. ",VLOOKUP(B27,CHOOSE({5,4,3,2,1},Gesamt!L32:L65,Gesamt!M32:M65,Gesamt!N32:N65,Gesamt!O32:O65,Gesamt!P32:P65,),VLOOKUP(Gesamt!C19,Gesamt!L5:N7,3,0),0)),"")
B22: =CONCATENATE(Gesamt!C2, ": ", Gesamt!E2) -> Projekt:
B23: =CONCATENATE(Gesamt!C4, ": ", Gesamt!E4, IF(Gesamt!E5<>""," - ",""), IF(Gesamt!E5<>"",Gesamt!E5,""), IF(Gesamt!E6<>""," - GZ. ",""), IF(Gesamt!E6<>"",Gesamt!E6,""),) -> Auftraggeber:
B24: =CONCATENATE(Gesamt!C9, ": ",Gesamt!E9, IF(Gesamt!C10<>""," - ",""), IF(Gesamt!C10<>"",Gesamt!E10,""), IF(Gesamt!C11<>""," - GZ. ",""), IF(Gesamt!C11<>"",Gesamt!E11,""), ) -> Bieter: - - GZ.
B25: Kalkulationsgrundlage: Leistungsbild für Vermessung und Geoinformation (LB_VG)
B27: =CONCATENATE(D2," ",D3) -> Signalisierung und Stabilisierung
C29: LB_VG, Pos. 4.15, Signalisierung und Stabilisierung
C31: mittlerer Bürostundensatz: | E31: =Gesamt!E14 -> 0
C33: H = [ (m * n) + (v * E * n) ] * IS + N
C36: Anzahl | D36: Vermarkung | G36: Erreichbarkeit | H36: Geländeklasse
C37: =IF(C7>0,C7,"") | D37: =IF($C7>0,D7,"") | G37: =IF($C7>0,G7,"") | H37: =IF($C7>0,H7,"")
C38: =IF(C8>0,C8,"") | D38: =IF($C8>0,D8,"") | G38: =IF($C8>0,G8,"") | H38: =IF($C8>0,H8,"")
C39: =IF(C9>0,C9,"") | D39: =IF($C9>0,D9,"") | G39: =IF($C9>0,G9,"") | H39: =IF($C9>0,H9,"")
C40: =IF(C10>0,C10,"") | D40: =IF($C10>0,D10,"") | G40: =IF($C10>0,G10,"") | H40: =IF($C10>0,H10,"")
C41: =IF(C11>0,C11,"") | D41: =IF($C11>0,D11,"") | G41: =IF($C11>0,G11,"") | H41: =IF($C11>0,H11,"")
C42: =IF(C12>0,C12,"") | D42: =IF($C12>0,D12,"") | G42: =IF($C12>0,G12,"") | H42: =IF($C12>0,H12,"")
C43: =SUM(C37:C42) -> 0 | D43: Punkte
C46: Erreichbarkeit:
C47: A - mit Kfz erreichbar
C48: B - mit Kfz nur über Umwege oder mit Geländefahrzeug erreichbar
C49: C - nur mit langen Fußmärschen erreichbar
C53: Honorar: | D53: =IF(D14<>"",D14,"") | E53: =IF(E14<>"",E14,"") | F53: =IF(VSK<>0, N13*IS,"") | G53: =IF(G14<>"",G14,"") | H53: =IF(H14<>"",H14,"")
C56: =IF(AND(ZuAbschlag<>0,VSK<>0),"Zu-/Abschlag:","") | E56: =IF(AND(ZuAbschlag<>0,VSK<>0),ZuAbschlag,"") | F56: =IF(AND(ZuAbschlag<>0,VSK<>0),F53*E56,"") | G56: =IF(AND(ZuAbschlag<>0,VSK<>0,F16<>""),F16,"")
C57: =IF(AND(NK<>0,VSK<>0),"Nebenkosten:","") | F57: =IF(AND(NK<>0,VSK<>0),NK,"") | G57: =IF(AND(NK<>0,VSK<>0,F17<>""),F17,"")
C60: Gesamthonorar: | G60: =IF(F19=1,SUM(F53,F56,F57),0) -> 0
C61: =IF(O15<>0,"ohne Höhenschichtenlinien (-10%):","") | F61: =IF(O15<>0,ROUND(O15,2),"")
C62: =IF(O16<>0,"Höhenkoten nicht freistellen (-5%):","") | F62: =IF(O16<>0,ROUND(O16,2),"")

Sheet 5.1
A1: E i n g a b e b e r e i c h | K1: Überschriftszeile Druckbereich: | N1: =CELL("ZEILE",B60) -> 60
C2: Geoinformationen | K2: Ergebniszeile Druckbereich | N2: =CELL("ZEILE",G92) -> 92
K3: Vollständigkeit | N3: =E52 -> 0
C4: Qualifikation/Beschreibung | G4: Kürzel | H4: EP
C5: ='6.2'!C8:F8 -> Messgehilfe | G5: ='6.2'!G8 -> Geh. | H5: ='6.2'!H8 -> 0
C6: ='6.2'!C9:F9 -> Schreibkraft | G6: ='6.2'!G9 -> Sek. | H6: ='6.2'!H9 -> 0
C7: ='6.2'!C10:F10 -> Techniker | G7: ='6.2'!G10 -> Tech. | H7: ='6.2'!H10 -> 0
C8: ='6.2'!C11:F11 -> Nachtzuschlag Techniker | G8: ='6.2'!G11 -> NZ-Techn. | H8: ='6.2'!H11 -> 0
C9: ='6.2'!C12:F12 -> CAD-Auswertestunde | G9: ='6.2'!G12 -> CAD | H9: ='6.2'!H12 -> 0
C10: ='6.2'!C13:F13 -> Ingenieur | G10: ='6.2'!G13 -> Ing. | H10: ='6.2'!H13 -> 0
C11: ='6.2'!C14:F14 -> Nachtzuschlag Ingenieur | G11: ='6.2'!G14 -> NZ-Ing. | H11: ='6.2'!H14 -> 0
C12: ='6.2'!C15:F15 -> qualifizierter Ingenieur | G12: ='6.2'!G15 -> qu.Ing. | H12: ='6.2'!H15 -> 0
C13: ='6.2'!C16:F16 -> Ziviltechnikerleistung | G13: ='6.2'!G16 -> ZT | H13: ='6.2'!H16 -> 0
C14: ='6.2'!C17:F17 -> 1-Personen-Partie inkl. Gerät | G14: ='6.2'!G17 -> 1MP | H14: ='6.2'!H17 -> 0
C15: ='6.2'!C18:F18 -> 2-Personen-Partie inkl. Gerät | G15: ='6.2'!G18 -> 2MP | H15: ='6.2'!H18 -> 0
C16: ='6.2'!C19:F19 -> Nachtzuschlag 1-Personen-Partie | G16: ='6.2'!G19 -> NZ-1MP | H16: ='6.2'!H19 -> 0
... C24: ='6.2'!C27:F27 -> Barauslagen | G24: ='6.2'!G27 -> Bar | H24: ='6.2'!H27 -> 1
C26: Pos. | D26: Leistungsbeschreibung | E26: Qual. | F26: Std./Anz. | G26: EP | H26: gesamt (€)
G27: =IF(E27<>"",VLOOKUP(E27,G$5:H$18,2,FALSE),"") | H27: =IF(AND(E27<>"",F27<>"",F27>0),F27*G27,"")
G28: =IF(E28<>"",VLOOKUP(E28,G$5:H$18,2,FALSE),"") | H28: =IF(AND(E28<>"",F28<>"",F28>0),F28*G28,"")
G29: =IF(E29<>"",VLOOKUP(E29,G$5:H$18,2,FALSE),"") | H29: =IF(AND(E29<>"",F29<>"",F29>0),F29*G29,"")
G30: =IF(E30<>"",VLOOKUP(E30,G$5:H$18,2,FALSE),"") | H30: =IF(AND(E30<>"",F30<>"",F30>0),F30*G30,"")
G31: =IF(E31<>"",VLOOKUP(E31,G$5:H$18,2,FALSE),"") | H31: =IF(AND(E31<>"",F31<>"",F31>0),F31*G31,"")
G32: =IF(E32<>"",VLOOKUP(E32,G$5:H$18,2,FALSE),"") | H32: =IF(AND(E32<>"",F32<>"",F32>0),F32*G32,"")
G33: =IF(E33<>"",VLOOKUP(E33,G$5:H$18,2,FALSE),"") | H33: =IF(AND(E33<>"",F33<>"",F33>0),F33*G33,"")
G34: =IF(E34<>"",VLOOKUP(E34,G$5:H$18,2,FALSE),"") | H34: =IF(AND(E34<>"",F34<>"",F34>0),F34*G34,"")
G35: =IF(E35<>"",VLOOKUP(E35,G$5:H$18,2,FALSE),"") | H35: =IF(AND(E35<>"",F35<>"",F35>0),F35*G35,"")
G36: =IF(E36<>"",VLOOKUP(E36,G$5:H$18,2,FALSE),"") | H36: =IF(AND(E36<>"",F36<>"",F36>0),F36*G36,"")
G37: =IF(E37<>"",VLOOKUP(E37,G$5:H$18,2,FALSE),"") | H37: =IF(AND(E37<>"",F37<>"",F37>0),F37*G37,"")
G38: =IF(E38<>"",VLOOKUP(E38,G$5:H$18,2,FALSE),"") | H38: =IF(AND(E38<>"",F38<>"",F38>0),F38*G38,"")
... G46: =IF(E46<>"",VLOOKUP(E46,G$5:H$18,2,FALSE),"") | H46: =IF(AND(E46<>"",F46<>"",F46>0),F46*G46,"")
H47: =IF(VSK<>0, SUM(H27:H46),"")
F48: Beschreibung:
C49: Zu/Abschlag in %
C50: Nebenkosten in €
C52: =IF(VSK=0, "UNVOLLSTÄNDIG AUSGEFÜLLT!","") -> UNVOLLSTÄNDIG AUSGEFÜLLT! | E52: =IF(SUM(H27:H46)>0,1,0) -> 0 | G52: =IF(VSK<>0, G92,"")
A54: D r u c k b e r e i c h | I54: =IF(VLOOKUP(B60,CHOOSE({5,4,3,2,1},Gesamt!L32:L65,Gesamt!M32:M65,Gesamt!N32:N65,Gesamt!O32:O65,Gesamt!P32:P65,),4,0)>0,CONCATENATE("Pos. ",VLOOKUP(B60,CHOOSE({5,4,3,2,1},Gesamt!L32:L65,Gesamt!M32:M65,Gesamt!N32:N65,Gesamt!O32:O65,Gesamt!P32:P65,),VLOOKUP(Gesamt!C19,Gesamt!L5:N7,3,0),0)),"")
B55: =CONCATENATE(Gesamt!C2, ": ", Gesamt!E2) -> Projekt:
B56: =CONCATENATE(Gesamt!C4, ": ", Gesamt!E4, IF(Gesamt!E5<>""," - ",""), IF(Gesamt!E5<>"",Gesamt!E5,""), IF(Gesamt!E6<>""," - GZ. ",""), IF(Gesamt!E6<>"",Gesamt!E6,""),) -> Auftraggeber:
B57: =CONCATENATE(Gesamt!C9, ": ",Gesamt!E9, IF(Gesamt!C10<>""," - ",""), IF(Gesamt!C10<>"",Gesamt!E10,""), IF(Gesamt!C11<>""," - GZ. ",""), IF(Gesamt!C11<>"",Gesamt!E11,""), ) -> Bieter: - - GZ.
B58: Kalkulationsgrundlage: Leistungsbild für Vermessung und Geoinformation (LB_VG)
B60: =C2 -> Geoinformationen
C62: =CONCATENATE("LB_VG, Pos. 5.1, ",C2) -> LB_VG, Pos. 5.1, Geoinformationen
C64: mittlerer Bürostundensatz: | E64: =IS -> 0
C66: Pos. | D66: Leistungsbeschreibung | E66: Qual. | F66: Std./Anz. | G66: EP | H66: gesamt (€)
C67: =IF(C27<>"",C27,"") | D67: =IF(D27<>"",D27,"") | E67: =IF(E27<>"",E27,"") | F67: =IF(F27<>"",F27,"") | G67: =IF(G27<>"",G27,"") | H67: =IF(H27<>"",H27,"") | K67: Mit Start > Format > Zeilenhöhe automatisch anpassen können mehrzeilige Leistungsbeschreibungen formatiert werden
C68: =IF(C28<>"",C28,"") | D68: =IF(D28<>"",D28,"") | E68: =IF(E28<>"",E28,"") | F68: =IF(F28<>"",F28,"") | G68: =IF(G28<>"",G28,"") | H68: =IF(H28<>"",H28,"")
C69: =IF(C29<>"",C29,"") | D69: =IF(D29<>"",D29,"") | E69: =IF(E29<>"",E29,"") | F69: =IF(F29<>"",F29,"") | G69: =IF(G29<>"",G29,"") | H69: =IF(H29<>"",H29,"")
C70: =IF(C30<>"",C30,"") | D70: =IF(D30<>"",D30,"") | E70: =IF(E30<>"",E30,"") | F70: =IF(F30<>"",F30,"") | G70: =IF(G30<>"",G30,"") | H70: =IF(H30<>"",H30,"")
C71: =IF(C31<>"",C31,"") | D71: =IF(D31<>"",D31,"") | E71: =IF(E31<>"",E31,"") | F71: =IF(F31<>"",F31,"") | G71: =IF(G31<>"",G31,"") | H71: =IF(H31<>"",H31,"")
C72: =IF(C32<>"",C32,"") | D72: =IF(D32<>"",D32,"") | E72: =IF(E32<>"",E32,"") | F72: =IF(F32<>"",F32,"") | G72: =IF(G32<>"",G32,"") | H72: =IF(H32<>"",H32,"")
C73: =IF(C33<>"",C33,"") | D73: =IF(D33<>"",D33,"") | E73: =IF(E33<>"",E33,"") | F73: =IF(F33<>"",F33,"") | G73: =IF(G33<>"",G33,"") | H73: =IF(H33<>"",H33,"")
C74: =IF(C34<>"",C34,"") | D74: =IF(D34<>"",D34,"") | E74: =IF(E34<>"",E34,"") | F74: =IF(F34<>"",F34,"") | G74: =IF(G34<>"",G34,"") | H74: =IF(H34<>"",H34,"")
C75: =IF(C35<>"",C35,"") | D75: =IF(D35<>"",D35,"") | E75: =IF(E35<>"",E35,"") | F75: =IF(F35<>"",F35,"") | G75: =IF(G35<>"",G35,"") | H75: =IF(H35<>"",H35,"")
C76: =IF(C36<>"",C36,"") | D76: =IF(D36<>"",D36,"") | E76: =IF(E36<>"",E36,"") | F76: =IF(F36<>"",F36,"") | G76: =IF(G36<>"",G36,"") | H76: =IF(H36<>"",H36,"")
C77: =IF(C37<>"",C37,"") | D77: =IF(D37<>"",D37,"") | E77: =IF(E37<>"",E37,"") | F77: =IF(F37<>"",F37,"") | G77: =IF(G37<>"",G37,"") | H77: =IF(H37<>"",H37,"")
C78: =IF(C38<>"",C38,"") | D78: =IF(D38<>"",D38,"") | E78: =IF(E38<>"",E38,"") | F78: =IF(F38<>"",F38,"") | G78: =IF(G38<>"",G38,"") | H78: =IF(H38<>"",H38,"")
C79: =IF(C39<>"",C39,"") | D79: =IF(D39<>"",D39,"") | E79: =IF(E39<>"",E39,"") | F79: =IF(F39<>"",F39,"") | G79: =IF(G39<>"",G39,"") | H79: =IF(H39<>"",H39,"")
... C86: =IF(C46<>"",C46,"") | D86: =IF(D46<>"",D46,"") | E86: =IF(E46<>"",E46,"") | F86: =IF(F46<>"",F46,"") | G86: =IF(G46<>"",G46,"") | H86: =IF(H46<>"",H46,"")
G87: =IF(VSK<>0, SUM(H67:H86),"")
C89: =IF(AND(ZuAbschlag<>0,VSK<>0),"Zu-/Abschlag:","") | E89: =IF(AND(ZuAbschlag<>0,VSK<>0),ZuAbschlag,"") | F89: =IF(AND(ZuAbschlag<>0,VSK<>0),G87*E89,"") | G89: =IF(AND(ZuAbschlag<>0,VSK<>0,F49<>""),F49,"")
C90: =IF(AND(NK<>0,VSK<>0),"Nebenkosten:","") | F90: =IF(AND(NK<>0,VSK<>0),NK,"") | G90: =IF(AND(NK<>0,VSK<>0,F50<>""),F50,"")
C92: Gesamthonorar: | G92: =IF(VSK>0,SUM(F90,F89,G87),0) -> 0

Sheet 6.1
A1: E i n g a b e b e r e i c h | K1: Überschriftszeile Druckbereich: | N1: =CELL("ZEILE",B62) -> 62
C2: Kanzleihonorare | K2: Ergebniszeile Druckbereich | N2: =CELL("ZEILE",G94) -> 94
K3: Vollständigkeit | N3: =E54 -> 0
C4: Qualifikation/Beschreibung | G4: Kürzel | H4: EP
C5: Beratung | G5: K1 | H5: =ROUND(IS*0.75,2) -> 0
C6: Erhebungen bei Behörden und Ämtern | G6: K2 | H6: =ROUND(IS*0.6,2) -> 0
C7: Vertretung bei Behörden, Rechtsanwälten, Notar usw. | G7: K3 | H7: =ROUND(IS*1,2) -> 0
C8: Verfassen der Eingabe an eine Behörde | G8: K4 | H8: =ROUND(IS*0.6,2) -> 0
C9: Einholen von Informationen auf schriftlichem Wege, | G9: K5 | H9: =ROUND(IS*0.5,2) -> 0
C10: Einbringung ins und herunterladen aus dem Urkundenarchiv | G10: K6 | H10: =ROUND(IS*0.5,2) -> 0
C12: Messgehilfe | G12: Geh. | H12: =ROUND(IS*0.5,2) -> 0
C13: Schreibkraft | G13: Sek. | H13: =ROUND(IS*0.65,2) -> 0
C14: Techniker | G14: Tech. | H14: =ROUND(IS*0.8,2) -> 0
C15: CAD-Auswertestunde | G15: CAD | H15: =ROUND(IS*0.8+IS*0.15,2) -> 0
C16: Ingenieur | G16: Ing. | H16: =ROUND(IS*1,2) -> 0
C17: qualifizierter Ingenieur (Klasse V) | G17: Ing. V | H17: =ROUND(IS*1.15,2) -> 0
C18: qualifizierter Ingenieur (Klasse VI) | G18: Ing. VI | H18: =ROUND(IS*1.25,2) -> 0
C19: qualifizierter Ingenieur (Klasse VII) | G19: Ing. VII | H19: =ROUND(IS*1.5,2) -> 0
C20: qualifizierter Ingenieur (Klasse VIII) | G20: Ing. VIII | H20: =ROUND(IS*2,2) -> 0
C21: 1-Mann-Partie inkl. Gerät | G21: 1MP | H21: =ROUND(IS*1.2,2) -> 0
C22: 2-Mann-Partie inkl. Gerät | G22: 2MP | H22: =ROUND(IS*1.6+H24,2) -> 0
C23: Einsatzpauschale (20km An/Abfahrt) | G23: Einsatz | H23: =(1.75*IS+20*'6.2'!H26) -> 13
C24: Instrument (Messgerät) oder CAD-Ausrüstung | G24: Instr/CAD | H24: =ROUND(IS*0.15,2) -> 0
C28: Pos. | D28: Leistungsbeschreibung | E28: Qual. | F28: Std./Anz. | G28: EP | H28: gesamt (€)
G29: =IF(E29<>"",VLOOKUP(E29,G$5:H$25,2,FALSE),"") | H29: =IF(AND(E29<>"",F29<>"",F29>0),F29*G29,"")
G30: =IF(E30<>"",VLOOKUP(E30,G$5:H$25,2,FALSE),"") | H30: =IF(AND(E30<>"",F30<>"",F30>0),F30*G30,"")
G31: =IF(E31<>"",VLOOKUP(E31,G$5:H$25,2,FALSE),"") | H31: =IF(AND(E31<>"",F31<>"",F31>0),F31*G31,"")
G32: =IF(E32<>"",VLOOKUP(E32,G$5:H$25,2,FALSE),"") | H32: =IF(AND(E32<>"",F32<>"",F32>0),F32*G32,"")
G33: =IF(E33<>"",VLOOKUP(E33,G$5:H$25,2,FALSE),"") | H33: =IF(AND(E33<>"",F33<>"",F33>0),F33*G33,"")
G34: =IF(E34<>"",VLOOKUP(E34,G$5:H$25,2,FALSE),"") | H34: =IF(AND(E34<>"",F34<>"",F34>0),F34*G34,"")
G35: =IF(E35<>"",VLOOKUP(E35,G$5:H$25,2,FALSE),"") | H35: =IF(AND(E35<>"",F35<>"",F35>0),F35*G35,"")
G36: =IF(E36<>"",VLOOKUP(E36,G$5:H$25,2,FALSE),"") | H36: =IF(AND(E36<>"",F36<>"",F36>0),F36*G36,"")
G37: =IF(E37<>"",VLOOKUP(E37,G$5:H$25,2,FALSE),"") | H37: =IF(AND(E37<>"",F37<>"",F37>0),F37*G37,"")
G38: =IF(E38<>"",VLOOKUP(E38,G$5:H$25,2,FALSE),"") | H38: =IF(AND(E38<>"",F38<>"",F38>0),F38*G38,"")
G39: =IF(E39<>"",VLOOKUP(E39,G$5:H$25,2,FALSE),"") | H39: =IF(AND(E39<>"",F39<>"",F39>0),F39*G39,"")
G40: =IF(E40<>"",VLOOKUP(E40,G$5:H$25,2,FALSE),"") | H40: =IF(AND(E40<>"",F40<>"",F40>0),F40*G40,"")
... G48: =IF(E48<>"",VLOOKUP(E48,G$5:H$25,2,FALSE),"") | H48: =IF(AND(E48<>"",F48<>"",F48>0),F48*G48,"")
H49: =IF(VSK<>0, SUM(H29:H48),"")
F50: Beschreibung:
C51: Zu/Abschlag in %
C52: Nebenkosten in €
C54: =IF(VSK=0, "UNVOLLSTÄNDIG AUSGEFÜLLT!","") -> UNVOLLSTÄNDIG AUSGEFÜLLT! | E54: =IF(SUM(H29:H48)>0,1,0) -> 0 | G54: =IF(VSK<>0, G94,"")
A56: D r u c k b e r e i c h | I56: =IF(VLOOKUP(B62,CHOOSE({5,4,3,2,1},Gesamt!L32:L65,Gesamt!M32:M65,Gesamt!N32:N65,Gesamt!O32:O65,Gesamt!P32:P65,),4,0)>0,CONCATENATE("Pos. ",VLOOKUP(B62,CHOOSE({5,4,3,2,1},Gesamt!L32:L65,Gesamt!M32:M65,Gesamt!N32:N65,Gesamt!O32:O65,Gesamt!P32:P65,),VLOOKUP(Gesamt!C19,Gesamt!L5:N7,3,0),0)),"")
B57: =CONCATENATE(Gesamt!C2, ": ", Gesamt!E2) -> Projekt:
B58: =CONCATENATE(Gesamt!C4, ": ", Gesamt!E4, IF(Gesamt!E5<>""," - ",""), IF(Gesamt!E5<>"",Gesamt!E5,""), IF(Gesamt!E6<>""," - GZ. ",""), IF(Gesamt!E6<>"",Gesamt!E6,""),) -> Auftraggeber:
B59: =CONCATENATE(Gesamt!C9, ": ",Gesamt!E9, IF(Gesamt!C10<>""," - ",""), IF(Gesamt!C10<>"",Gesamt!E10,""), IF(Gesamt!C11<>""," - GZ. ",""), IF(Gesamt!C11<>"",Gesamt!E11,""), ) -> Bieter: - - GZ.
B60: Kalkulationsgrundlage: Leistungsbild für Vermessung und Geoinformation (LB_VG)
B62: =C2 -> Kanzleihonorare
C64: LB_VG, Pos. 6.1, Kanzleihonorare
C66: mittlerer Bürostundensatz: | E66: =IS -> 0
C68: Pos. | D68: Leistungsbeschreibung | E68: Qual. | F68: Std./Anz. | G68: EP | H68: gesamt (€)
C69: =IF(C29<>"",C29,"") | D69: =IF(D29<>"",D29,"") | E69: =IF(E29<>"",E29,"") | F69: =IF(F29<>"",F29,"") | G69: =IF(G29<>"",G29,"") | H69: =IF(H29<>"",H29,"") | K69: Mit Start > Format > Zeilenhöhe automatisch anpassen können mehrzeilige Leistungsbeschreibungen formatiert werden
C70: =IF(C30<>"",C30,"") | D70: =IF(D30<>"",D30,"") | E70: =IF(E30<>"",E30,"") | F70: =IF(F30<>"",F30,"") | G70: =IF(G30<>"",G30,"") | H70: =IF(H30<>"",H30,"")
C71: =IF(C31<>"",C31,"") | D71: =IF(D31<>"",D31,"") | E71: =IF(E31<>"",E31,"") | F71: =IF(F31<>"",F31,"") | G71: =IF(G31<>"",G31,"") | H71: =IF(H31<>"",H31,"")
C72: =IF(C32<>"",C32,"") | D72: =IF(D32<>"",D32,"") | E72: =IF(E32<>"",E32,"") | F72: =IF(F32<>"",F32,"") | G72: =IF(G32<>"",G32,"") | H72: =IF(H32<>"",H32,"")
C73: =IF(C33<>"",C33,"") | D73: =IF(D33<>"",D33,"") | E73: =IF(E33<>"",E33,"") | F73: =IF(F33<>"",F33,"") | G73: =IF(G33<>"",G33,"") | H73: =IF(H33<>"",H33,"")
C74: =IF(C34<>"",C34,"") | D74: =IF(D34<>"",D34,"") | E74: =IF(E34<>"",E34,"") | F74: =IF(F34<>"",F34,"") | G74: =IF(G34<>"",G34,"") | H74: =IF(H34<>"",H34,"")
C75: =IF(C35<>"",C35,"") | D75: =IF(D35<>"",D35,"") | E75: =IF(E35<>"",E35,"") | F75: =IF(F35<>"",F35,"") | G75: =IF(G35<>"",G35,"") | H75: =IF(H35<>"",H35,"")
C76: =IF(C36<>"",C36,"") | D76: =IF(D36<>"",D36,"") | E76: =IF(E36<>"",E36,"") | F76: =IF(F36<>"",F36,"") | G76: =IF(G36<>"",G36,"") | H76: =IF(H36<>"",H36,"")
C77: =IF(C37<>"",C37,"") | D77: =IF(D37<>"",D37,"") | E77: =IF(E37<>"",E37,"") | F77: =IF(F37<>"",F37,"") | G77: =IF(G37<>"",G37,"") | H77: =IF(H37<>"",H37,"")
C78: =IF(C38<>"",C38,"") | D78: =IF(D38<>"",D38,"") | E78: =IF(E38<>"",E38,"") | F78: =IF(F38<>"",F38,"") | G78: =IF(G38<>"",G38,"") | H78: =IF(H38<>"",H38,"")
C79: =IF(C39<>"",C39,"") | D79: =IF(D39<>"",D39,"") | E79: =IF(E39<>"",E39,"") | F79: =IF(F39<>"",F39,"") | G79: =IF(G39<>"",G39,"") | H79: =IF(H39<>"",H39,"")
C80: =IF(C40<>"",C40,"") | D80: =IF(D40<>"",D40,"") | E80: =IF(E40<>"",E40,"") | F80: =IF(F40<>"",F40,"") | G80: =IF(G40<>"",G40,"") | H80: =IF(H40<>"",H40,"")
C81: =IF(C41<>"",C41,"") | D81: =IF(D41<>"",D41,"") | E81: =IF(E41<>"",E41,"") | F81: =IF(F41<>"",F41,"") | G81: =IF(G41<>"",G41,"") | H81: =IF(H41<>"",H41,"")
... C88: =IF(C48<>"",C48,"") | D88: =IF(D48<>"",D48,"") | E88: =IF(E48<>"",E48,"") | F88: =IF(F48<>"",F48,"") | G88: =IF(G48<>"",G48,"") | H88: =IF(H48<>"",H48,"")
G89: =IF(VSK<>0, SUM(H69:H88),"")
C91: =IF(AND(ZuAbschlag<>0,VSK<>0),"Zu-/Abschlag:","") | E91: =IF(AND(ZuAbschlag<>0,VSK<>0),ZuAbschlag,"") | F91: =IF(AND(ZuAbschlag<>0,VSK<>0),G89*E91,"") | G91: =IF(AND(ZuAbschlag<>0,VSK<>0,F51<>""),F51,"")
C92: =IF(AND(NK<>0,VSK<>0),"Nebenkosten:","") | F92: =IF(AND(NK<>0,VSK<>0),NK,"") | G92: =IF(AND(NK<>0,VSK<>0,F52<>""),F52,"")
C94: Gesamthonorar: | G94: =IF(VSK>0,SUM(F92,F91,G89),0) -> 0

Sheet 6.2
A1: E i n g a b e b e r e i c h | K1: Überschriftszeile Druckbereich: | N1: =CELL("ZEILE",B67) -> 67
C2: Regieleistung | K2: Ergebniszeile Druckbereich | N2: =CELL("ZEILE",G104) -> 104
K3: Vollständigkeit | N3: =E59 -> 0
C4: Leistungsbeschreibung
D7: Qualifikation/Beschreibung | G7: Kürzel | H7: EP
C8: Messgehilfe | G8: Geh. | H8: =ROUND(IS*0.5,2) -> 0
C9: Schreibkraft | G9: Sek. | H9: =ROUND(IS*0.65,2) -> 0
C10: Techniker | G10: Tech. | H10: =ROUND(IS*0.8,2) -> 0
C11: Nachtzuschlag Techniker | G11: NZ-Techn. | H11: =ROUND(H10*0.667,2) -> 0
C12: CAD-Auswertestunde | G12: CAD | H12: =ROUND(IS*0.8+0.15*IS,2) -> 0
C13: Ingenieur | G13: Ing. | H13: =ROUND(IS*1,2) -> 0
C14: Nachtzuschlag Ingenieur | G14: NZ-Ing. | H14: =ROUND(H13*0.667,2) -> 0
C15: qualifizierter Ingenieur | G15: qu.Ing. | H15: =ROUND(IS*1.15,2) -> 0
C16: Ziviltechnikerleistung | G16: ZT | H16: =ROUND(IS*1.25,2) -> 0
C17: 1-Personen-Partie inkl. Gerät | G17: 1MP | H17: =ROUND(IS*1+H23+H24,2) -> 0
C18: 2-Personen-Partie inkl. Gerät | G18: 2MP | H18: =ROUND(IS*1.6+H23,2) -> 0
C19: Nachtzuschlag 1-Personen-Partie | G19: NZ-1MP | H19: =ROUND(IS*1*0.667,2) -> 0
C20: Nachtzuschlag 2-Personen-Partie | G20: NZ-2MP | H20: =ROUND(IS*1.6*0.667,2) -> 0
C21: Einsatzpauschale (20km An/Abfahrt) - 1MP | G21: Eins-1MP | H21: =ROUND(IS*1+H23+20*H26,2) -> 13
C22: Einsatzpauschale (20km An/Abfahrt) - 2MP | G22: Eins-2MP | H22: =ROUND(IS*1.6+H23+20*H26,2) -> 13
C23: Instrument (Messgerät) oder CAD-Ausrüstung | G23: Instr/CAD | H23: =ROUND(0.15*IS,2) -> 0
C24: Aufschlag für höherwertiges Instrument | G24: Instr+ | H24: =ROUND(0.05*IS,2) -> 0
C25: Fahrtkosten Auto | G25: km-Auto | H25: 0.5
C26: Fahrtkosten Messfahrzeug inkl. Instrumentenausstattung | G26: km-Bus | H26: 0.65
C27: Barauslagen | G27: Bar | H27: 1
C30: Pos. | D30: Leistungsbeschreibung | E30: Qual. | F30: Std./Anz. | G30: EP | H30: gesamt (€)
G31: =IF(E31<>"",VLOOKUP(E31,G$8:H$27,2,FALSE),"") | H31: =IF(AND(E31<>"",F31<>"",F31>0),F31*G31,"")
G32: =IF(E32<>"",VLOOKUP(E32,G$8:H$27,2,FALSE),"") | H32: =IF(AND(E32<>"",F32<>"",F32>0),F32*G32,"")
G33: =IF(E33<>"",VLOOKUP(E33,G$8:H$27,2,FALSE),"") | H33: =IF(AND(E33<>"",F33<>"",F33>0),F33*G33,"")
G34: =IF(E34<>"",VLOOKUP(E34,G$8:H$27,2,FALSE),"") | H34: =IF(AND(E34<>"",F34<>"",F34>0),F34*G34,"")
G35: =IF(E35<>"",VLOOKUP(E35,G$8:H$27,2,FALSE),"") | H35: =IF(AND(E35<>"",F35<>"",F35>0),F35*G35,"")
G36: =IF(E36<>"",VLOOKUP(E36,G$8:H$27,2,FALSE),"") | H36: =IF(AND(E36<>"",F36<>"",F36>0),F36*G36,"")
G37: =IF(E37<>"",VLOOKUP(E37,G$8:H$27,2,FALSE),"") | H37: =IF(AND(E37<>"",F37<>"",F37>0),F37*G37,"")
G38: =IF(E38<>"",VLOOKUP(E38,G$8:H$27,2,FALSE),"") | H38: =IF(AND(E38<>"",F38<>"",F38>0),F38*G38,"")
G39: =IF(E39<>"",VLOOKUP(E39,G$8:H$27,2,FALSE),"") | H39: =IF(AND(E39<>"",F39<>"",F39>0),F39*G39,"")
G40: =IF(E40<>"",VLOOKUP(E40,G$8:H$27,2,FALSE),"") | H40: =IF(AND(E40<>"",F40<>"",F40>0),F40*G40,"")
G41: =IF(E41<>"",VLOOKUP(E41,G$8:H$27,2,FALSE),"") | H41: =IF(AND(E41<>"",F41<>"",F41>0),F41*G41,"")
G42: =IF(E42<>"",VLOOKUP(E42,G$8:H$27,2,FALSE),"") | H42: =IF(AND(E42<>"",F42<>"",F42>0),F42*G42,"")
... G53: =IF(E53<>"",VLOOKUP(E53,G$8:H$27,2,FALSE),"") | H53: =IF(AND(E53<>"",F53<>"",F53>0),F53*G53,"")
H54: =IF(VSK<>0, SUM(H31:H53),"")
F55: Beschreibung:
C56: Zu/Abschlag in %
C57: Nebenkosten in €
C59: =IF(VSK=0, "UNVOLLSTÄNDIG AUSGEFÜLLT!","") -> UNVOLLSTÄNDIG AUSGEFÜLLT! | E59: =IF(SUM(H31:H53)>0,1,0) -> 0 | G59: =IF(VSK<>0, G104,"")
I61: =IF(VLOOKUP(B67,CHOOSE({5,4,3,2,1},Gesamt!L32:L65,Gesamt!M32:M65,Gesamt!N32:N65,Gesamt!O32:O65,Gesamt!P32:P65,),4,0)>0,CONCATENATE("Pos. ",VLOOKUP(B67,CHOOSE({5,4,3,2,1},Gesamt!L32:L65,Gesamt!M32:M65,Gesamt!N32:N65,Gesamt!O32:O65,Gesamt!P32:P65,),VLOOKUP(Gesamt!C19,Gesamt!L5:N7,3,0),0)),"")
A62: D r u c k b e r e i c h | B62: =CONCATENATE(Gesamt!C2, ": ", Gesamt!E2) -> Projekt:
B63: =CONCATENATE(Gesamt!C4, ": ", Gesamt!E4, IF(Gesamt!E5<>""," - ",""), IF(Gesamt!E5<>"",Gesamt!E5,""), IF(Gesamt!E6<>""," - GZ. ",""), IF(Gesamt!E6<>"",Gesamt!E6,""),) -> Auftraggeber:
B64: =CONCATENATE(Gesamt!C9, ": ",Gesamt!E9, IF(Gesamt!C10<>""," - ",""), IF(Gesamt!C10<>"",Gesamt!E10,""), IF(Gesamt!C11<>""," - GZ. ",""), IF(Gesamt!C11<>"",Gesamt!E11,""), ) -> Bieter: - - GZ.
B65: Kalkulationsgrundlage: Leistungsbild für Vermessung und Geoinformation (LB_VG)
B67: =C2 -> Regieleistung
C69: LB_VG, Pos. 6.2, Regieleistungen
C71: mittlerer Bürostundensatz: | E71: =IS -> 0
C73: =C4 -> Leistungsbeschreibung
C75: Pos. | D75: Leistungsbeschreibung | E75: Qual. | F75: Std./Anz. | G75: EP | H75: gesamt (€)
C76: =IF(C31<>"",C31,"") | D76: =IF(D31<>"",D31,"") | E76: =IF(E31<>"",E31,"") | F76: =IF(F31<>"",F31,"") | G76: =IF(G31<>"",G31,"") | H76: =IF(H31<>"",H31,"")
C77: =IF(C32<>"",C32,"") | D77: =IF(D32<>"",D32,"") | E77: =IF(E32<>"",E32,"") | F77: =IF(F32<>"",F32,"") | G77: =IF(G32<>"",G32,"") | H77: =IF(H32<>"",H32,"") | K77: Mit Start > Format > Zeilenhöhe automatisch anpassen können mehrzeilige Leistungsbeschreibungen formatiert werden
C78: =IF(C33<>"",C33,"") | D78: =IF(D33<>"",D33,"") | E78: =IF(E33<>"",E33,"") | F78: =IF(F33<>"",F33,"") | G78: =IF(G33<>"",G33,"") | H78: =IF(H33<>"",H33,"")
C79: =IF(C34<>"",C34,"") | D79: =IF(D34<>"",D34,"") | E79: =IF(E34<>"",E34,"") | F79: =IF(F34<>"",F34,"") | G79: =IF(G34<>"",G34,"") | H79: =IF(H34<>"",H34,"")
C80: =IF(C35<>"",C35,"") | D80: =IF(D35<>"",D35,"") | E80: =IF(E35<>"",E35,"") | F80: =IF(F35<>"",F35,"") | G80: =IF(G35<>"",G35,"") | H80: =IF(H35<>"",H35,"")
C81: =IF(C36<>"",C36,"") | D81: =IF(D36<>"",D36,"") | E81: =IF(E36<>"",E36,"") | F81: =IF(F36<>"",F36,"") | G81: =IF(G36<>"",G36,"") | H81: =IF(H36<>"",H36,"")
C82: =IF(C37<>"",C37,"") | D82: =IF(D37<>"",D37,"") | E82: =IF(E37<>"",E37,"") | F82: =IF(F37<>"",F37,"") | G82: =IF(G37<>"",G37,"") | H82: =IF(H37<>"",H37,"")
C83: =IF(C38<>"",C38,"") | D83: =IF(D38<>"",D38,"") | E83: =IF(E38<>"",E38,"") | F83: =IF(F38<>"",F38,"") | G83: =IF(G38<>"",G38,"") | H83: =IF(H38<>"",H38,"")
C84: =IF(C39<>"",C39,"") | D84: =IF(D39<>"",D39,"") | E84: =IF(E39<>"",E39,"") | F84: =IF(F39<>"",F39,"") | G84: =IF(G39<>"",G39,"") | H84: =IF(H39<>"",H39,"")
C85: =IF(C40<>"",C40,"") | D85: =IF(D40<>"",D40,"") | E85: =IF(E40<>"",E40,"") | F85: =IF(F40<>"",F40,"") | G85: =IF(G40<>"",G40,"") | H85: =IF(H40<>"",H40,"")
C86: =IF(C41<>"",C41,"") | D86: =IF(D41<>"",D41,"") | E86: =IF(E41<>"",E41,"") | F86: =IF(F41<>"",F41,"") | G86: =IF(G41<>"",G41,"") | H86: =IF(H41<>"",H41,"")
C87: =IF(C42<>"",C42,"") | D87: =IF(D42<>"",D42,"") | E87: =IF(E42<>"",E42,"") | F87: =IF(F42<>"",F42,"") | G87: =IF(G42<>"",G42,"") | H87: =IF(H42<>"",H42,"")
C88: =IF(C43<>"",C43,"") | D88: =IF(D43<>"",D43,"") | E88: =IF(E43<>"",E43,"") | F88: =IF(F43<>"",F43,"") | G88: =IF(G43<>"",G43,"") | H88: =IF(H43<>"",H43,"")
C89: =IF(C44<>"",C44,"") | D89: =IF(D44<>"",D44,"") | E89: =IF(E44<>"",E44,"") | F89: =IF(F44<>"",F44,"") | G89: =IF(G44<>"",G44,"") | H89: =IF(H44<>"",H44,"")
... C98: =IF(C53<>"",C53,"") | D98: =IF(D53<>"",D53,"") | E98: =IF(E53<>"",E53,"") | F98: =IF(F53<>"",F53,"") | G98: =IF(G53<>"",G53,"") | H98: =IF(H53<>"",H53,"")
G99: =IF(VSK<>0, SUM(H76:H98),"")
C101: =IF(AND(ZuAbschlag<>0,VSK<>0),"Zu-/Abschlag:","") | E101: =IF(AND(ZuAbschlag<>0,VSK<>0),ZuAbschlag,"") | F101: =IF(AND(ZuAbschlag<>0,VSK<>0),G99*E101,"") | G101: =IF(AND(ZuAbschlag<>0,VSK<>0,F56<>""),F56,"")
C102: =IF(AND(NK<>0,VSK<>0),"Nebenkosten:","") | F102: =IF(AND(NK<>0,VSK<>0),NK,"") | G102: =IF(AND(NK<>0,VSK<>0,F57<>""),F57,"")
C104: Gesamthonorar: | G104: =IF(VSK>0,SUM(F102,F101,G99),0) -> 0

Sheet 6.2a
A1: E i n g a b e b e r e i c h | K1: Überschriftszeile Druckbereich: | N1: =CELL("ZEILE",B67) -> 67
C2: Regieleistung A | K2: Ergebniszeile Druckbereich | N2: =CELL("ZEILE",G104) -> 104
K3: Vollständigkeit | N3: =E59 -> 0
C4: Leistungsbeschreibung
D7: Qualifikation/Beschreibung | G7: Kürzel | H7: EP
C8: Messgehilfe | G8: Geh. | H8: =ROUND(IS*0.5,2) -> 0
C9: Schreibkraft | G9: Sek. | H9: =ROUND(IS*0.65,2) -> 0
C10: Techniker | G10: Tech. | H10: =ROUND(IS*0.8,2) -> 0
C11: Nachtzuschlag Techniker | G11: NZ-Techn. | H11: =ROUND(H10*0.667,2) -> 0
C12: CAD-Auswertestunde | G12: CAD | H12: =ROUND(IS*0.8+0.15*IS,2) -> 0
C13: Ingenieur | G13: Ing. | H13: =ROUND(IS*1,2) -> 0
C14: Nachtzuschlag Ingenieur | G14: NZ-Ing. | H14: =ROUND(H13*0.667,2) -> 0
C15: qualifizierter Ingenieur | G15: qu.Ing. | H15: =ROUND(IS*1.15,2) -> 0
C16: Ziviltechnikerleistung | G16: ZT | H16: =ROUND(IS*1.25,2) -> 0
C17: 1-Personen-Partie inkl. Gerät | G17: 1MP | H17: =ROUND(IS*1+H23+H24,2) -> 0
C18: 2-Personen-Partie inkl. Gerät | G18: 2MP | H18: =ROUND(IS*1.6+H23,2) -> 0
C19: Nachtzuschlag 1-Personen-Partie | G19: NZ-1MP | H19: =ROUND(IS*1*0.667,2) -> 0
C20: Nachtzuschlag 2-Personen-Partie | G20: NZ-2MP | H20: =ROUND(IS*1.6*0.667,2) -> 0
C21: Einsatzpauschale (20km An/Abfahrt) - 1MP | G21: Eins-1MP | H21: =ROUND(IS*1+H23+20*H26,2) -> 13
C22: Einsatzpauschale (20km An/Abfahrt) - 2MP | G22: Eins-2MP | H22: =ROUND(IS*1.6+H23+20*H26,2) -> 13
C23: Instrument (Messgerät) oder CAD-Ausrüstung | G23: Instr/CAD | H23: =ROUND(0.15*IS,2) -> 0
C24: Aufschlag für höherwertiges Instrument | G24: Instr+ | H24: =ROUND(0.05*IS,2) -> 0
C25: Fahrtkosten Auto | G25: km-Auto | H25: 0.5
C26: Fahrtkosten Messfahrzeug inkl. Instrumentenausstattung | G26: km-Bus | H26: 0.65
C27: Barauslagen | G27: Bar | H27: 1
C30: Pos. | D30: Leistungsbeschreibung | E30: Qual. | F30: Std./Anz. | G30: EP | H30: gesamt (€)
G31: =IF(E31<>"",VLOOKUP(E31,G$8:H$22,2,FALSE),"") | H31: =IF(AND(E31<>"",F31<>"",F31>0),F31*G31,"")
G32: =IF(E32<>"",VLOOKUP(E32,G$8:H$22,2,FALSE),"") | H32: =IF(AND(E32<>"",F32<>"",F32>0),F32*G32,"")
G33: =IF(E33<>"",VLOOKUP(E33,G$8:H$22,2,FALSE),"") | H33: =IF(AND(E33<>"",F33<>"",F33>0),F33*G33,"")
G34: =IF(E34<>"",VLOOKUP(E34,G$8:H$22,2,FALSE),"") | H34: =IF(AND(E34<>"",F34<>"",F34>0),F34*G34,"")
G35: =IF(E35<>"",VLOOKUP(E35,G$8:H$22,2,FALSE),"") | H35: =IF(AND(E35<>"",F35<>"",F35>0),F35*G35,"")
G36: =IF(E36<>"",VLOOKUP(E36,G$8:H$22,2,FALSE),"") | H36: =IF(AND(E36<>"",F36<>"",F36>0),F36*G36,"")
G37: =IF(E37<>"",VLOOKUP(E37,G$8:H$22,2,FALSE),"") | H37: =IF(AND(E37<>"",F37<>"",F37>0),F37*G37,"")
G38: =IF(E38<>"",VLOOKUP(E38,G$8:H$22,2,FALSE),"") | H38: =IF(AND(E38<>"",F38<>"",F38>0),F38*G38,"")
G39: =IF(E39<>"",VLOOKUP(E39,G$8:H$22,2,FALSE),"") | H39: =IF(AND(E39<>"",F39<>"",F39>0),F39*G39,"")
G40: =IF(E40<>"",VLOOKUP(E40,G$8:H$22,2,FALSE),"") | H40: =IF(AND(E40<>"",F40<>"",F40>0),F40*G40,"")
G41: =IF(E41<>"",VLOOKUP(E41,G$8:H$22,2,FALSE),"") | H41: =IF(AND(E41<>"",F41<>"",F41>0),F41*G41,"")
G42: =IF(E42<>"",VLOOKUP(E42,G$8:H$22,2,FALSE),"") | H42: =IF(AND(E42<>"",F42<>"",F42>0),F42*G42,"")
... G53: =IF(E53<>"",VLOOKUP(E53,G$8:H$22,2,FALSE),"") | H53: =IF(AND(E53<>"",F53<>"",F53>0),F53*G53,"")
H54: =IF(VSK<>0, SUM(H31:H53),"")
F55: Beschreibung:
C56: Zu/Abschlag in %
C57: Nebenkosten in €
C59: =IF(VSK=0, "UNVOLLSTÄNDIG AUSGEFÜLLT!","") -> UNVOLLSTÄNDIG AUSGEFÜLLT! | E59: =IF(SUM(H31:H53)>0,1,0) -> 0 | G59: =IF(VSK<>0, G104,"")
I61: =IF(VLOOKUP(B67,CHOOSE({5,4,3,2,1},Gesamt!L32:L65,Gesamt!M32:M65,Gesamt!N32:N65,Gesamt!O32:O65,Gesamt!P32:P65,),4,0)>0,CONCATENATE("Pos. ",VLOOKUP(B67,CHOOSE({5,4,3,2,1},Gesamt!L32:L65,Gesamt!M32:M65,Gesamt!N32:N65,Gesamt!O32:O65,Gesamt!P32:P65,),VLOOKUP(Gesamt!C19,Gesamt!L5:N7,3,0),0)),"")
A62: D r u c k b e r e i c h | B62: =CONCATENATE(Gesamt!C2, ": ", Gesamt!E2) -> Projekt:
B63: =CONCATENATE(Gesamt!C4, ": ", Gesamt!E4, IF(Gesamt!E5<>""," - ",""), IF(Gesamt!E5<>"",Gesamt!E5,""), IF(Gesamt!E6<>""," - GZ. ",""), IF(Gesamt!E6<>"",Gesamt!E6,""),) -> Auftraggeber:
B64: =CONCATENATE(Gesamt!C9, ": ",Gesamt!E9, IF(Gesamt!C10<>""," - ",""), IF(Gesamt!C10<>"",Gesamt!E10,""), IF(Gesamt!C11<>""," - GZ. ",""), IF(Gesamt!C11<>"",Gesamt!E11,""), ) -> Bieter: - - GZ.
B65: Kalkulationsgrundlage: Leistungsbild für Vermessung und Geoinformation (LB_VG)
B67: =C2 -> Regieleistung A
C69: LB_VG, Pos. 6.2, Regieleistungen
C71: mittlerer Bürostundensatz: | E71: =IS -> 0
C73: =C4 -> Leistungsbeschreibung
C75: Pos. | D75: Leistungsbeschreibung | E75: Qual. | F75: Std./Anz. | G75: EP | H75: gesamt (€)
C76: =IF(C31<>"",C31,"") | D76: =IF(D31<>"",D31,"") | E76: =IF(E31<>"",E31,"") | F76: =IF(F31<>"",F31,"") | G76: =IF(G31<>"",G31,"") | H76: =IF(H31<>"",H31,"")
C77: =IF(C32<>"",C32,"") | D77: =IF(D32<>"",D32,"") | E77: =IF(E32<>"",E32,"") | F77: =IF(F32<>"",F32,"") | G77: =IF(G32<>"",G32,"") | H77: =IF(H32<>"",H32,"") | K77: Mit Start > Format > Zeilenhöhe automatisch anpassen können mehrzeilige Leistungsbeschreibungen formatiert werden
C78: =IF(C33<>"",C33,"") | D78: =IF(D33<>"",D33,"") | E78: =IF(E33<>"",E33,"") | F78: =IF(F33<>"",F33,"") | G78: =IF(G33<>"",G33,"") | H78: =IF(H33<>"",H33,"")
C79: =IF(C34<>"",C34,"") | D79: =IF(D34<>"",D34,"") | E79: =IF(E34<>"",E34,"") | F79: =IF(F34<>"",F34,"") | G79: =IF(G34<>"",G34,"") | H79: =IF(H34<>"",H34,"")
C80: =IF(C35<>"",C35,"") | D80: =IF(D35<>"",D35,"") | E80: =IF(E35<>"",E35,"") | F80: =IF(F35<>"",F35,"") | G80: =IF(G35<>"",G35,"") | H80: =IF(H35<>"",H35,"")
C81: =IF(C36<>"",C36,"") | D81: =IF(D36<>"",D36,"") | E81: =IF(E36<>"",E36,"") | F81: =IF(F36<>"",F36,"") | G81: =IF(G36<>"",G36,"") | H81: =IF(H36<>"",H36,"")
C82: =IF(C37<>"",C37,"") | D82: =IF(D37<>"",D37,"") | E82: =IF(E37<>"",E37,"") | F82: =IF(F37<>"",F37,"") | G82: =IF(G37<>"",G37,"") | H82: =IF(H37<>"",H37,"")
C83: =IF(C38<>"",C38,"") | D83: =IF(D38<>"",D38,"") | E83: =IF(E38<>"",E38,"") | F83: =IF(F38<>"",F38,"") | G83: =IF(G38<>"",G38,"") | H83: =IF(H38<>"",H38,"")
C84: =IF(C39<>"",C39,"") | D84: =IF(D39<>"",D39,"") | E84: =IF(E39<>"",E39,"") | F84: =IF(F39<>"",F39,"") | G84: =IF(G39<>"",G39,"") | H84: =IF(H39<>"",H39,"")
C85: =IF(C40<>"",C40,"") | D85: =IF(D40<>"",D40,"") | E85: =IF(E40<>"",E40,"") | F85: =IF(F40<>"",F40,"") | G85: =IF(G40<>"",G40,"") | H85: =IF(H40<>"",H40,"")
C86: =IF(C41<>"",C41,"") | D86: =IF(D41<>"",D41,"") | E86: =IF(E41<>"",E41,"") | F86: =IF(F41<>"",F41,"") | G86: =IF(G41<>"",G41,"") | H86: =IF(H41<>"",H41,"")
C87: =IF(C42<>"",C42,"") | D87: =IF(D42<>"",D42,"") | E87: =IF(E42<>"",E42,"") | F87: =IF(F42<>"",F42,"") | G87: =IF(G42<>"",G42,"") | H87: =IF(H42<>"",H42,"")
C88: =IF(C43<>"",C43,"") | D88: =IF(D43<>"",D43,"") | E88: =IF(E43<>"",E43,"") | F88: =IF(F43<>"",F43,"") | G88: =IF(G43<>"",G43,"") | H88: =IF(H43<>"",H43,"")
C89: =IF(C44<>"",C44,"") | D89: =IF(D44<>"",D44,"") | E89: =IF(E44<>"",E44,"") | F89: =IF(F44<>"",F44,"") | G89: =IF(G44<>"",G44,"") | H89: =IF(H44<>"",H44,"")
... C98: =IF(C53<>"",C53,"") | D98: =IF(D53<>"",D53,"") | E98: =IF(E53<>"",E53,"") | F98: =IF(F53<>"",F53,"") | G98: =IF(G53<>"",G53,"") | H98: =IF(H53<>"",H53,"")
G99: =IF(VSK<>0, SUM(H76:H98),"")
C101: =IF(AND(ZuAbschlag<>0,VSK<>0),"Zu-/Abschlag:","") | E101: =IF(AND(ZuAbschlag<>0,VSK<>0),ZuAbschlag,"") | F101: =IF(AND(ZuAbschlag<>0,VSK<>0),G99*E101,"") | G101: =IF(AND(ZuAbschlag<>0,VSK<>0,F56<>""),F56,"")
C102: =IF(AND(NK<>0,VSK<>0),"Nebenkosten:","") | F102: =IF(AND(NK<>0,VSK<>0),NK,"") | G102: =IF(AND(NK<>0,VSK<>0,F57<>""),F57,"")
C104: Gesamthonorar: | G104: =IF(VSK>0,SUM(F102,F101,G99),0) -> 0

Sheet 6.2b
A1: E i n g a b e b e r e i c h | K1: Überschriftszeile Druckbereich: | N1: =CELL("ZEILE",B67) -> 67
C2: Regieleistung B | K2: Ergebniszeile Druckbereich | N2: =CELL("ZEILE",G104) -> 104
K3: Vollständigkeit | N3: =E59 -> 0
C4: Leistungsbeschreibung
D7: Qualifikation/Beschreibung | G7: Kürzel | H7: EP
C8: Messgehilfe | G8: Geh. | H8: =ROUND(IS*0.5,2) -> 0
C9: Schreibkraft | G9: Sek. | H9: =ROUND(IS*0.65,2) -> 0
C10: Techniker | G10: Tech. | H10: =ROUND(IS*0.8,2) -> 0
C11: Nachtzuschlag Techniker | G11: NZ-Techn. | H11: =ROUND(H10*0.667,2) -> 0
C12: CAD-Auswertestunde | G12: CAD | H12: =ROUND(IS*0.8+0.15*IS,2) -> 0
C13: Ingenieur | G13: Ing. | H13: =ROUND(IS*1,2) -> 0
C14: Nachtzuschlag Ingenieur | G14: NZ-Ing. | H14: =ROUND(H13*0.667,2) -> 0
C15: qualifizierter Ingenieur | G15: qu.Ing. | H15: =ROUND(IS*1.15,2) -> 0
C16: Ziviltechnikerleistung | G16: ZT | H16: =ROUND(IS*1.25,2) -> 0
C17: 1-Personen-Partie inkl. Gerät | G17: 1MP | H17: =ROUND(IS*1+H23+H24,2) -> 0
C18: 2-Personen-Partie inkl. Gerät | G18: 2MP | H18: =ROUND(IS*1.6+H23,2) -> 0
C19: Nachtzuschlag 1-Personen-Partie | G19: NZ-1MP | H19: =ROUND(IS*1*0.667,2) -> 0
C20: Nachtzuschlag 2-Personen-Partie | G20: NZ-2MP | H20: =ROUND(IS*1.6*0.667,2) -> 0
C21: Einsatzpauschale (20km An/Abfahrt) - 1MP | G21: Eins-1MP | H21: =ROUND(IS*1+H23+20*H26,2) -> 13
C22: Einsatzpauschale (20km An/Abfahrt) - 2MP | G22: Eins-2MP | H22: =ROUND(IS*1.6+H23+20*H26,2) -> 13
C23: Instrument (Messgerät) oder CAD-Ausrüstung | G23: Instr/CAD | H23: =ROUND(0.15*IS,2) -> 0
C24: Aufschlag für höherwertiges Instrument | G24: Instr+ | H24: =ROUND(0.05*IS,2) -> 0
C25: Fahrtkosten Auto | G25: km-Auto | H25: 0.5
C26: Fahrtkosten Messfahrzeug inkl. Instrumentenausstattung | G26: km-Bus | H26: 0.65
C27: Barauslagen | G27: Bar | H27: 1
C30: Pos. | D30: Leistungsbeschreibung | E30: Qual. | F30: Std./Anz. | G30: EP | H30: gesamt (€)
G31: =IF(E31<>"",VLOOKUP(E31,G$8:H$27,2,FALSE),"") | H31: =IF(AND(E31<>"",F31<>"",F31>0),F31*G31,"")
G32: =IF(E32<>"",VLOOKUP(E32,G$8:H$27,2,FALSE),"") | H32: =IF(AND(E32<>"",F32<>"",F32>0),F32*G32,"")
G33: =IF(E33<>"",VLOOKUP(E33,G$8:H$27,2,FALSE),"") | H33: =IF(AND(E33<>"",F33<>"",F33>0),F33*G33,"")
G34: =IF(E34<>"",VLOOKUP(E34,G$8:H$27,2,FALSE),"") | H34: =IF(AND(E34<>"",F34<>"",F34>0),F34*G34,"")
G35: =IF(E35<>"",VLOOKUP(E35,G$8:H$27,2,FALSE),"") | H35: =IF(AND(E35<>"",F35<>"",F35>0),F35*G35,"")
G36: =IF(E36<>"",VLOOKUP(E36,G$8:H$27,2,FALSE),"") | H36: =IF(AND(E36<>"",F36<>"",F36>0),F36*G36,"")
G37: =IF(E37<>"",VLOOKUP(E37,G$8:H$27,2,FALSE),"") | H37: =IF(AND(E37<>"",F37<>"",F37>0),F37*G37,"")
G38: =IF(E38<>"",VLOOKUP(E38,G$8:H$27,2,FALSE),"") | H38: =IF(AND(E38<>"",F38<>"",F38>0),F38*G38,"")
G39: =IF(E39<>"",VLOOKUP(E39,G$8:H$27,2,FALSE),"") | H39: =IF(AND(E39<>"",F39<>"",F39>0),F39*G39,"")
G40: =IF(E40<>"",VLOOKUP(E40,G$8:H$27,2,FALSE),"") | H40: =IF(AND(E40<>"",F40<>"",F40>0),F40*G40,"")
G41: =IF(E41<>"",VLOOKUP(E41,G$8:H$27,2,FALSE),"") | H41: =IF(AND(E41<>"",F41<>"",F41>0),F41*G41,"")
G42: =IF(E42<>"",VLOOKUP(E42,G$8:H$27,2,FALSE),"") | H42: =IF(AND(E42<>"",F42<>"",F42>0),F42*G42,"")
... G53: =IF(E53<>"",VLOOKUP(E53,G$8:H$27,2,FALSE),"") | H53: =IF(AND(E53<>"",F53<>"",F53>0),F53*G53,"")
H54: =IF(VSK<>0, SUM(H31:H53),"")
F55: Beschreibung:
C56: Zu/Abschlag in %
C57: Nebenkosten in €
C59: =IF(VSK=0, "UNVOLLSTÄNDIG AUSGEFÜLLT!","") -> UNVOLLSTÄNDIG AUSGEFÜLLT! | E59: =IF(SUM(H31:H53)>0,1,0) -> 0 | G59: =IF(VSK<>0, G104,"")
I61: =IF(VLOOKUP(B67,CHOOSE({5,4,3,2,1},Gesamt!L32:L65,Gesamt!M32:M65,Gesamt!N32:N65,Gesamt!O32:O65,Gesamt!P32:P65,),4,0)>0,CONCATENATE("Pos. ",VLOOKUP(B67,CHOOSE({5,4,3,2,1},Gesamt!L32:L65,Gesamt!M32:M65,Gesamt!N32:N65,Gesamt!O32:O65,Gesamt!P32:P65,),VLOOKUP(Gesamt!C19,Gesamt!L5:N7,3,0),0)),"")
A62: D r u c k b e r e i c h | B62: =CONCATENATE(Gesamt!C2, ": ", Gesamt!E2) -> Projekt:
B63: =CONCATENATE(Gesamt!C4, ": ", Gesamt!E4, IF(Gesamt!E5<>""," - ",""), IF(Gesamt!E5<>"",Gesamt!E5,""), IF(Gesamt!E6<>""," - GZ. ",""), IF(Gesamt!E6<>"",Gesamt!E6,""),) -> Auftraggeber:
B64: =CONCATENATE(Gesamt!C9, ": ",Gesamt!E9, IF(Gesamt!C10<>""," - ",""), IF(Gesamt!C10<>"",Gesamt!E10,""), IF(Gesamt!C11<>""," - GZ. ",""), IF(Gesamt!C11<>"",Gesamt!E11,""), ) -> Bieter: - - GZ.
B65: Kalkulationsgrundlage: Leistungsbild für Vermessung und Geoinformation (LB_VG)
B67: =C2 -> Regieleistung B
C69: LB_VG, Pos. 6.2, Regieleistungen
C71: mittlerer Bürostundensatz: | E71: =IS -> 0
C73: =C4 -> Leistungsbeschreibung
C75: Pos. | D75: Leistungsbeschreibung | E75: Qual. | F75: Std./Anz. | G75: EP | H75: gesamt (€)
C76: =IF(C31<>"",C31,"") | D76: =IF(D31<>"",D31,"") | E76: =IF(E31<>"",E31,"") | F76: =IF(F31<>"",F31,"") | G76: =IF(G31<>"",G31,"") | H76: =IF(H31<>"",H31,"")
C77: =IF(C32<>"",C32,"") | D77: =IF(D32<>"",D32,"") | E77: =IF(E32<>"",E32,"") | F77: =IF(F32<>"",F32,"") | G77: =IF(G32<>"",G32,"") | H77: =IF(H32<>"",H32,"") | K77: Mit Start > Format > Zeilenhöhe automatisch anpassen können mehrzeilige Leistungsbeschreibungen formatiert werden
