Workbook
Name _Ref295723403: '6.1'!$K$15
Name _s1: '4.10'!$L$13
Name _s2: '4.10'!$L$14
Name _s3: '4.10'!$L$15
Name _Toc315531100: Konstante!#REF!
Name A: '4.1.1'!$S$17
Name Abminderungsfaktor: '4.10'!$H$6
Name AnzahlPasspunkte: '4.13'!$H$9
Name AO: '4.7.2'!$E$10
Name Art: '4.1.3'!$F$4
Name D: '4.4.x'!$D$13
Name D: '4.7.2'!$E$9
Name E: '3.1'!$L$8
Name E: '4.1.1'!$H$10
Name E: '4.4.2'!$D$10
Name Ed: '4.4.x'!$D$10
Name Es: '4.4.x'!$D$9
Name F: '3.1'!$L$18
Name f: '4.1.3'!$H$14
Name f: '4.2'!$H$9
Name f: '4.4.2'!$D$10
Name f: '4.4.x'!$D$11
Name f: '4.6'!$D$12
Name f: '4.7.2'!$D$43
Name F1_: '4.10'!$N$13
Name F2_: '4.10'!$N$14
Name F3_: '4.10'!$N$15
Name F4_: '4.10'!$N$16
Name F5_: '4.10'!$N$17
Name F6_: '4.10'!$N$18
Name G: '4.1.1'!$D$9
Name G: '4.2'!$H$11
Name G: '4.4.2'!$D$12
Name G: '4.4.x'!$D$12
Name G: '4.6'!$D$6
Name h: '4.1.1'!$H$13
Name Ha: '4.10'!$L$8
Name Hb: '4.10'!$L$9
Name Hc: '4.10'!$L$10
Name IIc: '4.7.2'!$D$43
Name IS: Gesamt!$E$14
Name K: '3.1'!$L$7
Name L: '3.1'!$L$4
Name l: '4.10'!$F$46
Name l1_: '4.10'!$L$16
Name l2_: '4.10'!$L$17
Name l3_: '4.10'!$L$18
Name Masstab: '4.13'!$H$6
Name maxzeile: Gesamt!$N$53
Name maxzeile: Gesamt!$N$63
Name Messmet: '4.1.1'!$H$5
Name n: '4.1.1'!$H$7
Name n: '4.1.3'!$H$12
Name n: '4.4.x'!$D$4
Name n: '4.6'!$D$10
Name n_1: '3.1'!$L$5
Name n_2: '3.1'!$L$6
Name n_3: '3.1'!$L$14
Name n_4: '3.1'!$L$17
Name n_5: '3.1'!$L$20

Sheet Inhaltsverz.
A1: 3 | D1: KATASTERVERMESSUNG
B2: 3.1 | D2: Tätigkeiten, die bei jeder Katastervermessung erfolgen
A4: 4 | D4: TECHNISCHE VERMESSUNG:
B5: 4.1 | D5: Ingenieurgeodätische Netzmessung
C6: 4.1.1-2 | D6: Netzmessung (bis 600m und über 600m durchschn. Seitenlänge)
C7: 4.1.3-4 | D7: Polygonzug (Feinpolygonzug und Technischer Polygonzug)
B8: 4.2 | D8: Einzelpunkteinschaltung
B9: 4.3 | D9: Kreisel-Stütz-Azimut
B10: 4.4 | D10: Bestimmung von Detailpunkten mit oder ohne Höhe
C11: 4.4.1 | D11: Detailpunkte - Deformationsmessung
C12: 4.4.2 | D12: Setzungsmessung, Flächennivellement
C13: 4.4.3 | D13: Detailpunkte - Zwangspunkte
C14: 4.4.4 | D14: Detailpunkte - Kontrollaufnahme (Soll-Ist-Vergleich)
B15: 4.5 | D15: Punktbestimmung durch kinematische GNSS-Messung
B16: 4.6 | D16: Nivellement
B17: 4.7 | D17: Kombinierte Lage- und Höhenmessung - Geländeaufnahme
C18: 4.7.1 | D18: Lage- und Höhenplan mit Höhenkoten und Höhenlinien
C19: 4.7.2 | D19: Erstellen und verfeinern eines DGM
C20: 4.7.3 | D20: 3d-Planerstellung auf Basis eines 2,5d-Lage- und Höhenplanes
C21: 4.7.4 | D21: Umbildung einer Geländeaufnahme durch Maßstabsänderung
C22: 4.7.5 | D22: Umbildung einer Geländeaufnahme vom analogen auf digitalen Datenträger
B23: 4.8 | D23: Nutzflächenermittlung
B24: 4.9 | D24: Herstellung von Baubestandsplänen
B25: 4.10 | D25: Herstellung von Profilen
B26: 4.11 | D26: Absteckungen
B27: 4.12 | D27: Achseinrechnung und Berechnung von Achszwischenpunkten
B28: 4.13 | D28: Photogrammetrie
B29: 4.14 | D29: Laserscanning
B30: 4.15 | D30: Signalisierung und Stabilisierung
A32: 5 | D32: GEOINFORMATION
B33: 5.1 | D33: Geoinformation
A35: 6 | D35: ADMINISTRATIVE UND SONSTIGE TÄTIGKEITEN
B36: 6.1 | D36: Kanzleihonorare
B37: 6.2 | D37: Regieleistungen
B38: 6.3 | D38: Nebenkosten
A40: 7 | D40: ZUSATZLEISTUNGEN gemäß Vereinbarung BAIK-ÖBB
B41: 7.1 | D41: Katastereintragung
B42: 7.2 | D42: Einbautenerhebung und -eintragung

Sheet Gesamt
A1: E i n g a b e b e r e i c h
C2: Projekt | L2: * Weiße Felder des Eingabebereiches ausfüllen
C4: Auftraggeber
C5: Ansprechpartner | L5: fortlaufende Nummer | N5: 3
C6: Auftraggeber-GZ | L6: LB_VG-Position | N6: 2
C7: Adresse | L7: individuelle Nummer | N7: 5
L8: alle Positionen anzeigen
C9: Bieter | L9: kalkulierte Positionen anführen
C10: Bearbeiter
C11: Auftragnehmer-GZ | L11: keine Rundung
C12: Adresse | L12: Rundung auf 10 Cent | N12: 1
L13: Rundung auf Euro | N13: 0
C14: mittlerer Bürostundensatz: | L14: Rundung auf 10 Euro | N14: -1
L15: Rundung auf 100 Euro | N15: -2
C16: Zu/Abschlag in % (allg.)
C17: =IF(AND(E16<>0,E16<>""),"Achtung: Vorzeichen beachten: Zuschlag: positiv; Abschlag: negativ","")
C18: Positionsbezeichnung: | E18: Positionsangaben: | G18: Rundung vornehmen:
C19: LB_VG-Position | E19: kalkulierte Positionen anführen | G19: Rundung auf 10 Euro
A21: D r u c k b e r e i c h
B22: =CONCATENATE(C2, ": ", E2) -> Projekt:
B23: =CONCATENATE(C4, ": ", E4, IF(E5<>""," - ",""), IF(E5<>"",E5,""), IF(E6<>""," - GZ. ",""), IF(E6<>"",E6,""),) -> Auftraggeber:
B24: =CONCATENATE(C9, ": ",E9, IF(C10<>""," - ",""), IF(C10<>"",E10,""), IF(C11<>""," - GZ. ",""), IF(C11<>"",E11,""), ) -> Bieter: - - GZ.
B25: Kalkulationsgrundlage: Leistungsbild für Vermessung und Geoinformation (LB_VG)
B27: GESAMT
L29: indiv. | M29: Kalk. | N29: Pos. in | P29: Leistung | T29: Preis | U29: Gebühren
B30: Pos. | C30: Leistung | G30: Preis [€] | H30: =IF(G$19<>L$11,"gerundet [€]","") -> gerundet [€] | L30: Num. | M30: vorhanden | N30: Liste | U30: ohne Mwst.
M31: Vorzeile: Achtung > innehalb der folgenden Tabelle dürfen keine Leerzeilen eingefügt werden!
B32: =IF(C$19=L$7,"",IF(CELL("Zeile",B32)-CELL("Zeile",B$31)<=maxzeile,CONCATENATE(VLOOKUP(CELL("Zeile",B32)-CELL("Zeile",B$31),N$32:T$65,2,FALSE)," "),"")) | C32: =IF(AND(B32<>"",C$19=L$7),VLOOKUP(B32,L$32:U$65,5,FALSE),IF(AND(B32<>"",CELL("Zeile",B32)-CELL("Zeile",B$31)<=maxzeile),VLOOKUP(CELL("Zeile",B32)-CELL("Zeile",B$31),N$32:U$65,3,FALSE),"")) | G32: =IF(AND(B32<>"",C$19=L$7),VLOOKUP(B32,L$32:U$65,9,FALSE),IF(AND(B32<>"",CELL("Zeile",B32)-CELL("Zeile",B$31)<=maxzeile),VLOOKUP(CELL("Zeile",B32)-CELL("Zeile",B$31),N$32:U$65,7,FALSE),"")) | H32: =IF(AND(B32<>"",C$19=L$7),IF(G$19<>L$11,ROUND(VLOOKUP(B32,L$32:U$65,9,FALSE),VLOOKUP(G$19,L$12:N$15,3,FALSE)),""),IF(AND(B32<>"",CELL("Zeile",B32)-CELL("Zeile",B$31)<=maxzeile),IF(G$19<>L$11,ROUND(VLOOKUP(CELL("Zeile",B32)-CELL("Zeile",B$31),N$32:U$65,7,FALSE),VLOOKUP(G$19,L$12:N$15,3,FALSE)),""),"")) | M32: =IF(SUM('3.1'!N$3,'3.1'!F81)>0,1,0) -> 0 | N32: =IF(E$19=L$8,CELL("Zeile",M32)-CELL("Zeile",M$31),M32+INDIRECT("N"&CELL("Zeile",M32)-1)) -> 0 | O32: =IF(C$19=L$5,N32,MID(INDIRECT("'3.1'!C$"&'3.1'!N$1+2),12,SEARCH(",",INDIRECT("'3.1'!C$"&'3.1'!N$1+2),12)-12)) -> 3.1 | P32: =INDIRECT("'3.1'!B$"&'3.1'!N$1) -> Katastervermessung | T32: =INDIRECT("'3.1'!G$"&'3.1'!N$2) -> 0 | U32: =INDIRECT("'3.1'!F$"&'3.1'!N$2+2)
B33: =IF(C$19=L$7,"",IF(CELL("Zeile",B33)-CELL("Zeile",B$31)<=maxzeile,CONCATENATE(VLOOKUP(CELL("Zeile",B33)-CELL("Zeile",B$31),N$32:T$65,2,FALSE)," "),"")) | C33: =IF(AND(B33<>"",C$19=L$7),VLOOKUP(B33,L$32:U$65,5,FALSE),IF(AND(B33<>"",CELL("Zeile",B33)-CELL("Zeile",B$31)<=maxzeile),VLOOKUP(CELL("Zeile",B33)-CELL("Zeile",B$31),N$32:U$65,3,FALSE),"")) | G33: =IF(AND(B33<>"",C$19=L$7),VLOOKUP(B33,L$32:U$65,9,FALSE),IF(AND(B33<>"",CELL("Zeile",B33)-CELL("Zeile",B$31)<=maxzeile),VLOOKUP(CELL("Zeile",B33)-CELL("Zeile",B$31),N$32:U$65,7,FALSE),"")) | H33: =IF(AND(B33<>"",C$19=L$7),IF(G$19<>L$11,ROUND(VLOOKUP(B33,L$32:U$65,9,FALSE),VLOOKUP(G$19,L$12:N$15,3,FALSE)),""),IF(AND(B33<>"",CELL("Zeile",B33)-CELL("Zeile",B$31)<=maxzeile),IF(G$19<>L$11,ROUND(VLOOKUP(CELL("Zeile",B33)-CELL("Zeile",B$31),N$32:U$65,7,FALSE),VLOOKUP(G$19,L$12:N$15,3,FALSE)),""),"")) | M33: =IF('4.1.1'!N$3>0,1,0) -> 0 | N33: =IF(E$19=L$8,CELL("Zeile",M33)-CELL("Zeile",M$31),M33+INDIRECT("N"&CELL("Zeile",M33)-1)) -> 0 | O33: =IF(C$19=L$5,N33,MID(INDIRECT("'4.1.1'!C$"&'4.1.1'!N$1+2),12,SEARCH(",",INDIRECT("'4.1.1'!C$"&'4.1.1'!N$1+2),12)-12)) -> 4.1.1 | P33: =INDIRECT("'4.1.1'!B$"&'4.1.1'!N$1) -> Ingenieurgeodätische Netzmessung - tachymetrisch | T33: =INDIRECT("'4.1.1'!G$"&'4.1.1'!N$2) -> 0
B34: =IF(C$19=L$7,"",IF(CELL("Zeile",B34)-CELL("Zeile",B$31)<=maxzeile,CONCATENATE(VLOOKUP(CELL("Zeile",B34)-CELL("Zeile",B$31),N$32:T$65,2,FALSE)," "),"")) | C34: =IF(AND(B34<>"",C$19=L$7),VLOOKUP(B34,L$32:U$65,5,FALSE),IF(AND(B34<>"",CELL("Zeile",B34)-CELL("Zeile",B$31)<=maxzeile),VLOOKUP(CELL("Zeile",B34)-CELL("Zeile",B$31),N$32:U$65,3,FALSE),"")) | G34: =IF(AND(B34<>"",C$19=L$7),VLOOKUP(B34,L$32:U$65,9,FALSE),IF(AND(B34<>"",CELL("Zeile",B34)-CELL("Zeile",B$31)<=maxzeile),VLOOKUP(CELL("Zeile",B34)-CELL("Zeile",B$31),N$32:U$65,7,FALSE),"")) | H34: =IF(AND(B34<>"",C$19=L$7),IF(G$19<>L$11,ROUND(VLOOKUP(B34,L$32:U$65,9,FALSE),VLOOKUP(G$19,L$12:N$15,3,FALSE)),""),IF(AND(B34<>"",CELL("Zeile",B34)-CELL("Zeile",B$31)<=maxzeile),IF(G$19<>L$11,ROUND(VLOOKUP(CELL("Zeile",B34)-CELL("Zeile",B$31),N$32:U$65,7,FALSE),VLOOKUP(G$19,L$12:N$15,3,FALSE)),""),"")) | M34: =IF('4.1.3'!N$3>0,1,0) -> 0 | N34: =IF(E$19=L$8,CELL("Zeile",M34)-CELL("Zeile",M$31),M34+INDIRECT("N"&CELL("Zeile",M34)-1)) -> 0 | O34: =IF(C$19=L$5,N34,MID(INDIRECT("'4.1.3'!C$"&'4.1.3'!N$1+2),12,SEARCH(",",INDIRECT("'4.1.3'!C$"&'4.1.3'!N$1+2),12)-12)) -> 4.1.3 | P34: =INDIRECT("'4.1.3'!B$"&'4.1.3'!N$1) -> Polygonzug | T34: =INDIRECT("'4.1.3'!G$"&'4.1.3'!N$2) -> 0
B35: =IF(C$19=L$7,"",IF(CELL("Zeile",B35)-CELL("Zeile",B$31)<=maxzeile,CONCATENATE(VLOOKUP(CELL("Zeile",B35)-CELL("Zeile",B$31),N$32:T$65,2,FALSE)," "),"")) | C35: =IF(AND(B35<>"",C$19=L$7),VLOOKUP(B35,L$32:U$65,5,FALSE),IF(AND(B35<>"",CELL("Zeile",B35)-CELL("Zeile",B$31)<=maxzeile),VLOOKUP(CELL("Zeile",B35)-CELL("Zeile",B$31),N$32:U$65,3,FALSE),"")) | G35: =IF(AND(B35<>"",C$19=L$7),VLOOKUP(B35,L$32:U$65,9,FALSE),IF(AND(B35<>"",CELL("Zeile",B35)-CELL("Zeile",B$31)<=maxzeile),VLOOKUP(CELL("Zeile",B35)-CELL("Zeile",B$31),N$32:U$65,7,FALSE),"")) | H35: =IF(AND(B35<>"",C$19=L$7),IF(G$19<>L$11,ROUND(VLOOKUP(B35,L$32:U$65,9,FALSE),VLOOKUP(G$19,L$12:N$15,3,FALSE)),""),IF(AND(B35<>"",CELL("Zeile",B35)-CELL("Zeile",B$31)<=maxzeile),IF(G$19<>L$11,ROUND(VLOOKUP(CELL("Zeile",B35)-CELL("Zeile",B$31),N$32:U$65,7,FALSE),VLOOKUP(G$19,L$12:N$15,3,FALSE)),""),"")) | M35: =IF('4.2'!N$3>0,1,0) -> 0 | N35: =IF(E$19=L$8,CELL("Zeile",M35)-CELL("Zeile",M$31),M35+INDIRECT("N"&CELL("Zeile",M35)-1)) -> 0 | O35: =IF(C$19=L$5,N35,MID(INDIRECT("'4.2'!C$"&'4.2'!N$1+2),12,SEARCH(",",INDIRECT("'4.2'!C$"&'4.2'!N$1+2),12)-12)) -> 4.2 | P35: =INDIRECT("'4.2'!B$"&'4.2'!N$1) -> Einzelpunkteinschaltung | T35: =INDIRECT("'4.2'!G$"&'4.2'!N$2) -> 0
B36: =IF(C$19=L$7,"",IF(CELL("Zeile",B36)-CELL("Zeile",B$31)<=maxzeile,CONCATENATE(VLOOKUP(CELL("Zeile",B36)-CELL("Zeile",B$31),N$32:T$65,2,FALSE)," "),"")) | C36: =IF(AND(B36<>"",C$19=L$7),VLOOKUP(B36,L$32:U$65,5,FALSE),IF(AND(B36<>"",CELL("Zeile",B36)-CELL("Zeile",B$31)<=maxzeile),VLOOKUP(CELL("Zeile",B36)-CELL("Zeile",B$31),N$32:U$65,3,FALSE),"")) | G36: =IF(AND(B36<>"",C$19=L$7),VLOOKUP(B36,L$32:U$65,9,FALSE),IF(AND(B36<>"",CELL("Zeile",B36)-CELL("Zeile",B$31)<=maxzeile),VLOOKUP(CELL("Zeile",B36)-CELL("Zeile",B$31),N$32:U$65,7,FALSE),"")) | H36: =IF(AND(B36<>"",C$19=L$7),IF(G$19<>L$11,ROUND(VLOOKUP(B36,L$32:U$65,9,FALSE),VLOOKUP(G$19,L$12:N$15,3,FALSE)),""),IF(AND(B36<>"",CELL("Zeile",B36)-CELL("Zeile",B$31)<=maxzeile),IF(G$19<>L$11,ROUND(VLOOKUP(CELL("Zeile",B36)-CELL("Zeile",B$31),N$32:U$65,7,FALSE),VLOOKUP(G$19,L$12:N$15,3,FALSE)),""),"")) | M36: =IF('4.3'!N$3>0,1,0) -> 0 | N36: =IF(E$19=L$8,CELL("Zeile",M36)-CELL("Zeile",M$31),M36+INDIRECT("N"&CELL("Zeile",M36)-1)) -> 0 | O36: =IF(C$19=L$5,N36,MID(INDIRECT("'4.3'!C$"&'4.3'!N$1+2),12,SEARCH(",",INDIRECT("'4.3'!C$"&'4.3'!N$1+2),12)-12)) -> 4.3 | P36: =INDIRECT("'4.3'!B$"&'4.3'!N$1) -> Kreisel-Stütz-Azimut | T36: =INDIRECT("'4.3'!G$"&'4.3'!N$2) -> 0
B37: =IF(C$19=L$7,"",IF(CELL("Zeile",B37)-CELL("Zeile",B$31)<=maxzeile,CONCATENATE(VLOOKUP(CELL("Zeile",B37)-CELL("Zeile",B$31),N$32:T$65,2,FALSE)," "),"")) | C37: =IF(AND(B37<>"",C$19=L$7),VLOOKUP(B37,L$32:U$65,5,FALSE),IF(AND(B37<>"",CELL("Zeile",B37)-CELL("Zeile",B$31)<=maxzeile),VLOOKUP(CELL("Zeile",B37)-CELL("Zeile",B$31),N$32:U$65,3,FALSE),"")) | G37: =IF(AND(B37<>"",C$19=L$7),VLOOKUP(B37,L$32:U$65,9,FALSE),IF(AND(B37<>"",CELL("Zeile",B37)-CELL("Zeile",B$31)<=maxzeile),VLOOKUP(CELL("Zeile",B37)-CELL("Zeile",B$31),N$32:U$65,7,FALSE),"")) | H37: =IF(AND(B37<>"",C$19=L$7),IF(G$19<>L$11,ROUND(VLOOKUP(B37,L$32:U$65,9,FALSE),VLOOKUP(G$19,L$12:N$15,3,FALSE)),""),IF(AND(B37<>"",CELL("Zeile",B37)-CELL("Zeile",B$31)<=maxzeile),IF(G$19<>L$11,ROUND(VLOOKUP(CELL("Zeile",B37)-CELL("Zeile",B$31),N$32:U$65,7,FALSE),VLOOKUP(G$19,L$12:N$15,3,FALSE)),""),"")) | M37: =IF('4.4.2'!N$3>0,1,0) -> 0 | N37: =IF(E$19=L$8,CELL("Zeile",M37)-CELL("Zeile",M$31),M37+INDIRECT("N"&CELL("Zeile",M37)-1)) -> 0 | O37: =IF(C$19=L$5,N37,MID(INDIRECT("'4.4.2'!C$"&'4.4.2'!N$1+2),12,SEARCH(",",INDIRECT("'4.4.2'!C$"&'4.4.2'!N$1+2),12)-12)) -> 4.4.2 | P37: =INDIRECT("'4.4.2'!B$"&'4.4.2'!N$1) -> Setzungsmessung - Nullmessung | T37: =INDIRECT("'4.4.2'!G$"&'4.4.2'!N$2) -> 0
B38: =IF(C$19=L$7,"",IF(CELL("Zeile",B38)-CELL("Zeile",B$31)<=maxzeile,CONCATENATE(VLOOKUP(CELL("Zeile",B38)-CELL("Zeile",B$31),N$32:T$65,2,FALSE)," "),"")) | C38: =IF(AND(B38<>"",C$19=L$7),VLOOKUP(B38,L$32:U$65,5,FALSE),IF(AND(B38<>"",CELL("Zeile",B38)-CELL("Zeile",B$31)<=maxzeile),VLOOKUP(CELL("Zeile",B38)-CELL("Zeile",B$31),N$32:U$65,3,FALSE),"")) | G38: =IF(AND(B38<>"",C$19=L$7),VLOOKUP(B38,L$32:U$65,9,FALSE),IF(AND(B38<>"",CELL("Zeile",B38)-CELL("Zeile",B$31)<=maxzeile),VLOOKUP(CELL("Zeile",B38)-CELL("Zeile",B$31),N$32:U$65,7,FALSE),"")) | H38: =IF(AND(B38<>"",C$19=L$7),IF(G$19<>L$11,ROUND(VLOOKUP(B38,L$32:U$65,9,FALSE),VLOOKUP(G$19,L$12:N$15,3,FALSE)),""),IF(AND(B38<>"",CELL("Zeile",B38)-CELL("Zeile",B$31)<=maxzeile),IF(G$19<>L$11,ROUND(VLOOKUP(CELL("Zeile",B38)-CELL("Zeile",B$31),N$32:U$65,7,FALSE),VLOOKUP(G$19,L$12:N$15,3,FALSE)),""),"")) | M38: =IF('4.4.x'!N$3>0,1,0) -> 0 | N38: =IF(E$19=L$8,CELL("Zeile",M38)-CELL("Zeile",M$31),M38+INDIRECT("N"&CELL("Zeile",M38)-1)) -> 0 | O38: =IF(C$19=L$5,N38,MID(INDIRECT("'4.4.x'!C$"&'4.4.x'!N$1+2),12,SEARCH(",",INDIRECT("'4.4.x'!C$"&'4.4.x'!N$1+2),12)-12)) -> 4.4.1 | P38: =INDIRECT("'4.4.x'!B$"&'4.4.x'!N$1) -> Detailpunkte | T38: =INDIRECT("'4.4.x'!G$"&'4.4.x'!N$2) -> 0
B39: =IF(C$19=L$7,"",IF(CELL("Zeile",B39)-CELL("Zeile",B$31)<=maxzeile,CONCATENATE(VLOOKUP(CELL("Zeile",B39)-CELL("Zeile",B$31),N$32:T$65,2,FALSE)," "),"")) | C39: =IF(AND(B39<>"",C$19=L$7),VLOOKUP(B39,L$32:U$65,5,FALSE),IF(AND(B39<>"",CELL("Zeile",B39)-CELL("Zeile",B$31)<=maxzeile),VLOOKUP(CELL("Zeile",B39)-CELL("Zeile",B$31),N$32:U$65,3,FALSE),"")) | G39: =IF(AND(B39<>"",C$19=L$7),VLOOKUP(B39,L$32:U$65,9,FALSE),IF(AND(B39<>"",CELL("Zeile",B39)-CELL("Zeile",B$31)<=maxzeile),VLOOKUP(CELL("Zeile",B39)-CELL("Zeile",B$31),N$32:U$65,7,FALSE),"")) | H39: =IF(AND(B39<>"",C$19=L$7),IF(G$19<>L$11,ROUND(VLOOKUP(B39,L$32:U$65,9,FALSE),VLOOKUP(G$19,L$12:N$15,3,FALSE)),""),IF(AND(B39<>"",CELL("Zeile",B39)-CELL("Zeile",B$31)<=maxzeile),IF(G$19<>L$11,ROUND(VLOOKUP(CELL("Zeile",B39)-CELL("Zeile",B$31),N$32:U$65,7,FALSE),VLOOKUP(G$19,L$12:N$15,3,FALSE)),""),"")) | M39: =IF('4.5'!N$3>0,1,0) -> 0 | N39: =IF(E$19=L$8,CELL("Zeile",M39)-CELL("Zeile",M$31),M39+INDIRECT("N"&CELL("Zeile",M39)-1)) -> 0 | O39: =IF(C$19=L$5,N39,MID(INDIRECT("'4.5'!C$"&'4.5'!N$1+2),12,SEARCH(",",INDIRECT("'4.5'!C$"&'4.5'!N$1+2),12)-12)) -> 4.5 | P39: =INDIRECT("'4.5'!B$"&'4.5'!N$1) -> Punktbestimmung durch kinematische GNSS-Messung | T39: =INDIRECT("'4.5'!G$"&'4.5'!N$2) -> 0
B40: =IF(C$19=L$7,"",IF(CELL("Zeile",B40)-CELL("Zeile",B$31)<=maxzeile,CONCATENATE(VLOOKUP(CELL("Zeile",B40)-CELL("Zeile",B$31),N$32:T$65,2,FALSE)," "),"")) | C40: =IF(AND(B40<>"",C$19=L$7),VLOOKUP(B40,L$32:U$65,5,FALSE),IF(AND(B40<>"",CELL("Zeile",B40)-CELL("Zeile",B$31)<=maxzeile),VLOOKUP(CELL("Zeile",B40)-CELL("Zeile",B$31),N$32:U$65,3,FALSE),"")) | G40: =IF(AND(B40<>"",C$19=L$7),VLOOKUP(B40,L$32:U$65,9,FALSE),IF(AND(B40<>"",CELL("Zeile",B40)-CELL("Zeile",B$31)<=maxzeile),VLOOKUP(CELL("Zeile",B40)-CELL("Zeile",B$31),N$32:U$65,7,FALSE),"")) | H40: =IF(AND(B40<>"",C$19=L$7),IF(G$19<>L$11,ROUND(VLOOKUP(B40,L$32:U$65,9,FALSE),VLOOKUP(G$19,L$12:N$15,3,FALSE)),""),IF(AND(B40<>"",CELL("Zeile",B40)-CELL("Zeile",B$31)<=maxzeile),IF(G$19<>L$11,ROUND(VLOOKUP(CELL("Zeile",B40)-CELL("Zeile",B$31),N$32:U$65,7,FALSE),VLOOKUP(G$19,L$12:N$15,3,FALSE)),""),"")) | M40: =IF('4.6'!N$3>0,1,0) -> 0 | N40: =IF(E$19=L$8,CELL("Zeile",M40)-CELL("Zeile",M$31),M40+INDIRECT("N"&CELL("Zeile",M40)-1)) -> 0 | O40: =IF(C$19=L$5,N40,MID(INDIRECT("'4.6'!C$"&'4.6'!N$1+2),12,SEARCH(",",INDIRECT("'4.6'!C$"&'4.6'!N$1+2),12)-12)) -> 4.6 | P40: =INDIRECT("'4.6'!B$"&'4.6'!N$1) -> Nivellement | T40: =INDIRECT("'4.6'!G$"&'4.6'!N$2) -> 0
B41: =IF(C$19=L$7,"",IF(CELL("Zeile",B41)-CELL("Zeile",B$31)<=maxzeile,CONCATENATE(VLOOKUP(CELL("Zeile",B41)-CELL("Zeile",B$31),N$32:T$65,2,FALSE)," "),"")) | C41: =IF(AND(B41<>"",C$19=L$7),VLOOKUP(B41,L$32:U$65,5,FALSE),IF(AND(B41<>"",CELL("Zeile",B41)-CELL("Zeile",B$31)<=maxzeile),VLOOKUP(CELL("Zeile",B41)-CELL("Zeile",B$31),N$32:U$65,3,FALSE),"")) | G41: =IF(AND(B41<>"",C$19=L$7),VLOOKUP(B41,L$32:U$65,9,FALSE),IF(AND(B41<>"",CELL("Zeile",B41)-CELL("Zeile",B$31)<=maxzeile),VLOOKUP(CELL("Zeile",B41)-CELL("Zeile",B$31),N$32:U$65,7,FALSE),"")) | H41: =IF(AND(B41<>"",C$19=L$7),IF(G$19<>L$11,ROUND(VLOOKUP(B41,L$32:U$65,9,FALSE),VLOOKUP(G$19,L$12:N$15,3,FALSE)),""),IF(AND(B41<>"",CELL("Zeile",B41)-CELL("Zeile",B$31)<=maxzeile),IF(G$19<>L$11,ROUND(VLOOKUP(CELL("Zeile",B41)-CELL("Zeile",B$31),N$32:U$65,7,FALSE),VLOOKUP(G$19,L$12:N$15,3,FALSE)),""),"")) | M41: =IF('4.7.1'!N$3>0,1,0) -> 0 | N41: =IF(E$19=L$8,CELL("Zeile",M41)-CELL("Zeile",M$31),M41+INDIRECT("N"&CELL("Zeile",M41)-1)) -> 0 | O41: =IF(C$19=L$5,N41,MID(INDIRECT("'4.7.1'!C$"&'4.7.1'!N$1+2),12,SEARCH(",",INDIRECT("'4.7.1'!C$"&'4.7.1'!N$1+2),12)-12)) -> 4.7.1 | P41: =INDIRECT("'4.7.1'!B$"&'4.7.1'!N$1) -> Lage- und Höhenplan | T41: =INDIRECT("'4.7.1'!G$"&'4.7.1'!N$2) -> 0
B42: =IF(C$19=L$7,"",IF(CELL("Zeile",B42)-CELL("Zeile",B$31)<=maxzeile,CONCATENATE(VLOOKUP(CELL("Zeile",B42)-CELL("Zeile",B$31),N$32:T$65,2,FALSE)," "),"")) | C42: =IF(AND(B42<>"",C$19=L$7),VLOOKUP(B42,L$32:U$65,5,FALSE),IF(AND(B42<>"",CELL("Zeile",B42)-CELL("Zeile",B$31)<=maxzeile),VLOOKUP(CELL("Zeile",B42)-CELL("Zeile",B$31),N$32:U$65,3,FALSE),"")) | G42: =IF(AND(B42<>"",C$19=L$7),VLOOKUP(B42,L$32:U$65,9,FALSE),IF(AND(B42<>"",CELL("Zeile",B42)-CELL("Zeile",B$31)<=maxzeile),VLOOKUP(CELL("Zeile",B42)-CELL("Zeile",B$31),N$32:U$65,7,FALSE),"")) | H42: =IF(AND(B42<>"",C$19=L$7),IF(G$19<>L$11,ROUND(VLOOKUP(B42,L$32:U$65,9,FALSE),VLOOKUP(G$19,L$12:N$15,3,FALSE)),""),IF(AND(B42<>"",CELL("Zeile",B42)-CELL("Zeile",B$31)<=maxzeile),IF(G$19<>L$11,ROUND(VLOOKUP(CELL("Zeile",B42)-CELL("Zeile",B$31),N$32:U$65,7,FALSE),VLOOKUP(G$19,L$12:N$15,3,FALSE)),""),"")) | M42: =IF('4.7.2'!N$3>0,1,0) -> 0 | N42: =IF(E$19=L$8,CELL("Zeile",M42)-CELL("Zeile",M$31),M42+INDIRECT("N"&CELL("Zeile",M42)-1)) -> 0 | O42: =IF(C$19=L$5,N42,MID(INDIRECT("'4.7.2'!C$"&'4.7.2'!N$1+2),12,SEARCH(",",INDIRECT("'4.7.2'!C$"&'4.7.2'!N$1+2),12)-12)) -> 4.7.2 | P42: =INDIRECT("'4.7.2'!B$"&'4.7.2'!N$1) -> Erstellen und verfeinern eines DGM | T42: =INDIRECT("'4.7.2'!G$"&'4.7.2'!N$2) -> 0
B43: =IF(C$19=L$7,"",IF(CELL("Zeile",B43)-CELL("Zeile",B$31)<=maxzeile,CONCATENATE(VLOOKUP(CELL("Zeile",B43)-CELL("Zeile",B$31),N$32:T$65,2,FALSE)," "),"")) | C43: =IF(AND(B43<>"",C$19=L$7),VLOOKUP(B43,L$32:U$65,5,FALSE),IF(AND(B43<>"",CELL("Zeile",B43)-CELL("Zeile",B$31)<=maxzeile),VLOOKUP(CELL("Zeile",B43)-CELL("Zeile",B$31),N$32:U$65,3,FALSE),"")) | G43: =IF(AND(B43<>"",C$19=L$7),VLOOKUP(B43,L$32:U$65,9,FALSE),IF(AND(B43<>"",CELL("Zeile",B43)-CELL("Zeile",B$31)<=maxzeile),VLOOKUP(CELL("Zeile",B43)-CELL("Zeile",B$31),N$32:U$65,7,FALSE),"")) | H43: =IF(AND(B43<>"",C$19=L$7),IF(G$19<>L$11,ROUND(VLOOKUP(B43,L$32:U$65,9,FALSE),VLOOKUP(G$19,L$12:N$15,3,FALSE)),""),IF(AND(B43<>"",CELL("Zeile",B43)-CELL("Zeile",B$31)<=maxzeile),IF(G$19<>L$11,ROUND(VLOOKUP(CELL("Zeile",B43)-CELL("Zeile",B$31),N$32:U$65,7,FALSE),VLOOKUP(G$19,L$12:N$15,3,FALSE)),""),"")) | M43: =IF('4.7.3'!N$3>0,1,0) -> 0 | N43: =IF(E$19=L$8,CELL("Zeile",M43)-CELL("Zeile",M$31),M43+INDIRECT("N"&CELL("Zeile",M43)-1)) -> 0 | O43: =IF(C$19=L$5,N43,MID(INDIRECT("'4.7.3'!C$"&'4.7.3'!N$1+2),12,SEARCH(",",INDIRECT("'4.7.3'!C$"&'4.7.3'!N$1+2),12)-12)) -> 4.7.3 | P43: =INDIRECT("'4.7.3'!B$"&'4.7.3'!N$1) -> 3d-Planerstellung auf Basis eines 2,5d-LH-Planes | T43: =INDIRECT("'4.7.3'!G$"&'4.7.3'!N$2) -> 0
B44: =IF(C$19=L$7,"",IF(CELL("Zeile",B44)-CELL("Zeile",B$31)<=maxzeile,CONCATENATE(VLOOKUP(CELL("Zeile",B44)-CELL("Zeile",B$31),N$32:T$65,2,FALSE)," "),"")) | C44: =IF(AND(B44<>"",C$19=L$7),VLOOKUP(B44,L$32:U$65,5,FALSE),IF(AND(B44<>"",CELL("Zeile",B44)-CELL("Zeile",B$31)<=maxzeile),VLOOKUP(CELL("Zeile",B44)-CELL("Zeile",B$31),N$32:U$65,3,FALSE),"")) | G44: =IF(AND(B44<>"",C$19=L$7),VLOOKUP(B44,L$32:U$65,9,FALSE),IF(AND(B44<>"",CELL("Zeile",B44)-CELL("Zeile",B$31)<=maxzeile),VLOOKUP(CELL("Zeile",B44)-CELL("Zeile",B$31),N$32:U$65,7,FALSE),"")) | H44: =IF(AND(B44<>"",C$19=L$7),IF(G$19<>L$11,ROUND(VLOOKUP(B44,L$32:U$65,9,FALSE),VLOOKUP(G$19,L$12:N$15,3,FALSE)),""),IF(AND(B44<>"",CELL("Zeile",B44)-CELL("Zeile",B$31)<=maxzeile),IF(G$19<>L$11,ROUND(VLOOKUP(CELL("Zeile",B44)-CELL("Zeile",B$31),N$32:U$65,7,FALSE),VLOOKUP(G$19,L$12:N$15,3,FALSE)),""),"")) | M44: =IF('4.7.4'!N$3>0,1,0) -> 0 | N44: =IF(E$19=L$8,CELL("Zeile",M44)-CELL("Zeile",M$31),M44+INDIRECT("N"&CELL("Zeile",M44)-1)) -> 0 | O44: =IF(C$19=L$5,N44,MID(INDIRECT("'4.7.4'!C$"&'4.7.4'!N$1+2),12,SEARCH(",",INDIRECT("'4.7.4'!C$"&'4.7.4'!N$1+2),12)-12)) -> 4.7.4 | P44: =INDIRECT("'4.7.4'!B$"&'4.7.4'!N$1) -> Umbildung einer Geländeaufnahme durch Maßstabsänderung | T44: =INDIRECT("'4.7.4'!G$"&'4.7.4'!N$2) -> 0
...

Sheet 3.1
A1: E i n g a b e b e r e i c h | K1: Überschriftszeile Druckbereich: | N1: =CELL("ZEILE",B37) -> 37
C2: Überschrift | D2: Katastervermessung | K2: Ergebniszeile Druckbereich | N2: =CELL("ZEILE",G79) -> 79
K3: Vollständigkeit | N3: =F28 -> 0
B4: L | C4: Länge der Grenze im alten Stand [m] | H4: [m] | K4: L | L4: =IF(ISNUMBER(G4),G4,0) -> 0 | N4: T1 | O4: =IF(L<>0,(1+L/400+n_1/10+n_2/20)*K*(1+n_6/20),0) -> 0 | Q4: T1 = (1+L/400+n1/10+n2/20)*K*(1+n6/20)
B5: n1 | C5: Anzahl der Grenzpunkte auf alten Grenzen | K5: n1 | L5: =IF(ISNUMBER(G5),G5,2) -> 2 | N5: T2 | O5: =IF(L<>0,(0.5+L/200+n_1/100)*K+n_2*(0.1+0.15*s_2),0) -> 0 | Q5: T2 = (0,5+L/200+n1/100)*K+n2*(0,1+0,15*S2)
B6: n2 | C6: Anzahl der Eigentümer | K6: n2 | L6: =IF(ISNUMBER(G6),G6,1) -> 1 | N6: T3 | O6: =IF(L<>0,(0.5+L/400+n_1/12+n_2*(0.05+s_2/2))*K*E*(1+0.3*s_1),0) -> 0 | Q6: T3 = (0,5+L/400+n1/12+n2*(0,05+S2/2))*K*E*(1+0,3*S1)
B7: K | C7: Kataster-Kategorie (Qualität der Grenzen) | G7: M | H7: =VLOOKUP(G7,Konstante!F3:H5,3,FALSE) -> mittlere Qualität | K7: K | L7: =VLOOKUP(G7,Konstante!F3:G5,2,FALSE) -> 1.2 | N7: T4 | O7: =IF(L<>0,(L/200+n_1/20+n_2/20)*(s_1+s_3+s_4+s_5*s_6)+(2*s_7*SQRT(n_4)+IF(s_7=1,SQRT(n_4*n_5)/2,0)+SQRT(n_3)*s_5*(1+s_6/2))*(1+SQRT(F*V)/100),0) -> 0 | Q7: T4 = (L/200+n1/20+n2/20)*(S1+S3+S4+S5*S6)+(2*S7*WURZEL(n4)+WURZEL(n4*n5)/2+WURZEL(n3)*S5*(1+S6/2))*(1+WURZEL(F*V)/100)
B8: E | C8: Geländeklasse und Schwierigkeitsstufe | G8: Ib | K8: E | L8: =VLOOKUP(G8,Konstante!C3:D11,2,FALSE) -> 1.6 | N8: T5 | O8: =IF(L<>0,n_6+0.5*s_2,0) -> 0 | Q8: T5 = n6+0,5*S2
B9: S1 | C9: Aufnahme Naturbestand im Rahmen der Katastervermessung | G9: ja | K9: S1 | L9: =VLOOKUP(G9,Konstante!J$3:K$4,2,FALSE) -> 1 | N9: T6 | O9: =IF(L<>0,(0.5+n_4/2)*s_7*(1+F/1000)*E,0) -> 0 | Q9: T6 = (0,5+n4/2)*S7*(1+F/1000)*E
B10: S2 | C10: Grenzverhandlung | G10: ja | K10: S2 | L10: =VLOOKUP(G10,Konstante!J$3:K$4,2,FALSE) -> 1 | O10: =SUM(O4:O9) -> 0
B11: S3 | C11: Qualitätsverbesserungsplan | G11: nein | K11: S3 | L11: =VLOOKUP(G11,Konstante!J$3:K$4,2,FALSE) -> 0
B12: S4 | C12: Mappenberichtigung, Umwandlung | G12: nein | K12: S4 | L12: =VLOOKUP(G12,Konstante!M3:N6,2,FALSE) -> 0
B13: S5 | C13: Grundstücksvereinigung | G13: nein | K13: S5 | L13: =VLOOKUP(G13,Konstante!J$3:K$4,2,FALSE) -> 0
B14: n3 | C14: Anzahl der zu vereinigenden Grundstücke | K14: n3 | L14: =IF(ISNUMBER(G14),G14,2) -> 2
B15: S6 | C15: Plan für Grundstücksvereinigung erforderlich | G15: nein | K15: S6 | L15: =VLOOKUP(G15,Konstante!J$6:K$7,2,FALSE) -> 0
B16: S7 | C16: Grundteilung | G16: ja | K16: S7 | L16: =VLOOKUP(G16,Konstante!J$3:K$4,2,FALSE) -> 1
B17: n4 | C17: Anzahl der Grundstücke im neuen Stand | K17: n4 | L17: =IF(ISNUMBER(G17),G17,1) -> 1
B18: F | C18: Durchschnittliche Größe der zur Gänze betroffenen Grundstücke | H18: [m2] | K18: F | L18: =IF(ISNUMBER(G18),IF(G18<25,25,G18),25) -> 25
B19: V | C19: Verkehrswert der betroffenen Grundstücke | H19: [€/m2] | K19: V | L19: =IF(ISNUMBER(G19),G19,0) -> 0
B20: n5 | C20: Anzahl der Teilungsentwürfe | K20: n5 | L20: =IF(ISNUMBER(G20),G20,0) -> 0
B21: n6 | C21: Anzahl der Einreichungen | K21: n6 | L21: =IF(ISNUMBER(G21),G21,0) -> 0
F22: Beschreibung:
D23: Zu-/Abschlag in %:
D24: Nebenkosten:
D25: Amtsgebühren:
D26: Amtsgebühren ohne Mwst.:
C28: =IF(F28=0, "UNVOLLSTÄNDIG AUSGEFÜLLT!","") -> UNVOLLSTÄNDIG AUSGEFÜLLT! | F28: =IF(OR(O4<>0,O5<>0,O6<>0,O7<>0,O8<>0,O9<>0),1,0) -> 0 | G28: =IF(VSK<>0, G79,"")
G29: =IF(AND(VSK<>0,NK_3<>0), "zuzügl. Amtsgebühren ohne Mwst.","") | H29: =IF(AND(VSK<>0,NK_3<>0), NK_3,"")
A31: D r u c k b e r e i c h | H31: =IF(VLOOKUP(B37,CHOOSE({5,4,3,2,1},Gesamt!L32:L65,Gesamt!M32:M65,Gesamt!N32:N65,Gesamt!O32:O65,Gesamt!P32:P65,),4,0)>0,CONCATENATE("Pos. ",VLOOKUP(B37,CHOOSE({5,4,3,2,1},Gesamt!L32:L65,Gesamt!M32:M65,Gesamt!N32:N65,Gesamt!O32:O65,Gesamt!P32:P65,),VLOOKUP(Gesamt!C19,Gesamt!L5:N7,3,0),0)),"")
B32: =CONCATENATE(Gesamt!C2, ": ", Gesamt!E2) -> Projekt:
B33: =CONCATENATE(Gesamt!C4, ": ", Gesamt!E4, IF(Gesamt!E5<>""," - ",""), IF(Gesamt!E5<>"",Gesamt!E5,""), IF(Gesamt!E6<>""," - GZ. ",""), IF(Gesamt!E6<>"",Gesamt!E6,""),) -> Auftraggeber:
B34: =CONCATENATE(Gesamt!C9, ": ",Gesamt!E9, IF(Gesamt!C10<>""," - ",""), IF(Gesamt!C10<>"",Gesamt!E10,""), IF(Gesamt!C11<>""," - GZ. ",""), IF(Gesamt!C11<>"",Gesamt!E11,""), ) -> Bieter: - - GZ.
B35: Kalkulationsgrundlage: Leistungsbild für Vermessung und Geoinformation (LB_VG)
B37: =D2 -> Katastervermessung
C39: LB_VG, Pos. 3.1, Tätigkeiten, die bei jeder Katastervermessung erfolgen
C40: In den folgenden Formeln sind sämtliche Leistungen gemäß RVS 06.01.11, Pos. 3.1 bis 3.7 abgedeckt; Pos. 3.6 kann auch mit dem Standardleistungsverzeichnis RLVerm kalkuliert werden.
C42: mittlerer Bürostundensatz: | F42: =IS -> 0
C44: H = (T1 + T2 + T3 + T4 + T5+ T6) * IS + N1 + N2
D45: T1 = (1+L/400+n1/10+n2/20)*K*(1+n6/20)
D46: T2 = (0,5+L/200+n1/100)*K+n2*(0,1+0,15*S2)
...

Sheet 4.1.1
A1: E i n g a b e b e r e i c h | K1: Überschriftszeile Druckbereich: | N1: =CELL("ZEILE",B27) -> 27
C2: Überschrift | D2: Ingenieurgeodätische Netzmessung | K2: Ergebniszeile Druckbereich | N2: =CELL("ZEILE",G60) -> 60
K3: Vollständigkeit | N3: =F19 -> 0
C4: Durchschnittlicher Punktabstand [m]: | K4: Punktabstandsklasse: | M4: =IF(H4<=600,1,2) -> 1 | N4: Klasse 1: bis 600m; Klasse 2: über 600m
C5: vorgeschlagene Messmethode: | H5: =IF(H4<=600,"tachymetrisch","GNSS") -> tachymetrisch
C6: Mindestanzahl an Netzpunkten: | H6: =IF(H4<=600,4,1) -> 4 | K6: Konstante!$C$22:$C$23
C7: Anzahl der Netzpunkte: | G7: =IF(n<H6,"Mindestanzahl beachten >>>","") -> Mindestanzahl beachten >>> | K7: Konstante!$C$24:$C$25
C8: Standardabweichung in Lage und Höhe:
C9: G = | D9: =VLOOKUP(E9,Konstante!C22:G25,5,FALSE) -> 1 | E9: L=(2mm+8mm/km) H=(5mm+10mm/km) | I9: =IF(OR(AND(Messmet=Konstante!C31,E9=Konstante!C24),AND(Messmet=Konstante!C31,E9=Konstante!C25),AND(Messmet=Konstante!C32,E9=Konstante!C22),AND(Messmet=Konstante!C32,E9=Konstante!C23),),"<<<<","")
C10: Erschwernis: | G10: E = | H10: 1
C11: =IF(E<1.2,"Punkte ohne größere Umwege und ohne längere Fußwege erreichbar","Punkte über größere Umwege und/oder längere Fußwege erreichbar") -> Punkte ohne größere Umwege und ohne längere Fußwege erreichbar | K11: =Messmet -> tachymetrisch | M11: =IF(Messmet="tachymetrisch",Konstante!J23,Konstante!Q$23) -> 100 | N11: =IF(Messmet="tachymetrisch",Konstante!K23,Konstante!R$23) -> 200 | O11: =IF(Messmet="tachymetrisch",Konstante!L23,Konstante!S$23) -> 300 | P11: =IF(Messmet="tachymetrisch",Konstante!M23,Konstante!T$23) -> 400 | Q11: =IF(Messmet="tachymetrisch",Konstante!N23,Konstante!U$23) -> 600
C12: Wiederholungsmess.: | E12: NEIN | G12: W = | H12: =VLOOKUP(E12,Konstante!C28:D29,2,FALSE) -> 1 | K12: A: erster Wert | M12: =IF(Messmet="tachymetrisch",VLOOKUP(n,Konstante!$I$24:$N$27,2,TRUE),Konstante!Q$24) -> #N/A | N12: =IF(Messmet="tachymetrisch",VLOOKUP(n,Konstante!$I$24:$N$27,3,TRUE),Konstante!R$24) -> #N/A | O12: =IF(Messmet="tachymetrisch",VLOOKUP(n,Konstante!$I$24:$N$27,4,TRUE),Konstante!S$24) -> #N/A | P12: =IF(Messmet="tachymetrisch",VLOOKUP(n,Konstante!$I$24:$N$27,5,TRUE),Konstante!T$24) -> #N/A | Q12: =IF(Messmet="tachymetrisch",VLOOKUP(n,Konstante!$I$24:$N$27,6,TRUE),Konstante!U$24) -> #N/A
C13: inkl. Höhenmess.: | E13: JA | G13: h = | H13: =IF(H5="tachymetrisch",VLOOKUP(E13,Konstante!E28:F29,2,FALSE),1) -> 1.2 | K13: A: zweiter Wert | M13: =IF(Messmet="tachymetrisch",Konstante!J28,Konstante!Q$25) -> 11.74 | N13: =IF(Messmet="tachymetrisch",Konstante!K28,Konstante!R$25) -> 14.54 | O13: =IF(Messmet="tachymetrisch",Konstante!L28,Konstante!S$25) -> 16.23 | P13: =IF(Messmet="tachymetrisch",Konstante!M28,Konstante!T$25) -> 17.32 | Q13: =IF(Messmet="tachymetrisch",Konstante!N28,Konstante!U$25) -> 18.12
C14: =IF(Messmet=Konstante!C32, "h hat keine Relevanz!","")
G15: Beschreibung: | K15: Interpolation: | M15: =IF(PktAbst>M11,IF(PktAbst>N11,IF(PktAbst>O11,IF(PktAbst>P11,IF(PktAbst>Q11,Q11,P11),O11),N11),M11),M11) -> 100 | N15: =IF(PktAbst>M11,IF(PktAbst>N11,IF(PktAbst>O11,IF(PktAbst>P11,Q11,P11),O11),N11),M11) -> 100 | P15: =IF(PktAbst<=M15,0,IF(PktAbst>=N15,1,((PktAbst-M15)/(N15-M15)))) -> 0
C16: Zu/Abschlag in % | K16: A: erster Wert | M16: =IF(PktAbst>M11,IF(PktAbst>N11,IF(PktAbst>O11,IF(PktAbst>P11,IF(PktAbst>Q11,Q12,P12),O12),N12),M12),M12) -> #N/A | N16: =IF(PktAbst>M11,IF(PktAbst>N11,IF(PktAbst>O11,IF(PktAbst>P11,Q12,P12),O12),N12),M12) -> #N/A | P16: =M16+(N16-M16)*P$15 -> #N/A
C17: Nebenkosten | K17: A: zweiter Wert | M17: =IF(PktAbst>M11,IF(PktAbst>N11,IF(PktAbst>O11,IF(PktAbst>P11,IF(PktAbst>Q11,Q13,P13),O13),N13),M13),M13) -> 11.74 | N17: =IF(PktAbst>M11,IF(PktAbst>N11,IF(PktAbst>O11,IF(PktAbst>P13,Q13,P13),O13),N13),M13) -> 11.74 | P17: =M17+(N17-M17)*P$15 -> 11.74 | Q17: =IF(Messmet="tachymetrisch",IF(n>7,n-7,0),IF(n>1,n-1,0)) -> 0 | R17: A = | S17: =IF(VSK>0,P16+Q17*P17,0) -> 0
C19: =IF(F19=0, "UNVOLLSTÄNDIG AUSGEFÜLLT!","") -> UNVOLLSTÄNDIG AUSGEFÜLLT! | F19: =IF(AND(ISNUMBER(H4),ISNUMBER(H7),E9<>"",ISNUMBER(E),ISNUMBER(W),ISNUMBER(h),n>=H6),1,0) -> 0 | G19: =IF(VSK<>0, G60,"")
A21: D r u c k b e r e i c h | I21: =IF(VLOOKUP(B27,CHOOSE({5,4,3,2,1},Gesamt!L32:L65,Gesamt!M32:M65,Gesamt!N32:N65,Gesamt!O32:O65,Gesamt!P32:P65,),4,0)>0,CONCATENATE("Pos. ",VLOOKUP(B27,CHOOSE({5,4,3,2,1},Gesamt!L32:L65,Gesamt!M32:M65,Gesamt!N32:N65,Gesamt!O32:O65,Gesamt!P32:P65,),VLOOKUP(Gesamt!C19,Gesamt!L5:N7,3,0),0)),"")
C22: =CONCATENATE(Gesamt!C2, ": ", Gesamt!E2) -> Projekt:
C23: =CONCATENATE(Gesamt!C4, ": ", Gesamt!E4, IF(Gesamt!E5<>""," - ",""), IF(Gesamt!E5<>"",Gesamt!E5,""), IF(Gesamt!E6<>""," - GZ. ",""), IF(Gesamt!E6<>"",Gesamt!E6,""),) -> Auftraggeber:
C24: =CONCATENATE(Gesamt!C9, ": ",Gesamt!E9, IF(Gesamt!C10<>""," - ",""), IF(Gesamt!C10<>"",Gesamt!E10,""), IF(Gesamt!C11<>""," - GZ. ",""), IF(Gesamt!C11<>"",Gesamt!E11,""), ) -> Bieter: - - GZ.
C25: Kalkulationsgrundlage: Leistungsbild für Vermessung und Geoinformation (LB_VG)
B27: =IF(Messmet=Konstante!C31,CONCATENATE(D2," - tachymetrisch"),CONCATENATE(D2," - GNSS")) -> Ingenieurgeodätische Netzmessung - tachymetrisch
C29: =IF(Messmet=Konstante!C31,"LB_VG, Pos. 4.1.1, Ingenieurgeodätische Netzmessung","LB_VG, Pos. 4.1.2, Ingenieurgeodätische Netzmessung") -> LB_VG, Pos. 4.1.1, Ingenieurgeodätische Netzmessung
C30: =IF(Messmet="tachymetrisch",Konstante!E31,Konstante!E32) -> Bearbeitungsaufwand von Netzen mit durchschnittlichem Punktabstand von max. 600m
C32: mittlerer Bürostundensatz: | E32: =IS -> 0
C34: =IF(Messmet="tachymetrisch",Konstante!M31,Konstante!M32) -> H = (A * G * E * W * h * IS) + N
D36: =PktAbst -> 0 | E36: durchschnittlicher Punktabstand | K36: =IF(VLOOKUP(B27,CHOOSE({5,4,3,2,1},Gesamt!L32:L65,Gesamt!M32:M65,Gesamt!N32:N65,Gesamt!O32:O65,Gesamt!P32:P65,),4,0)>0,CONCATENATE("Pos. ",VLOOKUP(B27,CHOOSE({5,4,3,2,1},Gesamt!L32:L65,Gesamt!M32:M65,Gesamt!N32:N65,Gesamt!O32:O65,Gesamt!P32:P65,),VLOOKUP(Gesamt!C19,Gesamt!L5:N7,3,0),0)),"")
C38: n = | D38: =n -> 0 | E38: Anzahl der Netzpunkte
C39: A = | D39: =IF(ISERROR(A), 0,A) -> 0 | E39: interpolierter Wert aus Tabelle
C40: G = | D40: =G -> 1 | E40: =CONCATENATE("Standardabweichung: ",E9) -> Standardabweichung: L=(2mm+8mm/km) H=(5mm+10mm/km)
C41: E = | D41: =E -> 1 | E41: =IF(E>1,"außerordentliche Erschwernisse","")
C42: W = | D42: =W -> 1 | E42: =IF(W>=1, "Erstmessung", "Wiederholungsmessung") -> Erstmessung
C43: =IF(h>1,"h = ","") -> h = | D43: =IF(h<>1,h,"") -> 1.2 | E43: =IF(h>1,"zusätzliche Höhenmessung ","") -> zusätzliche Höhenmessung
C46: Honorar: | F46: =IF(h>1,PRODUCT(D39,D40,D41,D42,D43,E32),PRODUCT(D39,D40,D41,D42,E32)) -> 0
C56: =IF(AND(ZuAbschlag<>0,VSK<>0),"Zu-/Abschlag:","") | E56: =IF(AND(ZuAbschlag<>0,VSK<>0),ZuAbschlag,"") | F56: =IF(AND(ZuAbschlag<>0,VSK<>0),F46*E56,"") | G56: =IF(AND(ZuAbschlag<>0,VSK<>0,G16<>""),G16,"")
C57: =IF(AND(NK<>0,VSK<>0),"Nebenkosten:","") | F57: =IF(AND(NK<>0,VSK<>0),NK,"") | G57: =IF(AND(NK<>0,VSK<>0,G17<>""),G17,"")
C60: Gesamthonorar: | G60: =IF(VSK>0,SUM(F46,F56,F57),0) -> 0

Sheet 4.1.3
A1: E i n g a b e b e r e i c h | K1: Überschriftszeile Druckbereich: | N1: =CELL("ZEILE",B27) -> 27
C2: Überschrift | D2: Polygonzug | K2: Ergebniszeile Druckbereich | N2: =CELL("ZEILE",G60) -> 60
K3: Vollständigkeit | N3: =F19 -> 0
C4: Art des Poygonzuges: | F4: Feinpolygonzug
C5: Standardabw. in Lage und Höhe: | H5: =IF(Art=Konstante!X30,Konstante!AA30,Konstante!AA31) -> L=(10mm/km) H=(10mm/km)
C7: Leistungsumfang:
C8: ohne Punktbeschreibung und ohne Polygonzugsübersicht, ohne Höhenmessung
C10: Länge des Polygonzuges [km] | K10: Formel: | M10: =VLOOKUP(Art,Konstante!X30:Z31,3,FALSE)+VLOOKUP(C8,Konstante!X23:AG26,10,FALSE) -> 2
C12: Anzahl der Instr.-standpunkte inkl. Anschlusspunkte | K12: Term 1 | M12: =VLOOKUP(M$10,Konstante!AG$23:AQ$31,8,FALSE) -> 2.319
K13: Term 2 | M13: =VLOOKUP(M$10,Konstante!AG$23:AQ$31,9,FALSE) -> 1.694
C14: Geländeklasse/Schwierigkeitsstufe | H14: Ib | K14: Term 3 | M14: =VLOOKUP(M$10,Konstante!AG$23:AQ$31,10,FALSE) -> 0.124
G15: Beschreibung: | K15: Term 4 | M15: =VLOOKUP(M$10,Konstante!AG$23:AQ$31,11,FALSE) -> 0.64
C16: Zu/Abschlag in %
C17: Nebenkosten
C19: =IF(VSK=0, "UNVOLLSTÄNDIG AUSGEFÜLLT!","") -> UNVOLLSTÄNDIG AUSGEFÜLLT! | F19: =IF(AND(ISNUMBER(S_),ISNUMBER(n)),1,0) -> 0 | G19: =IF(VSK<>0, G60,"")
A21: D r u c k b e r e i c h | I21: =IF(VLOOKUP(B27,CHOOSE({5,4,3,2,1},Gesamt!L32:L65,Gesamt!M32:M65,Gesamt!N32:N65,Gesamt!O32:O65,Gesamt!P32:P65,),4,0)>0,CONCATENATE("Pos. ",VLOOKUP(B27,CHOOSE({5,4,3,2,1},Gesamt!L32:L65,Gesamt!M32:M65,Gesamt!N32:N65,Gesamt!O32:O65,Gesamt!P32:P65,),VLOOKUP(Gesamt!C19,Gesamt!L5:N7,3,0),0)),"")
B22: =CONCATENATE(Gesamt!C2, ": ", Gesamt!E2) -> Projekt:
B23: =CONCATENATE(Gesamt!C4, ": ", Gesamt!E4, IF(Gesamt!E5<>""," - ",""), IF(Gesamt!E5<>"",Gesamt!E5,""), IF(Gesamt!E6<>""," - GZ. ",""), IF(Gesamt!E6<>"",Gesamt!E6,""),) -> Auftraggeber:
B24: =CONCATENATE(Gesamt!C9, ": ",Gesamt!E9, IF(Gesamt!C10<>""," - ",""), IF(Gesamt!C10<>"",Gesamt!E10,""), IF(Gesamt!C11<>""," - GZ. ",""), IF(Gesamt!C11<>"",Gesamt!E11,""), ) -> Bieter: - - GZ.
B25: Kalkulationsgrundlage: Leistungsbild für Vermessung und Geoinformation (LB_VG)
B27: =D2 -> Polygonzug
C29: =IF(Art=Konstante!X30,"LB_VG, Pos. 4.1.3, Bearbeitungsaufwand von Feinpolygonzügen","LB_VG, Pos. 4.1.4, Bearbeitungsaufwand von technischen Polygonzügen") -> LB_VG, Pos. 4.1.3, Bearbeitungsaufwand von Feinpolygonzügen
C31: =Art -> Feinpolygonzug
C32: =CONCATENATE("Standardabweichung: ",H5) -> Standardabweichung: L=(10mm/km) H=(10mm/km)
C33: =C8 -> ohne Punktbeschreibung und ohne Polygonzugsübersicht, ohne Höhenmessung
C35: mittlerer Bürostundensatz: | E35: =IS -> 0
C37: =VLOOKUP(M10,Konstante!AG23:AM31,2,FALSE) -> H = ((2,319 * S + 1,694 * n) * f + 0,124 * n + 0,640) * ((S/(n/7))^0,2) * IS + N
C40: S = | D40: =S_ -> 0 | E40: Länge des Polygonzuges
C41: n = | D41: =n -> 0 | E41: Anzahl der Polygonpunkte inkl. Anschlusspunkte
C42: f = | D42: =VLOOKUP(f,Konstante!AE23:AF31,2,FALSE) -> 1.15 | E42: =CONCATENATE(f," - Geländeklasse und Schwierigkeitsstufe") -> Ib - Geländeklasse und Schwierigkeitsstufe
C45: Honorar: | F45: =IF(VSK<>0,((M12*S_+M13*n)*VLOOKUP(f,Konstante!AE23:AF31,2,FALSE)+M14*n+M15)*((S_/(n/7))^0.2)*IS,0) -> 0
C56: =IF(AND(ZuAbschlag<>0,VSK<>0),"Zu-/Abschlag:","") | E56: =IF(AND(ZuAbschlag<>0,VSK<>0),ZuAbschlag,"") | F56: =IF(AND(ZuAbschlag<>0,VSK<>0),F45*E56,"") | G56: =IF(AND(ZuAbschlag<>0,VSK<>0,G16<>""),G16,"")
C57: =IF(AND(NK<>0,VSK<>0),"Nebenkosten:","") | F57: =IF(AND(NK<>0,VSK<>0),NK,"") | G57: =IF(AND(NK<>0,VSK<>0,G17<>""),G17,"")
C60: Gesamthonorar: | G60: =IF(VSK>0,SUM(F45,F56,F57),0) -> 0

Sheet 4.2
A1: E i n g a b e b e r e i c h | K1: Überschriftszeile Druckbereich: | N1: =CELL("ZEILE",B27) -> 27
C2: Überschrift | D2: Einzelpunkteinschaltung | K2: Ergebniszeile Druckbereich | N2: =CELL("ZEILE",G60) -> 60
K3: Vollständigkeit | N3: =F19 -> 0
C4: Leistungsumfang:
C5: mit Topographien und Netzübersicht, ohne Höhenbestimmung
C7: durchschnittliche Seitenlänge zu Bodenzielen in [km]
C9: Geländeklasse/Schwierigkeitsstufe | H9: Ib
C11: Genauigkeitkeitsfaktor | H11: 1
H12: =IF(G=1, "Standardabweichung: L=(10mm+20mm/km), H=(18mm+20mm/km)",IF(G>1,"Standardabweichung besser L=(10mm+20mm/km), H=(18mm+20mm/km","Standardabweichung schlechter L=(10mm+20mm/km), H=(18mm+20mm/km")) -> Standardabweichung: L=(10mm+20mm/km), H=(18mm+20mm/km)
K13: Term 2 | M13: =VLOOKUP($C$5,Konstante!AT$23:BG$26,12,FALSE) -> 1.416
K14: Term 3 | M14: =VLOOKUP($C$5,Konstante!AT$23:BG$26,13,FALSE) -> 7.821
G15: Beschreibung: | K15: Term 4 | M15: =VLOOKUP($C$5,Konstante!AT$23:BG$26,14,FALSE) -> 1
C16: Zu/Abschlag in %
C17: Nebenkosten
C19: =IF(VSK=0, "UNVOLLSTÄNDIG AUSGEFÜLLT!","") -> UNVOLLSTÄNDIG AUSGEFÜLLT! | F19: =IF(AND(ISNUMBER(S_),ISNUMBER(G)),1,0) -> 0 | G19: =IF(VSK<>0, G60,"")
A21: D r u c k b e r e i c h | I21: =IF(VLOOKUP(B27,CHOOSE({5,4,3,2,1},Gesamt!L32:L65,Gesamt!M32:M65,Gesamt!N32:N65,Gesamt!O32:O65,Gesamt!P32:P65,),4,0)>0,CONCATENATE("Pos. ",VLOOKUP(B27,CHOOSE({5,4,3,2,1},Gesamt!L32:L65,Gesamt!M32:M65,Gesamt!N32:N65,Gesamt!O32:O65,Gesamt!P32:P65,),VLOOKUP(Gesamt!C19,Gesamt!L5:N7,3,0),0)),"")
B22: =CONCATENATE(Gesamt!C2, ": ", Gesamt!E2) -> Projekt:
B23: =CONCATENATE(Gesamt!C4, ": ", Gesamt!E4, IF(Gesamt!E5<>""," - ",""), IF(Gesamt!E5<>"",Gesamt!E5,""), IF(Gesamt!E6<>""," - GZ. ",""), IF(Gesamt!E6<>"",Gesamt!E6,""),) -> Auftraggeber:
B24: =CONCATENATE(Gesamt!C9, ": ",Gesamt!E9, IF(Gesamt!C10<>""," - ",""), IF(Gesamt!C10<>"",Gesamt!E10,""), IF(Gesamt!C11<>""," - GZ. ",""), IF(Gesamt!C11<>"",Gesamt!E11,""), ) -> Bieter: - - GZ.
B25: Kalkulationsgrundlage: Leistungsbild für Vermessung und Geoinformation (LB_VG)
B27: =D2 -> Einzelpunkteinschaltung
C29: LB_VG, Pos. 4.2, Einzelpunkteinschaltung
C31: mittlerer Bürostundensatz: | E31: =IS -> 0
C33: =VLOOKUP($C$5,Konstante!AT$23:BG$26,7,FALSE) -> H = ((2,832 * S + 1,416) x f + 7,821) * G * IS + N
C37: S = | D37: =S_ -> 0 | E37: durchschnittliche Seitenlänge zu Bodenzielen
C38: f = | D38: =VLOOKUP(f,Konstante!AE23:AF31,2,FALSE) -> 1.15 | E38: =CONCATENATE(f," - Geländeklasse und Schwierigkeitsstufe") -> Ib - Geländeklasse und Schwierigkeitsstufe
C39: G = | D39: =G -> 1 | E39: Genauigkeitsfaktor
C44: Honorar: | F44: =IF(VSK<>0,((2.832 * S_ + M13) * VLOOKUP(f,Konstante!AE23:AF31,2,FALSE) + M14) * G * M15 * IS,0) -> 0
C56: =IF(AND(ZuAbschlag<>0,VSK<>0),"Zu-/Abschlag:","") | E56: =IF(AND(ZuAbschlag<>0,VSK<>0),ZuAbschlag,"") | F56: =IF(AND(ZuAbschlag<>0,VSK<>0),F44*E56,"") | G56: =IF(AND(ZuAbschlag<>0,VSK<>0,G16<>""),G16,"")
C57: =IF(AND(NK<>0,VSK<>0),"Nebenkosten:","") | F57: =IF(AND(NK<>0,VSK<>0),NK,"") | G57: =IF(AND(NK<>0,VSK<>0,G17<>""),G17,"")
C60: Gesamthonorar: | G60: =IF(VSK>0,SUM(F44,F56,F57),0) -> 0

Sheet 4.3
A1: E i n g a b e b e r e i c h | K1: Überschriftszeile Druckbereich: | N1: =CELL("ZEILE",B27) -> 27
C2: Überschrift | D2: Kreisel-Stütz-Azimut | K2: Ergebniszeile Druckbereich | N2: =CELL("ZEILE",G60) -> 60
K3: Vollständigkeit | N3: =F19 -> 0
C4: Azimut- | D4: Anzahl | F4: Genauigkeits- | H4: Standard-
C5: gruppe | D5: Polygonseiten | F5: faktor | H5: abweichung
C6: 1 | F6: 1 | H6: =IF(F6=1, "1,5 mgon",IF(F6>1,"besser 1,5 mgon","schlechter 1,5 mgon")) -> 1,5 mgon | K6: Vollständigkeit (1): | M6: =IF(AND(ISNUMBER(D6),ISNUMBER(F6)),1,0) -> 0
C7: 2 | F7: 1 | H7: =IF(F7=1, "1,5 mgon",IF(F7>1,"besser 1,5 mgon","schlechter 1,5 mgon")) -> 1,5 mgon | K7: Vollständigkeit (2): | M7: =IF(AND(ISNUMBER(D7),ISNUMBER(F7)),1,0) -> 0
C8: 3 | F8: 1 | H8: =IF(F8=1, "1,5 mgon",IF(F8>1,"besser 1,5 mgon","schlechter 1,5 mgon")) -> 1,5 mgon | K8: Vollständigkeit (3): | M8: =IF(AND(ISNUMBER(D8),ISNUMBER(F8)),1,0) -> 0
C9: 4 | F9: 1 | H9: =IF(F9=1, "1,5 mgon",IF(F9>1,"besser 1,5 mgon","schlechter 1,5 mgon")) -> 1,5 mgon | K9: Vollständigkeit (4): | M9: =IF(AND(ISNUMBER(D9),ISNUMBER(F9)),1,0) -> 0
C10: 5 | F10: 1 | H10: =IF(F10=1, "1,5 mgon",IF(F10>1,"besser 1,5 mgon","schlechter 1,5 mgon")) -> 1,5 mgon | K10: Vollständigkeit (5): | M10: =IF(AND(ISNUMBER(D10),ISNUMBER(F10)),1,0) -> 0
C12: =IF(AND(VSK=0,SUM(M7:M10)>0),"Azimutgruppe 1 ausfüllen!","")
G15: Beschreibung:
C16: Zu/Abschlag in %
C17: Nebenkosten
C19: =IF(VSK=0, "UNVOLLSTÄNDIG AUSGEFÜLLT!","") -> UNVOLLSTÄNDIG AUSGEFÜLLT! | F19: =IF((SUM(M7:M10)*M6+M6)>0,1,0) -> 0 | G19: =IF(VSK<>0, G60,"")
A21: D r u c k b e r e i c h | I21: =IF(VLOOKUP(B27,CHOOSE({5,4,3,2,1},Gesamt!L32:L65,Gesamt!M32:M65,Gesamt!N32:N65,Gesamt!O32:O65,Gesamt!P32:P65,),4,0)>0,CONCATENATE("Pos. ",VLOOKUP(B27,CHOOSE({5,4,3,2,1},Gesamt!L32:L65,Gesamt!M32:M65,Gesamt!N32:N65,Gesamt!O32:O65,Gesamt!P32:P65,),VLOOKUP(Gesamt!C19,Gesamt!L5:N7,3,0),0)),"")
B22: =CONCATENATE(Gesamt!C2, ": ", Gesamt!E2) -> Projekt:
B23: =CONCATENATE(Gesamt!C4, ": ", Gesamt!E4, IF(Gesamt!E5<>""," - ",""), IF(Gesamt!E5<>"",Gesamt!E5,""), IF(Gesamt!E6<>""," - GZ. ",""), IF(Gesamt!E6<>"",Gesamt!E6,""),) -> Auftraggeber:
B24: =CONCATENATE(Gesamt!C9, ": ",Gesamt!E9, IF(Gesamt!C10<>""," - ",""), IF(Gesamt!C10<>"",Gesamt!E10,""), IF(Gesamt!C11<>""," - GZ. ",""), IF(Gesamt!C11<>"",Gesamt!E11,""), ) -> Bieter: - - GZ.
B25: Kalkulationsgrundlage: Leistungsbild für Vermessung und Geoinformation (LB_VG)
B27: =D2 -> Kreisel-Stütz-Azimut
C29: LB_VG, Pos. 4.3, Kreisel-Stütz-Azimut
C31: mittlerer Bürostundensatz: | E31: =IS -> 0
C33: Erste Azimutgruppe: | E33: H = (15 * n + 61,2) * G * IS + N
C34: weitere Azimutgruppe: | E34: H = (15 * n + 31,5) * G * IS + N
C37: Azimut- | D37: Anzahl | E37: Genauigkeits- | F37: Einzel- | H37: Standard-
C38: gruppe | D38: Polygonseiten | E38: faktor | F38: preis | H38: abweichung
C39: =IF($M$6>0,"1","") | D39: =IF($M$6>0,D6,"") | E39: =IF($M$6>0,F6,"") | F39: =IF(VSK<>0, ((15*D39+61.2)*E39*IS),"") | H39: =IF($M$6>0,H6,"")
C40: =IF(AND($M$6>0,M7>0),"2","") | D40: =IF(AND($M$6>0,M7>0),D7,"") | E40: =IF(AND($M$6>0,M7>0),F7,"") | F40: =IF(AND(M7<>0,VSK>0), ((15*D40+31.5)*E40*IS),"") | H40: =IF(AND($M$6>0,M7>0),H7,"")
C41: =IF(AND($M$6>0,M8>0),"3","") | D41: =IF(AND($M$6>0,M8>0),D8,"") | E41: =IF(AND($M$6>0,M8>0),F8,"") | F41: =IF(AND(M8<>0,VSK>0), ((15*D41+31.5)*E41*IS),"") | H41: =IF(AND($M$6>0,M8>0),H8,"")
C42: =IF(AND($M$6>0,M9>0),"4","") | D42: =IF(AND($M$6>0,M9>0),D9,"") | E42: =IF(AND($M$6>0,M9>0),F9,"") | F42: =IF(AND(M9<>0,VSK>0), ((15*D42+31.5)*E42*IS),"") | H42: =IF(AND($M$6>0,M9>0),H9,"")
C43: =IF(AND($M$6>0,M10>0),"5","") | D43: =IF(AND($M$6>0,M10>0),D10,"") | E43: =IF(AND($M$6>0,M10>0),F10,"") | F43: =IF(AND(M10<>0,VSK>0), ((15*D43+31.5)*E43*IS),"") | H43: =IF(AND($M$6>0,M10>0),H10,"")
C46: Honorar: | F46: =IF(VSK<>0,SUM(F39:F43),0) -> 0
C56: =IF(AND(ZuAbschlag<>0,VSK<>0),"Zu-/Abschlag:","") | E56: =IF(AND(ZuAbschlag<>0,VSK<>0),ZuAbschlag,"") | F56: =IF(AND(ZuAbschlag<>0,VSK<>0),E56*F46,"") | G56: =IF(AND(ZuAbschlag<>0,VSK<>0,G16<>""),G16,"")
C57: =IF(AND(NK<>0,VSK<>0),"Nebenkosten:","") | F57: =IF(AND(NK<>0,VSK<>0),NK,"") | G57: =IF(AND(NK<>0,VSK<>0,G17<>""),G17,"")
C60: Gesamthonorar: | G60: =IF(VSK>0,SUM(F46,F56,F57),0) -> 0

Sheet 4.4.2
A1: E i n g a b e b e r e i c h | K1: Überschriftszeile Druckbereich: | N1: =CELL("ZEILE",B27) -> 27
C2: Überschrift | D2: =CONCATENATE("Setzungsmessung - ",C4) -> Setzungsmessung - Nullmessung | K2: Ergebniszeile Druckbereich | N2: =CELL("ZEILE",G60) -> 60
K3: Vollständigkeit | N3: =F19 -> 0
C4: Nullmessung | G4: =IF(C4="Wiederholungsmessung","Anzahl der Wiederholungsmessungen:","") | H4: 1
C6: S | E6: Länge in km als geradlinige Verbindung der zu bestimmenden Punkte
C8: P | E8: Anzahl der zu bestimmenden Punkte
C10: E | D10: =VLOOKUP(E10,Konstante!Y40:Z48,2,FALSE) -> 1 | E10: Ia | F10: Geländeklasse und Schwierigkeitsstufe
C12: G | D12: =VLOOKUP(E12,Konstante!AC40:AD43,2,FALSE) -> 0.6409 | E12: 5mm | F12: Standardabweichung
G15: Beschreibung:
C16: Zu/Abschlag in %
C17: Nebenkosten
C19: =IF(VSK=0, "UNVOLLSTÄNDIG AUSGEFÜLLT!","") -> UNVOLLSTÄNDIG AUSGEFÜLLT! | F19: =IF(AND(ISNUMBER(S_),ISNUMBER(P)),1,0) -> 0 | G19: =IF(VSK<>0, G60,"")
A21: D r u c k b e r e i c h | I21: =IF(VLOOKUP(B27,CHOOSE({5,4,3,2,1},Gesamt!L32:L65,Gesamt!M32:M65,Gesamt!N32:N65,Gesamt!O32:O65,Gesamt!P32:P65,),4,0)>0,CONCATENATE("Pos. ",VLOOKUP(B27,CHOOSE({5,4,3,2,1},Gesamt!L32:L65,Gesamt!M32:M65,Gesamt!N32:N65,Gesamt!O32:O65,Gesamt!P32:P65,),VLOOKUP(Gesamt!C19,Gesamt!L5:N7,3,0),0)),"")
B22: =CONCATENATE(Gesamt!C2, ": ", Gesamt!E2) -> Projekt:
B23: =CONCATENATE(Gesamt!C4, ": ", Gesamt!E4, IF(Gesamt!E5<>""," - ",""), IF(Gesamt!E5<>"",Gesamt!E5,""), IF(Gesamt!E6<>""," - GZ. ",""), IF(Gesamt!E6<>"",Gesamt!E6,""),) -> Auftraggeber:
B24: =CONCATENATE(Gesamt!C9, ": ",Gesamt!E9, IF(Gesamt!C10<>""," - ",""), IF(Gesamt!C10<>"",Gesamt!E10,""), IF(Gesamt!C11<>""," - GZ. ",""), IF(Gesamt!C11<>"",Gesamt!E11,""), ) -> Bieter: - - GZ.
B25: Kalkulationsgrundlage: Leistungsbild für Vermessung und Geoinformation (LB_VG)
B27: =D2 -> Setzungsmessung - Nullmessung
C29: LB_VG, Pos. 4.4.2, Deformationsmessung Höhe (Setzungsmessung, Flächennivellement)
C31: mittlerer Bürostundensatz: | E31: =IS -> 0
C33: =VLOOKUP(C4,Konstante!Y36:AC37,5,FALSE) -> H = (3/(S^0,5) + (5,95 * S + 0,46 * P) * G * E) * IS + N
C36: =C4 -> Nullmessung
C38: S = | D38: =S_ -> 0 | E38: Länge als geradlinige Verbindung der zu bestimmenden Punkte
C39: P = | D39: =P -> 0 | E39: Anzahl der zu bestimmenden Punkte
C40: E = | D40: =E -> 1 | E40: =CONCATENATE("Geländeklasse und Schwierigkeitsstufe: ",E10) -> Geländeklasse und Schwierigkeitsstufe: Ia
C41: G = | D41: =G -> 0.6409 | E41: =CONCATENATE("Standardabweichung Höhe: ", E12) -> Standardabweichung Höhe: 5mm
C42: =IF(AND($M$6>0,M9>0),"4","") | D42: =IF(AND($M$6>0,M9>0),D9,"") | E42: =IF(AND($M$6>0,M9>0),F9,"")
C43: Honorar: | F43: =IF(VSK<>0,((3/(S_^0.5) + (VLOOKUP(C4,Konstante!Y36:AB37,3,FALSE) * S_ + VLOOKUP(C4,Konstante!Y36:AB37,4,FALSE) * P) * G * E)) * IS,0) -> 0
C45: =IF(AND(VSK>0,C4=Konstante!Y37,H4>1),CONCATENATE("insgesamt ", H4, " Folgemessungen: "),"") | F45: =IF(AND(VSK>0,C4=Konstante!Y37,H4>1),H4*F43,"")
C56: =IF(AND(ZuAbschlag<>0,VSK<>0),"Zu-/Abschlag:","") | E56: =IF(AND(ZuAbschlag<>0,VSK<>0),ZuAbschlag,"") | F56: =IF(AND(ZuAbschlag<>0,VSK<>0),IF(AND(H4>1,C4="Wiederholungsmessung"),E56*F45,E56*F43),"") | G56: =IF(AND(ZuAbschlag<>0,VSK<>0,G16<>""),G16,"")
C57: =IF(AND(NK<>0,VSK<>0),"Nebenkosten:","") | F57: =IF(AND(NK<>0,VSK<>0),NK,"") | G57: =IF(AND(NK<>0,VSK<>0,G17<>""),G17,"")
C60: Gesamthonorar: | G60: =IF(VSK>0,IF(AND(H4>1,C4="Wiederholungsmessung"),SUM(F45,F56,F57),SUM(F43,F56,F57)),0) -> 0

Sheet 4.4.x
A1: E i n g a b e b e r e i c h | K1: Überschriftszeile Druckbereich: | N1: =CELL("ZEILE",B27) -> 27
C2: Überschrift | D2: Detailpunkte | K2: Ergebniszeile Druckbereich | N2: =CELL("ZEILE",G60) -> 60
K3: Vollständigkeit | N3: =F19 -> 0
B4: =IF(AND(n>=Ndp+Nds,n<>""),"?","") | C4: n | E4: Anzahl der Standpunkte | G4: =IF(AND(n>=Ndp+Nds,n<>""),"Achtung: n muss kleiner Ndp+Nds sein!","")
C5: Ndp | E5: Anzahl der zugänglichen Detailpunkte
C6: Nds | E6: Anzahl der nicht zugänglichen Detailpunkte
B7: =IF(AND(Nd>Ndp+Nds,Nd<>""),"?","") | C7: Nd | E7: Anzahl der erstmals aufgenommenen Detailpunkte (Nullmessung) | K7: * n muss kleiner Ndp+Nds sein * Nd muss kleiner Ndp+Nds sein * Ndh muss kleiner Ndp+Nds sein
B8: =IF(AND(Ndh>Ndp+Nds,Ndh<>""),"?","") | C8: Ndh | E8: Anzahl der mit trig. Höhenmessung bestimmten Detailpunkte
C9: Es | D9: =VLOOKUP(E9,Konstante!C37:F39,3,FALSE) -> 0 | E9: einfach | F9: Erreichbarkeitszuschlag für Standpunkte
C10: Ed | D10: =VLOOKUP(E10,Konstante!C37:F39,4,FALSE) -> 0 | E10: einfach | F10: Erreichbarkeitszuschlag für Detailpunkte
C11: f | D11: =VLOOKUP(E11,Konstante!C37:F39,2,FALSE) -> 0 | E11: einfach | F11: Geländeklasse und Schwierigkeitsstufe
C12: G | D12: =VLOOKUP(E12,Konstante!C42:E46,3,FALSE) -> 1 | E12: 3mm/5mm | G12: (Standardabweichung Lage/Höhe)
C13: D | D13: =VLOOKUP(E13,Konstante!K36:N45,4,FALSE) -> 1 | E13: Deformationsmessung | H13: Darstellungsfaktor
C14: =IF(AND(E13=Konstante!K36,Nd=0),"Anz","") -> Anz | D14: 1 | E14: =IF(AND(E13=Konstante!K36,Nd>0),"Möglichkeit der Eingabe einer Anzahl von Folgemess., wenn Nd=0!",IF(AND(E13=Konstante!K36,Nd=0)," Anzahl der Folgemessungen","")) -> Anzahl der Folgemessungen
G15: Beschreibung:
C16: Zu/Abschlag in % | E16: 0
C17: Nebenkosten | E17: 0
C19: =IF(VSK=0, "UNVOLLSTÄNDIG AUSGEFÜLLT!","") -> UNVOLLSTÄNDIG AUSGEFÜLLT! | F19: =IF(AND(ISNUMBER(n),ISNUMBER(Ndp),ISNUMBER(Nds),ISNUMBER(Nd),ISNUMBER(Ndh),ISNUMBER(Es),ISNUMBER(Ed),ISNUMBER(f),ISNUMBER(G),ISNUMBER(D)),1,0) -> 0 | G19: =IF(VSK<>0, G60,"")
A21: D r u c k b e r e i c h | I21: =IF(VLOOKUP(B27,CHOOSE({5,4,3,2,1},Gesamt!L32:L65,Gesamt!M32:M65,Gesamt!N32:N65,Gesamt!O32:O65,Gesamt!P32:P65,),4,0)>0,CONCATENATE("Pos. ",VLOOKUP(B27,CHOOSE({5,4,3,2,1},Gesamt!L32:L65,Gesamt!M32:M65,Gesamt!N32:N65,Gesamt!O32:O65,Gesamt!P32:P65,),VLOOKUP(Gesamt!C19,Gesamt!L5:N7,3,0),0)),"")
B22: =CONCATENATE(Gesamt!C2, ": ", Gesamt!E2) -> Projekt:
B23: =CONCATENATE(Gesamt!C4, ": ", Gesamt!E4, IF(Gesamt!E5<>""," - ",""), IF(Gesamt!E5<>"",Gesamt!E5,""), IF(Gesamt!E6<>""," - GZ. ",""), IF(Gesamt!E6<>"",Gesamt!E6,""),) -> Auftraggeber:
B24: =CONCATENATE(Gesamt!C9, ": ",Gesamt!E9, IF(Gesamt!C10<>""," - ",""), IF(Gesamt!C10<>"",Gesamt!E10,""), IF(Gesamt!C11<>""," - GZ. ",""), IF(Gesamt!C11<>"",Gesamt!E11,""), ) -> Bieter: - - GZ.
B25: Kalkulationsgrundlage: Leistungsbild für Vermessung und Geoinformation (LB_VG)
B27: =D2 -> Detailpunkte
C29: =CONCATENATE("LB_VG, Pos. ", VLOOKUP(E13,Konstante!K36:T45,5,FALSE)) -> LB_VG, Pos. 4.4.1, Deformationsmessung Lage und Höhe
C31: mittlerer Bürostundensatz: | E31: =IS -> 0
C33: H = | D33: (12,145+(0,847*n^0,4*(1+Es)+(0,42*Ndp^0,8+0,2555*Nd^0,8+0,056*Ndh^0,8)*(1+Ed)+
D34: 0,2625*Nds^0,8)*(n*15/(Ndp+Nds))^0,4)*G*(1+f)*D*IS+N
C36: n = | D36: =n -> 0 | E36: Anzahl der Stadpunkte
C37: Ndp = | D37: =Ndp -> 0 | E37: Anzahl der zugänglichen Detailpunkte
C38: Nds = | D38: =Nds -> 0 | E38: Anzahl der nicht zugänglichen Detailpunkte
C39: Nd = | D39: =Nd -> 0 | E39: Anzahl der erstmals aufgenommenen Detailpunkte (Nullmessung)
C40: Ndh = | D40: =Ndh -> 0 | E40: Anzahl der mit trig. Höhenmessung bestimmten Detailpunkte
C41: Es = | D41: =Es -> 0 | E41: =CONCATENATE("Erreichbarkeit der Standpunkte: ", E9) -> Erreichbarkeit der Standpunkte: einfach
C42: Ed = | D42: =Ed -> 0 | E42: =CONCATENATE("Erreichbarkeit der Detailpunkte: ",E10) -> Erreichbarkeit der Detailpunkte: einfach
C43: f = | D43: =f -> 0 | E43: =CONCATENATE("Geländeklasse und Schwierigkeitsstufe: ",E11) -> Geländeklasse und Schwierigkeitsstufe: einfach
C44: G = | D44: =G -> 1 | E44: =CONCATENATE("Standardabweichung Lage/Höhe: ", E12) -> Standardabweichung Lage/Höhe: 3mm/5mm
C45: D = | D45: =D -> 1 | E45: =CONCATENATE("Darstellungsfaktor (",E13,")") -> Darstellungsfaktor (Deformationsmessung)
C48: Honorar: | F48: =IF(VSK<>0,(12.145+(0.847*n^0.4*(1+Es)+(0.42*Ndp^0.8+0.2555*Nd^0.8+0.056*Ndh^0.8)*(1+Ed)+0.2625*Nds^0.8)*(n*15/(Ndp+Nds))^0.4)*G*(1+f)*D*IS,0) -> 0
C50: =IF(AND(VSK>0,D14>1,E13=Konstante!K36,Nd=0),CONCATENATE("insgesamt ", D14, " Folgemessungen: "),"") | F50: =IF(AND(VSK>0,D14>1,E13=Konstante!K36,Nd=0),D14*F48,"")
...

Sheet 4.5
A1: E i n g a b e b e r e i c h | K1: Überschriftszeile Druckbereich: | N1: =CELL("ZEILE",B60) -> 60
C2: Punktbestimmung durch kinematische GNSS-Messung | K2: Ergebniszeile Druckbereich | N2: =CELL("ZEILE",G92) -> 92
K3: Vollständigkeit | N3: =E52 -> 0
C4: Qualifikation/Beschreibung | G4: Kürzel | H4: EP
C5: ='6.2'!C8:F8 -> Messgehilfe | G5: ='6.2'!G8 -> Geh. | H5: ='6.2'!H8 -> 0
C6: ='6.2'!C9:F9 -> Schreibkraft | G6: ='6.2'!G9 -> Sek. | H6: ='6.2'!H9 -> 0
C7: ='6.2'!C10:F10 -> Techniker | G7: ='6.2'!G10 -> Tech. | H7: ='6.2'!H10 -> 0
C8: ='6.2'!C11:F11 -> Nachtzuschlag Techniker | G8: ='6.2'!G11 -> NZ-Techn. | H8: ='6.2'!H11 -> 0
C9: ='6.2'!C12:F12 -> CAD-Auswertestunde | G9: ='6.2'!G12 -> CAD | H9: ='6.2'!H12 -> 0
C10: ='6.2'!C13:F13 -> Ingenieur | G10: ='6.2'!G13 -> Ing. | H10: ='6.2'!H13 -> 0
C11: ='6.2'!C14:F14 -> Nachtzuschlag Ingenieur | G11: ='6.2'!G14 -> NZ-Ing. | H11: ='6.2'!H14 -> 0
C12: ='6.2'!C15:F15 -> qualifizierter Ingenieur | G12: ='6.2'!G15 -> qu.Ing. | H12: ='6.2'!H15 -> 0
C13: ='6.2'!C16:F16 -> Ziviltechnikerleistung | G13: ='6.2'!G16 -> ZT | H13: ='6.2'!H16 -> 0
C14: ='6.2'!C17:F17 -> 1-Personen-Partie inkl. Gerät | G14: ='6.2'!G17 -> 1MP | H14: ='6.2'!H17 -> 0
C15: ='6.2'!C18:F18 -> 2-Personen-Partie inkl. Gerät | G15: ='6.2'!G18 -> 2MP | H15: ='6.2'!H18 -> 0
C16: ='6.2'!C19:F19 -> Nachtzuschlag 1-Personen-Partie | G16: ='6.2'!G19 -> NZ-1MP | H16: ='6.2'!H19 -> 0
... C24: ='6.2'!C27:F27 -> Barauslagen | G24: ='6.2'!G27 -> Bar | H24: ='6.2'!H27 -> 1
C26: Pos. | D26: Leistungsbeschreibung | E26: Qual. | F26: Std./Anz. | G26: EP | H26: gesamt (€)
G27: =IF(E27<>"",VLOOKUP(E27,G$5:H$18,2,FALSE),"") | H27: =IF(AND(E27<>"",F27<>"",F27>0),F27*G27,"")
G28: =IF(E28<>"",VLOOKUP(E28,G$5:H$18,2,FALSE),"") | H28: =IF(AND(E28<>"",F28<>"",F28>0),F28*G28,"")
G29: =IF(E29<>"",VLOOKUP(E29,G$5:H$18,2,FALSE),"") | H29: =IF(AND(E29<>"",F29<>"",F29>0),F29*G29,"")
G30: =IF(E30<>"",VLOOKUP(E30,G$5:H$18,2,FALSE),"") | H30: =IF(AND(E30<>"",F30<>"",F30>0),F30*G30,"")
G31: =IF(E31<>"",VLOOKUP(E31,G$5:H$18,2,FALSE),"") | H31: =IF(AND(E31<>"",F31<>"",F31>0),F31*G31,"")
G32: =IF(E32<>"",VLOOKUP(E32,G$5:H$18,2,FALSE),"") | H32: =IF(AND(E32<>"",F32<>"",F32>0),F32*G32,"")
G33: =IF(E33<>"",VLOOKUP(E33,G$5:H$18,2,FALSE),"") | H33: =IF(AND(E33<>"",F33<>"",F33>0),F33*G33,"")
G34: =IF(E34<>"",VLOOKUP(E34,G$5:H$18,2,FALSE),"") | H34: =IF(AND(E34<>"",F34<>"",F34>0),F34*G34,"")
G35: =IF(E35<>"",VLOOKUP(E35,G$5:H$18,2,FALSE),"") | H35: =IF(AND(E35<>"",F35<>"",F35>0),F35*G35,"")
G36: =IF(E36<>"",VLOOKUP(E36,G$5:H$18,2,FALSE),"") | H36: =IF(AND(E36<>"",F36<>"",F36>0),F36*G36,"")
G37: =IF(E37<>"",VLOOKUP(E37,G$5:H$18,2,FALSE),"") | H37: =IF(AND(E37<>"",F37<>"",F37>0),F37*G37,"")
G38: =IF(E38<>"",VLOOKUP(E38,G$5:H$18,2,FALSE),"") | H38: =IF(AND(E38<>"",F38<>"",F38>0),F38*G38,"")
... G46: =IF(E46<>"",VLOOKUP(E46,G$5:H$18,2,FALSE),"") | H46: =IF(AND(E46<>"",F46<>"",F46>0),F46*G46,"")
H47: =IF(VSK<>0, SUM(H27:H46),"")
F48: Beschreibung:
C49: Zu/Abschlag in %
C50: Nebenkosten in €
C52: =IF(VSK=0, "UNVOLLSTÄNDIG AUSGEFÜLLT!","") -> UNVOLLSTÄNDIG AUSGEFÜLLT! | E52: =IF(SUM(H27:H46)>0,1,0) -> 0 | G52: =IF(VSK<>0, G92,"")
A54: D r u c k b e r e i c h | I54: =IF(VLOOKUP(B32,CHOOSE({5,4,3,2,1},Gesamt!L32:L65,Gesamt!M32:M65,Gesamt!N32:N65,Gesamt!O32:O65,Gesamt!P32:P65,),4,0)>0,CONCATENATE("Pos. ",VLOOKUP(B32,CHOOSE({5,4,3,2,1},Gesamt!L32:L65,Gesamt!M32:M65,Gesamt!N32:N65,Gesamt!O32:O65,Gesamt!P32:P65,),VLOOKUP(Gesamt!C19,Gesamt!L5:N7,3,0),0)),"")
B55: =CONCATENATE(Gesamt!C2, ": ", Gesamt!E2) -> Projekt:
B56: =CONCATENATE(Gesamt!C4, ": ", Gesamt!E4, IF(Gesamt!E5<>""," - ",""), IF(Gesamt!E5<>"",Gesamt!E5,""), IF(Gesamt!E6<>""," - GZ. ",""), IF(Gesamt!E6<>"",Gesamt!E6,""),) -> Auftraggeber:
B57: =CONCATENATE(Gesamt!C9, ": ",Gesamt!E9, IF(Gesamt!C10<>""," - ",""), IF(Gesamt!C10<>"",Gesamt!E10,""), IF(Gesamt!C11<>""," - GZ. ",""), IF(Gesamt!C11<>"",Gesamt!E11,""), ) -> Bieter: - - GZ.
...

Sheet 4.6
A1: E i n g a b e b e r e i c h | K1: Überschriftszeile Druckbereich: | N1: =CELL("ZEILE",B27) -> 27
C2: Überschrift | D2: Nivellement | K2: Ergebniszeile Druckbereich | N2: =CELL("ZEILE",G60) -> 60
K3: Vollständigkeit | N3: =F19 -> 0
C4: Technisches Nivellement | E4: Art des Nivellements
C6: G | D6: =VLOOKUP(C4,Konstante!C52:E54,3,FALSE) -> 0.297 | E6: Genauigkeitsfaktor gemäß Art des Nivellements
C8: S | E8: Einfacher Nivellementweg in km
C10: n | E10: Anzahl der zu topographierenden Nivellementpunkte
C12: f | D12: =VLOOKUP(E12,Konstante!G53:H61,2,FALSE) -> 1.15 | E12: Ib | F12: Geländeklasse und Schwierigkeitsstufe
G15: Beschreibung:
C16: Zu/Abschlag in %
C17: Nebenkosten
C19: =IF(VSK=0, "UNVOLLSTÄNDIG AUSGEFÜLLT!","") -> UNVOLLSTÄNDIG AUSGEFÜLLT! | F19: =IF(AND(ISNUMBER(S_),ISNUMBER(n)),1,0) -> 0 | G19: =IF(VSK<>0, G60,"")
A21: D r u c k b e r e i c h | I21: =IF(VLOOKUP(B27,CHOOSE({5,4,3,2,1},Gesamt!L32:L65,Gesamt!M32:M65,Gesamt!N32:N65,Gesamt!O32:O65,Gesamt!P32:P65,),4,0)>0,CONCATENATE("Pos. ",VLOOKUP(B27,CHOOSE({5,4,3,2,1},Gesamt!L32:L65,Gesamt!M32:M65,Gesamt!N32:N65,Gesamt!O32:O65,Gesamt!P32:P65,),VLOOKUP(Gesamt!C19,Gesamt!L5:N7,3,0),0)),"")
B22: =CONCATENATE(Gesamt!C2, ": ", Gesamt!E2) -> Projekt:
B23: =CONCATENATE(Gesamt!C4, ": ", Gesamt!E4, IF(Gesamt!E5<>""," - ",""), IF(Gesamt!E5<>"",Gesamt!E5,""), IF(Gesamt!E6<>""," - GZ. ",""), IF(Gesamt!E6<>"",Gesamt!E6,""),) -> Auftraggeber:
B24: =CONCATENATE(Gesamt!C9, ": ",Gesamt!E9, IF(Gesamt!C10<>""," - ",""), IF(Gesamt!C10<>"",Gesamt!E10,""), IF(Gesamt!C11<>""," - GZ. ",""), IF(Gesamt!C11<>"",Gesamt!E11,""), ) -> Bieter: - - GZ.
B25: Kalkulationsgrundlage: Leistungsbild für Vermessung und Geoinformation (LB_VG)
B27: =D2 -> Nivellement
C29: LB_VG, Pos. 4.6, Nivellement
C31: mittlerer Bürostundensatz: | E31: =IS -> 0
C33: H = (13,963 * S * G * f + 0,293 * n + 0,595) * IS + N
C36: =C4 -> Technisches Nivellement
C38: G = | D38: =G -> 0.297 | E38: Genauigkeitsfaktor gemäß Art des Nivellements | O38: =IF(VLOOKUP(B27,CHOOSE({5,4,3,2,1},Gesamt!L32:L65,Gesamt!M32:M65,Gesamt!N32:N65,Gesamt!O32:O65,Gesamt!P32:P65,),4,0)>0,CONCATENATE("Pos. ",VLOOKUP(B27,CHOOSE({5,4,3,2,1},Gesamt!L32:L65,Gesamt!M32:M65,Gesamt!N32:N65,Gesamt!O32:O65,Gesamt!P32:P65,),VLOOKUP(Gesamt!C19,Gesamt!L5:N7,3,0),0)),"")
C39: S = | D39: =S_ -> 0 | E39: Einfacher Nivellementweg in km
C40: n = | D40: =n -> 0 | E40: Anzahl der zu topographierenden Nivellementpunkte
C41: f = | D41: =f -> 1.15 | E41: =CONCATENATE("Geländeklasse und Schwierigkeitsstufe: ",E12) -> Geländeklasse und Schwierigkeitsstufe: Ib
C42: =IF(AND($M$6>0,M9>0),"4","") | D42: =IF(AND($M$6>0,M9>0),D9,"") | E42: =IF(AND($M$6>0,M9>0),F9,"")
C43: Honorar: | F43: =IF(VSK<>0, (13.963 * S_* G * f + 0.293 * n + 0.595) * IS,0) -> 0
C45: =IF(AND(VSK>0,C4="Wiederholungsmessung",H4>1),CONCATENATE("insgesamt ", H4, " Folgemessungen: "),"") | F45: =IF(AND(VSK>0,C4="Wiederholungsmessung",H4>1),H4*F43,"")
C56: =IF(AND(ZuAbschlag<>0,VSK<>0),"Zu-/Abschlag:","") | E56: =IF(AND(ZuAbschlag<>0,VSK<>0),ZuAbschlag,"") | F56: =IF(AND(ZuAbschlag<>0,VSK<>0),F43*E56,"") | G56: =IF(AND(ZuAbschlag<>0,VSK<>0,G16<>""),G16,"")
C57: =IF(AND(NK<>0,VSK<>0),"Nebenkosten:","") | F57: =IF(AND(NK<>0,VSK<>0),NK,"") | G57: =IF(AND(NK<>0,VSK<>0,G17<>""),G17,"")
C60: Gesamthonorar: | G60: =IF(VSK>0,IF(AND(H4>1,C4="Wiederholungsmessung"),SUM(F45,F56,F57),SUM(F43,F56,F57)),0) -> 0

Sheet 4.7.1
A1: E i n g a b e b e r e i c h | K1: Überschriftszeile Druckbereich: | N1: =CELL("ZEILE",B27) -> 27 | P1: 0-60 Züge/Tag | R1: 0
C2: Überschrift | D2: Lage- und Höhenplan | K2: Ergebniszeile Druckbereich | N2: =CELL("ZEILE",G71) -> 71 | P2: 61-120 Züge/Tag | R2: 0.03
E3: T e i l b e r e i c h e | K3: Vollständigkeit | N3: =F19 -> 0 | P3: 121-220 Züge/Tag | R3: 0.06
E4: 1 | F4: 2 | G4: 3 | H4: 4 | P4: 221-300 Züge/Tag | R4: 0.1
C5: Maßstab | E5: 1:500 | F5: 1:500 | G5: 1:500 | H5: 1:500 | P5: über 300 Züge/Tag | R5: 0.14
